{"text_format":"1","workbook":"xlsx","n_sheets":6,"sheets":["Datos","INICIO","SES1","SES2","SES3","HOSPITALIZACION"],"not_rendered":{"charts":0,"images":20,"macros":1,"external_links":1,"defined_names":15,"comments":0,"pivot_tables":5},"unopened":[],"bounds":{"document_bytes":16777216,"sheet_cells":100000,"rows_first":2000,"rows_last":500,"rows_between":2000,"halvings":0,"cell_chars":16384,"cell_head_chars":4096},"cells_cut":0,"cells_raw":0,"read":"whole","date_system":"1900"}

{"sheet":"Datos","index":0,"n_rows":366,"n_cols":53,"rows_kept":366,"cut":false,"hidden":true,"merged":[]}
[]
[null,"Meses",null,"Años",null,null,"FON"]
[1,"Enero",null,2010,null,null,"FONP"]
[2,"Febrero",null,2011,null,null,"FONB"]
[3,"Marzo",null,2012,null,null,"FONE"]
[4,"Abril",null,null,null,null,"FONI"]
[5,"Mayo"]
[6,"Junio"]
[7,"Julio"]
[8,"Agosto"]
[9,"Setiembre"]
[10,"Octubre"]
[11,"Noviembre"]
[12,"Diciembre"]
[null,null,null,null,null,null,null,null,null,null,null,null,"MICROREDES",null,null,"CODDISA","CODRED","MICRORED",null,"ESTABLECIMIENTOS"]
[null,"DISAS",null,null,null,null,"REDES",null,"CODDISA","CODRED","RED",null,"cod_disa","cod_mic","cod_red","desc_micro","cod_micro","Columna1",null,"codestab","desc_estab","cod_2000","tipoestab","cod_dpto","cod_prov","cod_dist","cod_disa","cod_red","cod_mic","cod_distri","cod_micro","DIST","DISARED",null,null,null,null,"cod_dpto","cod_prov","desc_prov","cod_provi","PROVINCIA",null,null,"cod_dpto","cod_prov","cod_dist","CODIGO","desc_dist","long_pobla","cod_provi","cod_distri","distrito"]
[11,"CUSCO",{"$f":"CONCATENATE(A17,\"-\",B17)","v":"11-CUSCO"},null,null,11,"06","(Todas)","11",{"$f":"IF(LEN(G17)=1,CONCATENATE(\"0\",G17),G17)","v":"06"},{"$f":"CONCATENATE(J17,\"-\",H17)","v":"06-(Todas)"},null,"11","00","00","HOSPITALES","0000",{"$f":"CONCATENATE(TRIM(N17),\"-\",P17)","v":"00-HOSPITALES"},null,"080101101","HOSP. REGIONAL CUSCO","2289","1","08","01","01","11","00","00","080101","0000",1,{"$f":"CONCATENATE(W17,X17)","v":"108"},{"$f":"CONCATENATE(AE17,\"-\",U17)","v":"0000-HOSP. REGIONAL CUSCO"},null,null,null,null,"00","(Todas)","0000",{"$f":"CONCATENATE(AM17,\"-\",AN17)","v":"00-(Todas)"},null,null,"08","01","01","0101","CUSCO",0,"0801","080101",{"$f":"CONCATENATE(AV17,\"-\",AW17)","v":"0101-CUSCO"}]
[null,null,null,null,null,"11","00","HOSPITALES",{"$f":"IF(LEN(F18)=1,CONCATENATE(\"0\",F18),F18)","v":"11"},"00","00-HOSPITALES",null,"11","01","01","SAN JERONIMO","0101",{"$f":"CONCATENATE(TRIM(N18),\"-\",P18)","v":"01-SAN JERONIMO"},null,"080101305","C.S. INF.SAN PEDRO","2290","2","08","01","01","11","02","09","080101","0209",6,"208",{"$f":"CONCATENATE(AE18,\"-\",U18)","v":"0209-C.S. INF.SAN PEDRO"},null,null,null,"08","01","CUSCO","0801",{"$f":"CONCATENATE(AM18,\"-\",AN18)","v":"01-CUSCO"},null,null,"08","01","02","0102","CCORCA",0,"0801","080102",{"$f":"CONCATENATE(AV18,\"-\",AW18)","v":"0102-CCORCA"}]
[null,null,null,null,null,"11","01","CUSCO SUR","11","01","01-CUSCO SUR",null,"11","02","01","SAN SEBASTIAN","0102","02-SAN SEBASTIAN",null,"080101202","C.S. MAT.INF.7 CUARTONES","2291","2","08","01","01","11","02","09","080101","0209",5,"208","0209-C.S. MAT.INF.7 CUARTONES",null,null,null,"08","02","ACOMAYO","0802",{"$f":"CONCATENATE(AM19,\"-\",AN19)","v":"02-ACOMAYO"},null,null,"08","01","03","0103","POROY",0,"0801","080103","0103-POROY"]
[null,null,null,null,null,"11","02","CUSCO NORTE","11","02","02-CUSCO NORTE",null,"11","03","01","PARURO","0103","03-PARURO",null,"080101203","C.S. INDEPENDENCIA","2292","2","08","01","01","11","02","01","080101","0201",2,"208","0201-C.S. INDEPENDENCIA",null,null,null,"08","03","ANTA","0803","03-ANTA",null,null,"08","01","04","0104","SAN JERONIMO",0,"0801","080104","0104-SAN JERONIMO"]
[null,"Meses",null,null,null,"11","03","LA CONVENCION","11","03","03-LA CONVENCION",null,"11","04","01","ACCHA","0104","04-ACCHA",null,"080101301","P.S. MIRAFLORES","2293","3","08","01","01","11","02","09","080101","0209",5,"308","0209-P.S. MIRAFLORES",null,null,null,"08","04","CALCA","0804","04-CALCA",null,null,"08","01","05","0105","SAN SEBASTIAN",0,"0801","080105","0105-SAN SEBASTIAN"]
[1,"Enero",null,null,null,"11","04","CANAS-CANCHIS-ESPINAR","11","04","04-CANAS-CANCHIS-ESPINAR",null,"11","05","01","YAURISQUE","0105","05-YAURISQUE",null,"080101302","P.S. PICCHU LA RINCONADA","2294","3","08","01","01","11","02","09","080101","0209",2,"308","0209-P.S. PICCHU LA RINCONADA",null,null,null,"08","05","CANAS","0805","05-CANAS",null,null,"08","01","06","0106","SANTIAGO",0,"0801","080106","0106-SANTIAGO"]
[2,"Febrero",null,null,null,"11","05","QUIMBIRI","11","05","05-QUIMBIRI",null,"11","06","01","PAUCARTAMBO","0106","06-PAUCARTAMBO",null,"080101204","C.S. BUENA VISTA","2295","2","08","01","01","11","02","09","080101","0209",5,"208","0209-C.S. BUENA VISTA",null,null,null,"08","06","CANCHIS","0806","06-CANCHIS",null,null,"08","01","07","0107","SAYLLA",0,"0801","080107","0107-SAYLLA"]
[3,"Marzo",null,null,null,null,null,null,null,null,null,null,"11","07","01","KOSÐIPATA","0107","07-KOSÐIPATA",null,"080102301","P.S. CCORCA","2297","3","08","01","02","11","02","01","080102","0201",null,null,"0201-P.S. CCORCA",null,null,null,"08","07","CHUMBIVILCAS","0807","07-CHUMBIVILCAS",null,null,"08","01","08","0108","WANCHAQ",0,"0801","080108","0108-WANCHAQ"]
[4,"Abril",null,null,null,null,null,null,null,null,null,null,"11","08","01","HUANCARANI","0108","08-HUANCARANI",null,"080103301","P.S. POROY","2299","3","08","01","03","11","02","09","080103","0209",5,{"$f":"CONCATENATE(W25,X25)","v":"308"},"0209-P.S. POROY",null,null,null,"08","08","ESPINAR","0808","08-ESPINAR",null,null,"08","02","01","0201","ACOMAYO",0,"0802","080201","0201-ACOMAYO"]
[5,"Mayo",null,null,null,null,null,null,null,null,null,null,"11","09","01","SANTO TOMAS","0109","09-SANTO TOMAS",null,"080104201","C.S. SAN JERONIMO","2300","2","08","01","04","11","01","01","080104","0101",6,"208","0101-C.S. SAN JERONIMO",null,null,null,"08","09","LA CONVENCION","0809","09-LA CONVENCION",null,null,"08","02","02","0202","ACOPIA",0,"0802","080202","0202-ACOPIA"]
[6,"Junio",null,null,null,null,null,null,null,null,null,null,"11","10","01","VELILLE","0110","10-VELILLE",null,"080105201","C.S. SAN SEBASTIAN","2301","2","08","01","05","11","01","02","080105","0102",6,"208","0102-C.S. SAN SEBASTIAN",null,null,null,"08","10","PARURO","0810","10-PARURO",null,null,"08","02","03","0203","ACOS",0,"0802","080203","0203-ACOS"]
[7,"Julio",null,null,null,null,null,null,null,null,null,null,"11","11","01","COLQUEMARCA","0111","11-COLQUEMARCA",null,"080105301","P.S. CCORAO","2302","3","08","01","05","11","02","02","080105","0202",1,"308","0202-P.S. CCORAO",null,null,null,"08","11","PAUCARTAMBO","0811","11-PAUCARTAMBO",null,null,"08","02","04","0204","MOSOC LLACTA",0,"0802","080204","0204-MOSOC LLACTA"]
[8,"Agosto",1,2,null,null,null,null,null,null,null,null,"11","12","01","URCOS","0112","12-URCOS",null,"080105202","P.S. SANTA ROSA","2303","3","08","01","05","11","01","02","080105","0102",7,"308","0102-P.S. SANTA ROSA",null,null,null,"08","12","QUISPICANCHI","0812","12-QUISPICANCHI",null,null,"08","02","05","0205","POMACANCHI",0,"0802","080205","0205-POMACANCHI"]
[9,"Setiembre",null,null,null,null,null,null,null,null,null,null,"11","13","01","ACOMAYO","0113","13-ACOMAYO",null,"080105203","P.S. TUPAC AMARU","2304","3","08","01","05","11","01","02","080105","0102",1,"308","0102-P.S. TUPAC AMARU",null,null,null,"08","13","URUBAMBA","0813","13-URUBAMBA",null,null,"08","02","06","0206","RONDOCAN",0,"0802","080206","0206-RONDOCAN"]
[10,"Octubre",null,null,null,null,null,null,null,null,null,null,"11","14","01","POMACANCHI","0114","14-POMACANCHI",null,"080106101","HOSP. APOYO A.LORENA","2305","1","08","01","06","11","00","00","080106","0000",null,null,"0000-HOSP. APOYO A.LORENA",null,null,null,null,null,null,null,null,null,null,"08","02","07","0207","SANGARARA",0,"0802","080207","0207-SANGARARA"]
[11,"Noviembre",null,null,null,null,null,null,null,null,null,null,"11","15","01","OCONGATE","0115","15-OCONGATE",null,"080106201","C.S. BELEMPAMPA","2306","2","08","01","06","11","02","01","080106","0201",8,{"$f":"CONCATENATE(W32,X32)","v":"208"},"0201-C.S. BELEMPAMPA",null,null,null,null,null,null,null,null,null,null,"08","03","01","0301","ANTA",0,"0803","080301","0301-ANTA"]
[12,"Diciembre",null,null,null,null,null,null,null,null,null,null,"11","01","02","BELEMPAMPA","0201","01-BELEMPAMPA",null,"080106202","P.S. MANCO CCAPAC","2307","3","08","01","06","11","02","02","080106","0202",2,{"$f":"CONCATENATE(W33,X33)","v":"308"},"0202-P.S. MANCO CCAPAC",null,null,null,null,null,null,null,null,null,null,"08","03","02","0302","ANCAHUASI",0,"0803","080302","0302-ANCAHUASI"]
[13,"1er. Trimestre",null,null,null,null,null,null,null,null,null,null,"11","02","02","WANCHAQ","0202","02-WANCHAQ",null,"080106303","P.S. ZARZUELA ALTA","2308","3","08","01","06","11","02","01","080106","0201",3,{"$f":"CONCATENATE(W34,X34)","v":"308"},"0201-P.S. ZARZUELA ALTA",null,null,null,null,null,null,null,null,null,null,"08","03","03","0303","CACHIMAYO",0,"0803","080303","0303-CACHIMAYO"]
[14,"2do. Trimestre",null,null,null,null,null,null,null,null,null,null,"11","03","02","ANTA","0203","03-ANTA",null,"080106304","P.S. DIGNIDAD NACIONAL","2309","3","08","01","06","11","02","01","080106","0201",null,null,"0201-P.S. DIGNIDAD NACIONAL",null,null,null,null,null,null,null,null,null,null,"08","03","04","0304","CHINCHAYPUJIO",0,"0803","080304","0304-CHINCHAYPUJIO"]
[15,"3er. Trimestre",null,null,null,null,null,null,null,null,null,null,"11","04","02","LIMATAMBO","0204","04-LIMATAMBO",null,"080106305","P.S. CHOCCO","2310","3","08","01","06","11","02","02","080106","0202",9,{"$f":"CONCATENATE(W36,X36)","v":"308"},"0202-P.S. CHOCCO",null,null,null,null,null,null,null,null,null,null,"08","03","05","0305","HUAROCONDO",0,"0803","080305","0305-HUAROCONDO"]
[16,"4to. Trimestre",null,null,null,null,null,null,null,null,null,null,"11","05","02","PISAC","0205","05-PISAC",null,"080106308","P.S. OCCOPATA","2313","3","08","01","06","11","02","01","080106","0201",1,"308","0201-P.S. OCCOPATA",null,null,null,null,null,null,null,null,null,null,"08","03","06","0306","LIMATAMBO",0,"0803","080306","0306-LIMATAMBO"]
[17,"1er. Semestre",null,null,null,null,null,null,null,null,null,null,"11","06","02","CALCA","0206","06-CALCA",null,"080107301","P.S. SAYLLA","2314","3","08","01","07","11","01","01","080107","0101",2,"308","0101-P.S. SAYLLA",null,null,null,null,null,null,null,null,null,null,"08","03","07","0307","MOLLEPATA",0,"0803","080307","0307-MOLLEPATA"]
[18,"2do. Semestre",null,null,null,null,null,null,null,null,null,null,"11","07","02","URUBAMBA","0207","07-URUBAMBA",null,"080108201","C.S. WANCHAC","2315","2","08","01","08","11","02","02","080108","0202",3,"208","0202-C.S. WANCHAC",null,null,null,null,null,null,null,null,null,null,"08","03","08","0308","PUCYURA",0,"0803","080308","0308-PUCYURA"]
[19,"Anual",null,null,null,null,null,null,null,null,null,null,"11","08","02","YANATILE","0208","08-YANATILE",null,"080108202","C.S. TTIO","2316","2","08","01","08","11","02","02","080108","0202",4,"208","0202-C.S. TTIO",null,null,null,null,null,null,null,null,null,null,"08","03","09","0309","ZURITE",0,"0803","080309","0309-ZURITE"]
[null,null,null,null,null,null,null,null,null,null,null,null,"11","09","02","SIETE CUARTONES","0209","09-SIETE CUARTONES",null,"080201201","C.S. ACOMAYO","2317","2","08","02","01","11","01","13","080201","0113",4,"208","0113-C.S. ACOMAYO",null,null,null,null,null,null,null,null,null,null,"08","04","01","0401","CALCA",0,"0804","080401","0401-CALCA"]
[null,null,null,null,null,null,null,null,null,null,null,null,"11","01","03","SANTA ANA","0301","01-SANTA ANA",null,"080202301","P.S. ACOPIA","2318","3","08","02","02","11","01","14","080202","0114",4,"308","0114-P.S. ACOPIA",null,null,null,null,null,null,null,null,null,null,"08","04","02","0402","COYA",0,"0804","080402","0402-COYA"]
[null,null,null,null,null,null,null,null,null,null,null,null,"11","02","03","MARANURA","0302","02-MARANURA",null,"080203301","P.S. ACOS","2319","3","08","02","03","11","01","13","080203","0113",6,"308","0113-P.S. ACOS",null,null,null,null,null,null,null,null,null,null,"08","04","03","0403","LAMAY",0,"0804","080403","0403-LAMAY"]
[null,null,null,null,null,null,null,null,null,null,null,null,"11","03","03","QUELLOUNO","0303","03-QUELLOUNO",null,"080204301","P.S. MOSOCLLACTA","2320","3","08","02","04","11","04","03","080204","0403",2,"308","0403-P.S. MOSOCLLACTA",null,null,null,null,null,null,null,null,null,null,"08","04","04","0404","LARES",0,"0804","080404","0404-LARES"]
[null,null,null,null,null,null,null,null,null,null,null,null,"11","04","03","KITENI","0304","04-KITENI",null,"080205201","C.S. POMACANCHI","2321","2","08","02","05","11","01","14","080205","0114",4,"208","0114-C.S. POMACANCHI",null,null,null,null,null,null,null,null,null,null,"08","04","05","0405","PISAC",0,"0804","080405","0405-PISAC"]
[null,null,null,null,null,null,null,null,null,null,null,null,"11","05","03","KAMISEA","0305","05-KAMISEA",null,"080205302","P.S. SAN JUAN DE POMACANCHI","2322","3","08","02","05","11","01","14","080205","0114",5,"308","0114-P.S. SAN JUAN DE POMACANCHI",null,null,null,null,null,null,null,null,null,null,"08","04","06","0406","SAN SALVADOR",0,"0804","080406","0406-SAN SALVADOR"]
[null,null,null,null,null,null,null,null,null,null,null,null,"11","06","03","PUCYURA","0306","06-PUCYURA",null,"080206301","P.S. RONDOCAN","2323","3","08","02","06","11","01","03","080206","0103",6,"308","0103-P.S. RONDOCAN",null,null,null,null,null,null,null,null,null,null,"08","04","07","0407","TARAY",0,"0804","080407","0407-TARAY"]
[null,null,null,null,null,null,null,null,null,null,null,null,"11","07","03","HOSP PERIFERIE","0307","07-HOSP PERIFERIE",null,"080207302","C.S. SANGARARA","2324","2","08","02","07","11","01","14","080207","0114",6,"208","0114-C.S. SANGARARA",null,null,null,null,null,null,null,null,null,null,"08","04","08","0408","YANATILE",0,"0804","080408","0408-YANATILE"]
[null,null,null,null,null,null,null,null,null,null,null,null,"11","01","04","YANAOCA","0401","01-YANAOCA",null,"080207301","P.S. MARCACONGA","2325","3","08","02","07","11","01","14","080207","0114",1,"308","0114-P.S. MARCACONGA",null,null,null,null,null,null,null,null,null,null,"08","05","01","0501","YANAOCA",0,"0805","080501","0501-YANAOCA"]
[null,null,null,null,null,null,null,null,null,null,null,null,"11","02","04","EL DESCANSO","0402","02-EL DESCANSO",null,"080301201","C.S. ANTA","2326","2","08","03","01","11","02","03","080301","0203",3,"208","0203-C.S. ANTA",null,null,null,null,null,null,null,null,null,null,"08","05","02","0502","CHECCA",0,"0805","080502","0502-CHECCA"]
[null,null,null,null,null,null,null,null,null,null,null,null,"11","03","04","COMBAPATA","0403","03-COMBAPATA",null,"080301301","P.S. CHACAN","2327","3","08","03","01","11","02","03","080301","0203",5,"308","0203-P.S. CHACAN",null,null,null,null,null,null,null,null,null,null,"08","05","03","0503","KUNTURKANKI",0,"0805","080503","0503-KUNTURKANKI"]
[null,null,null,null,null,null,null,null,null,null,null,null,"11","04","04","TECHO OBRERO","0404","04-TECHO OBRERO",null,"080301302","P.S. COMPONE","2328","3","08","03","01","11","02","03","080301","0203",null,null,"0203-P.S. COMPONE",null,null,null,null,null,null,null,null,null,null,"08","05","04","0504","LANGUI",0,"0805","080504","0504-LANGUI"]
[null,null,null,null,null,null,null,null,null,null,null,null,"11","05","04","PAMPAPHALLA","0405","05-PAMPAPHALLA",null,"080301303","P.S. CONCHACALLA","2329","3","08","03","01","11","02","03","080301","0203",4,{"$f":"CONCATENATE(W53,X53)","v":"308"},"0203-P.S. CONCHACALLA",null,null,null,null,null,null,null,null,null,null,"08","05","05","0505","LAYO",0,"0805","080505","0505-LAYO"]
[null,null,null,null,null,null,null,null,null,null,null,null,"11","06","04","YAURI","0406","06-YAURI",null,"080302301","P.S. ANCAHUASI","2330","3","08","03","02","11","02","03","080302","0203",5,{"$f":"CONCATENATE(W54,X54)","v":"308"},"0203-P.S. ANCAHUASI",null,null,null,null,null,null,null,null,null,null,"08","05","06","0506","PAMPAMARCA",0,"0805","080506","0506-PAMPAMARCA"]
[null,null,null,null,null,null,null,null,null,null,null,null,"11","07","04","HOSP PERIFERIE","0407","07-HOSP PERIFERIE",null,"080303301","P.S. CACHIMAYO","2331","3","08","03","03","11","02","03","080303","0203",3,{"$f":"CONCATENATE(W55,X55)","v":"308"},"0203-P.S. CACHIMAYO",null,null,null,null,null,null,null,null,null,null,"08","05","07","0507","QUEHUE",0,"0805","080507","0507-QUEHUE"]
[null,null,null,null,null,null,null,null,null,null,null,null,"11","07","05","QUIMBIRI","0507","07-QUIMBIRI",null,"080304301","P.S. CHINCHAYPUGIO","2332","3","08","03","04","11","02","03","080304","0203",3,{"$f":"CONCATENATE(W56,X56)","v":"308"},"0203-P.S. CHINCHAYPUGIO",null,null,null,null,null,null,null,null,null,null,"08","05","08","0508","TUPAC AMARU",0,"0805","080508","0508-TUPAC AMARU"]
[null,null,null,null,null,null,null,null,null,null,null,null,"11","08","05","PICHARI","0508","08-PICHARI",null,"080305301","P.S. HUAROCONDO","2333","3","08","03","05","11","02","03","080305","0203",null,null,"0203-P.S. HUAROCONDO",null,null,null,null,null,null,null,null,null,null,"08","06","01","0601","SICUANI",0,"0806","080601","0601-SICUANI"]
[null,null,null,null,null,null,null,null,null,null,null,null,null,"01","01","(Todas)","0000","06-(Todas)",null,"080305302","P.S. HUAYLLACOCHA","2334","3","08","03","05","11","02","03","080305","0203",null,null,"0203-P.S. HUAYLLACOCHA",null,null,null,null,null,null,null,null,null,null,"08","06","02","0602","CHECACUPE",0,"0806","080602","0602-CHECACUPE"]
[null,null,null,null,null,null,null,null,null,null,null,null,null,"02","02","(Todas)","0000","06-(Todas)",null,"080306201","C.S. LIMATAMBO","2336","2","08","03","06","11","02","04","080306","0204",null,null,"0204-C.S. LIMATAMBO",null,null,null,null,null,null,null,null,null,null,"08","06","03","0603","COMBAPATA",0,"0806","080603","0603-COMBAPATA"]
[null,null,null,null,null,null,null,null,null,null,null,null,null,"03","03","(Todas)","0000","06-(Todas)",null,"080306301","P.S. PAMPACONGA","2337","3","08","03","06","11","02","04","080306","0204",null,null,"0204-P.S. PAMPACONGA",null,null,null,null,null,null,null,null,null,null,"08","06","04","0604","MARANGANI",0,"0806","080604","0604-MARANGANI"]
[null,null,null,null,null,null,null,null,null,null,null,null,null,"04","04","(Todas)","0000","06-(Todas)",null,"080307301","P.S. MOLLEPATA","2338","3","08","03","07","11","02","04","080307","0204",null,null,"0204-P.S. MOLLEPATA",null,null,null,null,null,null,null,null,null,null,"08","06","05","0605","PITUMARCA",0,"0806","080605","0605-PITUMARCA"]
[null,null,null,null,null,null,null,null,null,null,null,null,null,"05","05","(Todas)","0000","06-(Todas)",null,"080308301","P.S. PUCYURA","2339","3","08","03","08","11","02","03","080308","0203",null,null,"0203-P.S. PUCYURA",null,null,null,null,null,null,null,null,null,null,"08","06","06","0606","SAN PABLO",0,"0806","080606","0606-SAN PABLO"]
[null,null,null,null,null,null,null,null,null,null,null,null,null,"06","06","(Todas)","0000","06-(Todas)",null,"080309301","P.S. ZURITE","2340","3","08","03","09","11","02","03","080309","0203",null,null,"0203-P.S. ZURITE",null,null,null,null,null,null,null,null,null,null,"08","06","07","0607","SAN PEDRO",0,"0806","080607","0607-SAN PEDRO"]
[null,null,null,null,null,null,null,null,null,null,null,null,null,"07","07","(Todas)","0000","06-(Todas)",null,"080401201","C.S. CALCA","2341","2","08","04","01","11","02","06","080401","0206",null,null,"0206-C.S. CALCA",null,null,null,null,null,null,null,null,null,null,"08","06","08","0608","TINTA",0,"0806","080608","0608-TINTA"]
[null,null,null,null,null,null,null,null,null,null,null,null,null,null,null,null,null,null,null,"080401301","P.S. AMPARAES","2342","3","08","04","01","11","02","06","080401","0206",null,null,"0206-P.S. AMPARAES",null,null,null,null,null,null,null,null,null,null,"08","07","01","0701","SANTO TOMAS",0,"0807","080701","0701-SANTO TOMAS"]
[null,null,null,null,null,null,null,null,null,null,null,null,null,null,null,null,null,null,null,"080402301","P.S. COYA","2343","3","08","04","02","11","02","05","080402","0205",null,null,"0205-P.S. COYA",null,null,null,null,null,null,null,null,null,null,"08","07","02","0702","CAPACMARCA",0,"0807","080702","0702-CAPACMARCA"]
[null,null,null,null,null,null,null,null,null,null,null,null,null,null,null,null,null,null,null,"080403301","P.S. LAMAY","2344","3","08","04","03","11","02","05","080403","0205",null,null,"0205-P.S. LAMAY",null,null,null,null,null,null,null,null,null,null,"08","07","03","0703","CHAMACA",0,"0807","080703","0703-CHAMACA"]
[null,null,null,null,null,null,null,null,null,null,null,null,null,null,null,null,null,null,null,"080404301","P.S. CCACHIN","2345","3","08","04","04","11","02","06","080404","0206",null,null,"0206-P.S. CCACHIN",null,null,null,null,null,null,null,null,null,null,"08","07","04","0704","COLQUEMARCA",0,"0807","080704","0704-COLQUEMARCA"]
[null,null,null,null,null,null,null,null,null,null,null,null,null,null,null,null,null,null,null,"080404302","P.S. CHOQUECANCHA","2346","3","08","04","04","11","02","06","080404","0206",4,{"$f":"CONCATENATE(W69,X69)","v":"308"},"0206-P.S. CHOQUECANCHA",null,null,null,null,null,null,null,null,null,null,"08","07","05","0705","LIVITACA",0,"0807","080705","0705-LIVITACA"]
[null,null,null,null,null,null,null,null,null,null,null,null,null,null,null,null,null,null,null,"080404201","P.S. LARES","2347","3","08","04","04","11","02","06","080404","0206",4,{"$f":"CONCATENATE(W70,X70)","v":"308"},"0206-P.S. LARES",null,null,null,null,null,null,null,null,null,null,"08","07","06","0706","LLUSCO",0,"0807","080706","0706-LLUSCO"]
[null,null,null,null,null,null,null,null,null,null,null,null,null,null,null,null,null,null,null,"080405201","C.S. PISAC","2348","2","08","04","05","11","02","05","080405","0205",null,null,"0205-C.S. PISAC",null,null,null,null,null,null,null,null,null,null,"08","07","07","0707","QUI¥OTA",0,"0807","080707","0707-QUI¥OTA"]
[null,null,null,null,null,null,null,null,null,null,null,null,null,null,null,null,null,null,null,"080405301","P.S. CUYO CHICO","2349","3","08","04","05","11","02","05","080405","0205",6,{"$f":"CONCATENATE(W72,X72)","v":"308"},"0205-P.S. CUYO CHICO",null,null,null,null,null,null,null,null,null,null,"08","07","08","0708","VELILLE",0,"0807","080708","0708-VELILLE"]
[null,null,null,null,null,null,null,null,null,null,null,null,null,null,null,null,null,null,null,"080405302","P.S. CUYO GRANDE","2350","3","08","04","05","11","02","05","080405","0205",1,{"$f":"CONCATENATE(W73,X73)","v":"308"},"0205-P.S. CUYO GRANDE",null,null,null,null,null,null,null,null,null,null,"08","08","01","0801","ESPINAR",0,"0808","080801","0801-ESPINAR"]
[null,null,null,null,null,null,null,null,null,null,null,null,null,null,null,null,null,null,null,"080405303","P.S. QUELLO QUELLO","2351","3","08","04","05","11","02","05","080405","0205",2,{"$f":"CONCATENATE(W74,X74)","v":"308"},"0205-P.S. QUELLO QUELLO",null,null,null,null,null,null,null,null,null,null,"08","08","02","0802","CONDOROMA",0,"0808","080802","0802-CONDOROMA"]
[null,null,null,null,null,null,null,null,null,null,null,null,null,null,null,null,null,null,null,"080406201","P.S. SAN SALVADOR","2352","3","08","04","06","11","02","05","080406","0205",null,null,"0205-P.S. SAN SALVADOR",null,null,null,null,null,null,null,null,null,null,"08","08","03","0803","COPORAQUE",0,"0808","080803","0803-COPORAQUE"]
[null,null,null,null,null,null,null,null,null,null,null,null,null,null,null,null,null,null,null,"080407301","P.S. TARAY","2353","3","08","04","07","11","02","05","080407","0205",7,{"$f":"CONCATENATE(W76,X76)","v":"308"},"0205-P.S. TARAY",null,null,null,null,null,null,null,null,null,null,"08","08","04","0804","OCORURO",0,"0808","080804","0804-OCORURO"]
[null,null,null,null,null,null,null,null,null,null,null,null,null,null,null,null,null,null,null,"080407302","P.S. HUANCALLE","2354","3","08","04","07","11","02","05","080407","0205",7,"308","0205-P.S. HUANCALLE",null,null,null,null,null,null,null,null,null,null,"08","08","05","0805","PALLPATA",0,"0808","080805","0805-PALLPATA"]
[null,null,null,null,null,null,null,null,null,null,null,null,null,null,null,null,null,null,null,"080408201","C.S. LA QUEBRADA","2355","2","08","04","08","11","02","08","080408","0208",8,"208","0208-C.S. LA QUEBRADA",null,null,null,null,null,null,null,null,null,null,"08","08","06","0806","PICHIGUA",0,"0808","080806","0806-PICHIGUA"]
[null,null,null,null,null,null,null,null,null,null,null,null,null,null,null,null,null,null,null,"080408301","P.S. CCORIMAYO","2356","3","08","04","08","11","02","08","080408","0208",11,"308","0208-P.S. CCORIMAYO",null,null,null,null,null,null,null,null,null,null,"08","08","07","0807","SUYCKUTAMBO",0,"0808","080807","0807-SUYCKUTAMBO"]
[null,null,null,null,null,null,null,null,null,null,null,null,null,null,null,null,null,null,null,"080408302","P.S. COLCA","2357","3","08","04","08","11","02","08","080408","0208",12,"308","0208-P.S. COLCA",null,null,null,null,null,null,null,null,null,null,"08","08","08","0808","ALTO PICHIGUA",0,"0808","080808","0808-ALTO PICHIGUA"]
[null,null,null,null,null,null,null,null,null,null,null,null,null,null,null,null,null,null,null,"080408304","P.S. MUYUPAY","2358","3","08","04","08","11","02","08","080408","0208",12,"308","0208-P.S. MUYUPAY",null,null,null,null,null,null,null,null,null,null,"08","09","01","0901","SANTA ANA",0,"0809","080901","0901-SANTA ANA"]
[null,null,null,null,null,null,null,null,null,null,null,null,null,null,null,null,null,null,null,"080408202","C.S. PUTUCUSI","2359","2","08","04","08","11","02","08","080408","0208",1,"208",{"$f":"CONCATENATE(AE82,\"-\",U82)","v":"0208-C.S. PUTUCUSI"},null,null,null,null,null,null,null,null,null,null,"08","09","02","0902","ECHARATE",0,"0809","080902",{"$f":"CONCATENATE(AV82,\"-\",AW82)","v":"0902-ECHARATE"}]
[null,null,null,null,null,null,null,null,null,null,null,null,null,null,null,null,null,null,null,"080408306","P.S. QUESQUENTO","2360","3","08","04","08","11","02","08","080408","0208",2,"308","0208-P.S. QUESQUENTO",null,null,null,null,null,null,null,null,null,null,"08","09","03","0903","HUAYOPATA",0,"0809","080903","0903-HUAYOPATA"]
[null,null,null,null,null,null,null,null,null,null,null,null,null,null,null,null,null,null,null,"080404303","P.S. SUYO","2361","3","08","04","04","11","02","06","080404","0206",6,"308","0206-P.S. SUYO",null,null,null,null,null,null,null,null,null,null,"08","09","04","0904","MARANURA",0,"0809","080904","0904-MARANURA"]
[null,null,null,null,null,null,null,null,null,null,null,null,null,null,null,null,null,null,null,"080408308","P.S. HUACHIBAMBA","2362","3","08","04","08","11","02","08","080408","0208",6,"308","0208-P.S. HUACHIBAMBA",null,null,null,null,null,null,null,null,null,null,"08","09","05","0905","OCOBAMBA",0,"0809","080905","0905-OCOBAMBA"]
[null,null,null,null,null,null,null,null,null,null,null,null,null,null,null,null,null,null,null,"080408309","P.S. TUPAC AMARU","2363","3","08","04","08","11","03","03","080408","0303",null,null,"0303-P.S. TUPAC AMARU",null,null,null,null,null,null,null,null,null,null,"08","09","06","0906","QUELLOUNO",0,"0809","080906","0906-QUELLOUNO"]
[null,null,null,null,null,null,null,null,null,null,null,null,null,null,null,null,null,null,null,"080501201","C.S. YANAOCA","2364","2","08","05","01","11","04","01","080501","0401",null,null,"0401-C.S. YANAOCA",null,null,null,null,null,null,null,null,null,null,"08","09","07","0907","QUIMBIRI",0,"0809","080907","0907-QUIMBIRI"]
[null,null,null,null,null,null,null,null,null,null,null,null,null,null,null,null,null,null,null,"080501301","P.S. PONGONA","2365","3","08","05","01","11","04","01","080501","0401",5,{"$f":"CONCATENATE(W88,X88)","v":"308"},"0401-P.S. PONGONA",null,null,null,null,null,null,null,null,null,null,"08","09","08","0908","SANTA TERESA",0,"0809","080908","0908-SANTA TERESA"]
[null,null,null,null,null,null,null,null,null,null,null,null,null,null,null,null,null,null,null,"080502301","P.S. CHECCA","2366","3","08","05","02","11","04","02","080502","0402",6,"308","0402-P.S. CHECCA",null,null,null,null,null,null,null,null,null,null,"08","09","09","0909","VILCABAMBA",0,"0809","080909","0909-VILCABAMBA"]
[null,null,null,null,null,null,null,null,null,null,null,null,null,null,null,null,null,null,null,"080502302","P.S. CHITIBAMBA","2367","3","08","05","02","11","04","01","080502","0401",4,"308","0401-P.S. CHITIBAMBA",null,null,null,null,null,null,null,null,null,null,"08","09","10","0910","PICHARI",0,"0809","080910","0910-PICHARI"]
[null,null,null,null,null,null,null,null,null,null,null,null,null,null,null,null,null,null,null,"080504301","P.S. LANGUI","2369","3","08","05","04","11","04","02","080504","0402",5,"308","0402-P.S. LANGUI",null,null,null,null,null,null,null,null,null,null,"08","10","01","1001","PARURO",0,"0810","081001","1001-PARURO"]
[null,null,null,null,null,null,null,null,null,null,null,null,null,null,null,null,null,null,null,"080504302","P.S. CONDEVILUYO","2370","3","08","05","04","11","04","02","080504","0402",7,"308","0402-P.S. CONDEVILUYO",null,null,null,null,null,null,null,null,null,null,"08","10","02","1002","ACCHA",0,"0810","081002","1002-ACCHA"]
[null,null,null,null,null,null,null,null,null,null,null,null,null,null,null,null,null,null,null,"080505201","C.S. LAYO","2371","2","08","05","05","11","04","02","080505","0402",1,"208","0402-C.S. LAYO",null,null,null,null,null,null,null,null,null,null,"08","10","03","1003","CCAPI",0,"0810","081003","1003-CCAPI"]
[null,null,null,null,null,null,null,null,null,null,null,null,null,null,null,null,null,null,null,"080506301","P.S. PAMPAMARCA","2372","3","08","05","06","11","04","01","080506","0401",1,"308","0401-P.S. PAMPAMARCA",null,null,null,null,null,null,null,null,null,null,"08","10","04","1004","COLCHA",0,"0810","081004","1004-COLCHA"]
[null,null,null,null,null,null,null,null,null,null,null,null,null,null,null,null,null,null,null,"080507301","P.S. QUEHUE","2373","3","08","05","07","11","04","01","080507","0401",1,"308","0401-P.S. QUEHUE",null,null,null,null,null,null,null,null,null,null,"08","10","05","1005","HUANOQUITE",0,"0810","081005","1005-HUANOQUITE"]
[null,null,null,null,null,null,null,null,null,null,null,null,null,null,null,null,null,null,null,"080507302","P.S. HUINCHIRI","2374","3","08","05","07","11","04","01","080507","0401",9,"308","0401-P.S. HUINCHIRI",null,null,null,null,null,null,null,null,null,null,"08","10","06","1006","OMACHA",0,"0810","081006","1006-OMACHA"]
[null,null,null,null,null,null,null,null,null,null,null,null,null,null,null,null,null,null,null,"080508301","P.S. SURIMANA","2375","3","08","05","08","11","04","01","080508","0401",10,"308","0401-P.S. SURIMANA",null,null,null,null,null,null,null,null,null,null,"08","10","07","1007","PACCARITAMBO",0,"0810","081007","1007-PACCARITAMBO"]
[null,null,null,null,null,null,null,null,null,null,null,null,null,null,null,null,null,null,null,"080508302","P.S. TUNGASUCA","2376","3","08","05","08","11","04","01","080508","0401",3,"308","0401-P.S. TUNGASUCA",null,null,null,null,null,null,null,null,null,null,"08","10","08","1008","PILLPINTO",0,"0810","081008","1008-PILLPINTO"]
[null,null,null,null,null,null,null,null,null,null,null,null,null,null,null,null,null,null,null,"080508303","P.S. TOCCOCCORI","2377","3","08","05","08","11","04","01","080508","0401",4,"308","0401-P.S. TOCCOCCORI",null,null,null,null,null,null,null,null,null,null,"08","10","09","1009","YAURISQUE",0,"0810","081009","1009-YAURISQUE"]
[null,null,null,null,null,null,null,null,null,null,null,null,null,null,null,null,null,null,null,"080601101","HOSP. SICUANI","2378","1","08","06","01","11","04","04","080601","0404",null,null,"0404-HOSP. SICUANI",null,null,null,null,null,null,null,null,null,null,"08","11","01","1101","PAUCARTAMBO",0,"0811","081101","1101-PAUCARTAMBO"]
[null,null,null,null,null,null,null,null,null,null,null,null,null,null,null,null,null,null,null,"080601301","P.S. HERCCA","2379","3","08","06","01","11","04","04","080601","0404",null,null,"0404-P.S. HERCCA",null,null,null,null,null,null,null,null,null,null,"08","11","02","1102","CAICAY",0,"0811","081102","1102-CAICAY"]
[null,null,null,null,null,null,null,null,null,null,null,null,null,null,null,null,null,null,null,"080601202","P.S. TECHO OBRERO","2380","3","08","06","01","11","04","04","080601","0404",1,{"$f":"CONCATENATE(W102,X102)","v":"308"},"0404-P.S. TECHO OBRERO",null,null,null,null,null,null,null,null,null,null,"08","11","03","1103","CHALLABAMBA",0,"0811","081103","1103-CHALLABAMBA"]
[null,null,null,null,null,null,null,null,null,null,null,null,null,null,null,null,null,null,null,"080601303","P.S. QUEHUAR","2381","3","08","06","01","11","04","05","080601","0405",3,"308","0405-P.S. QUEHUAR",null,null,null,null,null,null,null,null,null,null,"08","11","04","1104","COLQUEPATA",0,"0811","081104","1104-COLQUEPATA"]
[null,null,null,null,null,null,null,null,null,null,null,null,null,null,null,null,null,null,null,"080601304","P.S. UZCUPATA","2382","3","08","06","01","11","04","05","080601","0405",6,"308","0405-P.S. UZCUPATA",null,null,null,null,null,null,null,null,null,null,"08","11","05","1105","HUANCARANI",0,"0811","081105","1105-HUANCARANI"]
[null,null,null,null,null,null,null,null,null,null,null,null,null,null,null,null,null,null,null,"080601305","P.S. LA FLORIDA","2383","3","08","06","01","11","04","05","080601","0405",6,"308","0405-P.S. LA FLORIDA",null,null,null,null,null,null,null,null,null,null,"08","11","06","1106","KOS¥IPATA",0,"0811","081106","1106-KOS¥IPATA"]
[null,null,null,null,null,null,null,null,null,null,null,null,null,null,null,null,null,null,null,"080601201","P.S. PAMPAPHALLA","2384","3","08","06","01","11","04","05","080601","0405",6,"308","0405-P.S. PAMPAPHALLA",null,null,null,null,null,null,null,null,null,null,"08","12","01","1201","URCOS",0,"0812","081201","1201-URCOS"]
[null,null,null,null,null,null,null,null,null,null,null,null,null,null,null,null,null,null,null,"080602301","P.S. CHECACUPE","2385","3","08","06","02","11","04","03","080602","0403",1,"308","0403-P.S. CHECACUPE",null,null,null,null,null,null,null,null,null,null,"08","12","02","1202","ANDAHUAYLILLAS",0,"0812","081202","1202-ANDAHUAYLILLAS"]
[null,null,null,null,null,null,null,null,null,null,null,null,null,null,null,null,null,null,null,"080603201","C.S. COMBAPATA","2386","2","08","06","03","11","04","03","080603","0403",5,"208","0403-C.S. COMBAPATA",null,null,null,null,null,null,null,null,null,null,"08","12","03","1203","CAMANTI",0,"0812","081203","1203-CAMANTI"]
[null,null,null,null,null,null,null,null,null,null,null,null,null,null,null,null,null,null,null,"080603301","P.S. CHIARA","2387","3","08","06","03","11","04","03","080603","0403",6,"308","0403-P.S. CHIARA",null,null,null,null,null,null,null,null,null,null,"08","12","04","1204","CCARHUAYO",0,"0812","081204","1204-CCARHUAYO"]
[null,null,null,null,null,null,null,null,null,null,null,null,null,null,null,null,null,null,null,"080604201","C.S. MARANGANI","2388","2","08","06","04","11","04","04","080604","0404",7,"208","0404-C.S. MARANGANI",null,null,null,null,null,null,null,null,null,null,"08","12","05","1205","CCATCA",0,"0812","081205","1205-CCATCA"]
[null,null,null,null,null,null,null,null,null,null,null,null,null,null,null,null,null,null,null,"080604301","P.S. CHECTUYOC","2389","3","08","06","04","11","04","04","080604","0404",3,"308","0404-P.S. CHECTUYOC",null,null,null,null,null,null,null,null,null,null,"08","12","06","1206","CUSIPATA",0,"0812","081206","1206-CUSIPATA"]
[null,null,null,null,null,null,null,null,null,null,null,null,null,null,null,null,null,null,null,"080604302","P.S. CCUYO","2390","3","08","06","04","11","04","04","080604","0404",4,"308","0404-P.S. CCUYO",null,null,null,null,null,null,null,null,null,null,"08","12","07","1207","HUARO",0,"0812","081207","1207-HUARO"]
[null,null,null,null,null,null,null,null,null,null,null,null,null,null,null,null,null,null,null,"080604304","P.S. OCCOBAMBA","2391","3","08","06","04","11","04","04","080604","0404",2,"308","0404-P.S. OCCOBAMBA",null,null,null,null,null,null,null,null,null,null,"08","12","08","1208","LUCRE",0,"0812","081208","1208-LUCRE"]
[null,null,null,null,null,null,null,null,null,null,null,null,null,null,null,null,null,null,null,"080605301","P.S. PITUMARCA","2392","3","08","06","05","11","04","03","080605","0403",3,"308","0403-P.S. PITUMARCA",null,null,null,null,null,null,null,null,null,null,"08","12","09","1209","MARCAPATA",0,"0812","081209","1209-MARCAPATA"]
[null,null,null,null,null,null,null,null,null,null,null,null,null,null,null,null,null,null,null,"080605302","P.S. PHINAYA","2393","3","08","06","05","11","04","05","080605","0405",4,"308","0405-P.S. PHINAYA",null,null,null,null,null,null,null,null,null,null,"08","12","10","1210","OCONGATE",0,"0812","081210","1210-OCONGATE"]
[null,null,null,null,null,null,null,null,null,null,null,null,null,null,null,null,null,null,null,"080606301","P.S. SAN PABLO","2394","3","08","06","06","11","04","05","080606","0405",5,"308","0405-P.S. SAN PABLO",null,null,null,null,null,null,null,null,null,null,"08","12","11","1211","OROPESA",0,"0812","081211","1211-OROPESA"]
[null,null,null,null,null,null,null,null,null,null,null,null,null,null,null,null,null,null,null,"080606302","P.S. SANTA BARBARA","2395","3","08","06","06","11","04","05","080606","0405",5,"308","0405-P.S. SANTA BARBARA",null,null,null,null,null,null,null,null,null,null,"08","12","12","1212","QUIQUIJANA",0,"0812","081212","1212-QUIQUIJANA"]
[null,null,null,null,null,null,null,null,null,null,null,null,null,null,null,null,null,null,null,"080607301","P.S. SAN PEDRO","2396","3","08","06","07","11","04","05","080607","0405",6,"308","0405-P.S. SAN PEDRO",null,null,null,null,null,null,null,null,null,null,"08","13","01","1301","URUBAMBA",0,"0813","081301","1301-URUBAMBA"]
[null,null,null,null,null,null,null,null,null,null,null,null,null,null,null,null,null,null,null,"080608201","P.S. TINTA","2397","3","08","06","08","11","04","03","080608","0403",6,"308","0403-P.S. TINTA",null,null,null,null,null,null,null,null,null,null,"08","13","02","1302","CHINCHERO",0,"0813","081302","1302-CHINCHERO"]
[null,null,null,null,null,null,null,null,null,null,null,null,null,null,null,null,null,null,null,"080701101","HOSP. SANTO TOMAS","2398","1","08","07","01","11","01","09","080701","0109",7,"108","0109-HOSP. SANTO TOMAS",null,null,null,null,null,null,null,null,null,null,"08","13","03","1303","HUAYLLABAMBA",0,"0813","081303","1303-HUAYLLABAMBA"]
[null,null,null,null,null,null,null,null,null,null,null,null,null,null,null,null,null,null,null,"080701301","P.S. PULPERA","2399","3","08","07","01","11","01","10","080701","0110",8,"308","0110-P.S. PULPERA",null,null,null,null,null,null,null,null,null,null,"08","13","04","1304","MACHUPICCHU",0,"0813","081304","1304-MACHUPICCHU"]
[null,null,null,null,null,null,null,null,null,null,null,null,null,null,null,null,null,null,null,"080701302","P.S. ALHUACCHULLO","2400","3","08","07","01","11","01","09","080701","0109",3,"308","0109-P.S. ALHUACCHULLO",null,null,null,null,null,null,null,null,null,null,"08","13","05","1305","MARAS",0,"0813","081305","1305-MARAS"]
[null,null,null,null,null,null,null,null,null,null,null,null,null,null,null,null,null,null,null,"080702301","P.S. CAPACMARCA","2401","3","08","07","02","11","01","11","080702","0111",4,"308","0111-P.S. CAPACMARCA",null,null,null,null,null,null,null,null,null,null,"08","13","06","1306","OLLANTAYTAMBO",0,"0813","081306","1306-OLLANTAYTAMBO"]
[null,null,null,null,null,null,null,null,null,null,null,null,null,null,null,null,null,null,null,"080703301","P.S. CHAMACA","2402","3","08","07","03","11","04","01","080703","0401",null,null,"0401-P.S. CHAMACA",null,null,null,null,null,null,null,null,null,null,"08","13","07","1307","YUCAY",0,"0813","081307","1307-YUCAY"]
[null,null,null,null,null,null,null,null,null,null,null,null,null,null,null,null,null,null,null,"080703302","P.S. A¤AHUICHI","2403","3","08","07","03","11","04","01","080703","0401",1,{"$f":"CONCATENATE(W125,X125)","v":"308"},"0401-P.S. A¤AHUICHI",null,null,null,null,null,null,null,null,null,null,null,"00",null,"0000","(Todas)",null,null,null,{"$f":"CONCATENATE(AV125,\"-\",AW125)","v":"0000-(Todas)"}]
[null,null,null,null,null,null,null,null,null,null,null,null,null,null,null,null,null,null,null,"080704201","P.S. COLQUEMARCA","2404","3","08","07","04","11","01","11","080704","0111",1,"308","0111-P.S. COLQUEMARCA",null,null,null,null,null,null,null,null,null,null,null,"'01",null,"0000","(Todas)",null,null,null,"0000-(Todas)"]
[null,null,null,null,null,null,null,null,null,null,null,null,null,null,null,null,null,null,null,"080704302","P.S. CHARAMURAY","2405","3","08","07","04","11","01","11","080704","0111",2,"308","0111-P.S. CHARAMURAY",null,null,null,null,null,null,null,null,null,null,null,"'02",null,"0000","(Todas)",null,null,null,"0000-(Todas)"]
[null,null,null,null,null,null,null,null,null,null,null,null,null,null,null,null,null,null,null,"080705301","P.S. LIVITACA","2406","3","08","07","05","11","04","01","080705","0401",5,"308","0401-P.S. LIVITACA",null,null,null,null,null,null,null,null,null,null,null,"'03",null,"0000","(Todas)",null,null,null,"0000-(Todas)"]
[null,null,null,null,null,null,null,null,null,null,null,null,null,null,null,null,null,null,null,"080706301","P.S. LLUSCO","2407","3","08","07","06","11","01","09","080706","0109",5,"308","0109-P.S. LLUSCO",null,null,null,null,null,null,null,null,null,null,null,"'04",null,"0000","(Todas)",null,null,null,"0000-(Todas)"]
[null,null,null,null,null,null,null,null,null,null,null,null,null,null,null,null,null,null,null,"080707301","P.S. QUI?OTA","2408","3","08","07","07","11","01","09","080707","0109",7,"308","0109-P.S. QUI?OTA",null,null,null,null,null,null,null,null,null,null,null,"'05",null,"0000","(Todas)",null,null,null,"0000-(Todas)"]
[null,null,null,null,null,null,null,null,null,null,null,null,null,null,null,null,null,null,null,"080708201","P.S. VELILLE","2409","3","08","07","08","11","01","10","080708","0110",7,"308","0110-P.S. VELILLE",null,null,null,null,null,null,null,null,null,null,null,"'06",null,"0000","(Todas)",null,null,null,"0000-(Todas)"]
[null,null,null,null,null,null,null,null,null,null,null,null,null,null,null,null,null,null,null,"080801201","C.S. YAURI","2410","2","08","08","01","11","04","06","080801","0406",8,"208","0406-C.S. YAURI",null,null,null,null,null,null,null,null,null,null,null,"'07",null,"0000","(Todas)",null,null,null,"0000-(Todas)"]
[null,null,null,null,null,null,null,null,null,null,null,null,null,null,null,null,null,null,null,"080802301","P.S. CONDOROMA","2411","3","08","08","02","11","04","06","080802","0406",8,"308","0406-P.S. CONDOROMA",null,null,null,null,null,null,null,null,null,null,null,"'08",null,"0000","(Todas)",null,null,null,"0000-(Todas)"]
[null,null,null,null,null,null,null,null,null,null,null,null,null,null,null,null,null,null,null,"080803301","P.S. COPORAQUE","2412","3","08","08","03","11","04","06","080803","0406",8,"308","0406-P.S. COPORAQUE",null,null,null,null,null,null,null,null,null,null,null,"'09",null,"0000","(Todas)",null,null,null,"0000-(Todas)"]
[null,null,null,null,null,null,null,null,null,null,null,null,null,null,null,null,null,null,null,"080803302","P.S. URINSAYA","2413","3","08","08","03","11","04","06","080803","0406",8,"308","0406-P.S. URINSAYA",null,null,null,null,null,null,null,null,null,null,null,"'10",null,"0000","(Todas)",null,null,null,"0000-(Todas)"]
[null,null,null,null,null,null,null,null,null,null,null,null,null,null,null,null,null,null,null,"080803303","P.S. HUAYHUAHUASI","2414","3","08","08","03","11","04","06","080803","0406",8,"308","0406-P.S. HUAYHUAHUASI",null,null,null,null,null,null,null,null,null,null,null,"'11",null,"0000","(Todas)",null,null,null,"0000-(Todas)"]
[null,null,null,null,null,null,null,null,null,null,null,null,null,null,null,null,null,null,null,"080804301","P.S. OCCORURO","2415","3","08","08","04","11","04","06","080804","0406",null,null,"0406-P.S. OCCORURO",null,null,null,null,null,null,null,null,null,null,null,"'12",null,"0000","(Todas)",null,null,null,"0000-(Todas)"]
[null,null,null,null,null,null,null,null,null,null,null,null,null,null,null,null,null,null,null,"080805301","C.S. PALLPATA","2416","2","08","08","05","11","04","06","080805","0406",null,null,"0406-C.S. PALLPATA",null,null,null,null,null,null,null,null,null,null,null,"'13",null,"0000","(Todas)",null,null,null,"0000-(Todas)"]
[null,null,null,null,null,null,null,null,null,null,null,null,null,null,null,null,null,null,null,"080806301","P.S. PICHIGUA","2417","3","08","08","06","11","04","06","080806","0406",null,null,"0406-P.S. PICHIGUA"]
[null,null,null,null,null,null,null,null,null,null,null,null,null,null,null,null,null,null,null,"080806302","P.S. SAN MIGUEL","2418","3","08","08","06","11","04","06","080806","0406",null,null,"0406-P.S. SAN MIGUEL"]
[null,null,null,null,null,null,null,null,null,null,null,null,null,null,null,null,null,null,null,"080807301","P.S. SUYCKUTAMBO","2419","3","08","08","07","11","04","06","080807","0406",4,{"$f":"CONCATENATE(W141,X141)","v":"308"},"0406-P.S. SUYCKUTAMBO"]
[null,null,null,null,null,null,null,null,null,null,null,null,null,null,null,null,null,null,null,"080808301","P.S. ACCOCUNCA","2420","3","08","08","08","11","04","06","080808","0406",4,"308","0406-P.S. ACCOCUNCA"]
[null,null,null,null,null,null,null,null,null,null,null,null,null,null,null,null,null,null,null,"080901101","HOSP. QUILLABAMBA","2421","1","08","09","01","11","03","01","080901","0301",5,"108","0301-HOSP. QUILLABAMBA"]
[null,null,null,null,null,null,null,null,null,null,null,null,null,null,null,null,null,null,null,"080901301","P.S. HUAYANAY","2422","3","08","09","01","11","03","01","080901","0301",5,"308","0301-P.S. HUAYANAY"]
[null,null,null,null,null,null,null,null,null,null,null,null,null,null,null,null,null,null,null,"080901302","P.S. IDMA","2423","3","08","09","01","11","03","01","080901","0301",6,"308","0301-P.S. IDMA"]
[null,null,null,null,null,null,null,null,null,null,null,null,null,null,null,null,null,null,null,"080901303","P.S. POTRERO","2424","3","08","09","01","11","03","01","080901","0301",2,"308",{"$f":"CONCATENATE(AE146,\"-\",U146)","v":"0301-P.S. POTRERO"}]
[null,null,null,null,null,null,null,null,null,null,null,null,null,null,null,null,null,null,null,"080902327","C.S. ECHARATE","2425","2","08","09","02","11","03","01","080902","0301",1,"208","0301-C.S. ECHARATE"]
[null,null,null,null,null,null,null,null,null,null,null,null,null,null,null,null,null,null,null,"080902328","C.S. KIRIGUETI","2426","2","08","09","02","11","03","05","080902","0305",null,null,"0305-C.S. KIRIGUETI"]
[null,null,null,null,null,null,null,null,null,null,null,null,null,null,null,null,null,null,null,"080902203","C.S. KITENI","2427","2","08","09","02","11","03","04","080902","0304",null,null,"0304-C.S. KITENI"]
[null,null,null,null,null,null,null,null,null,null,null,null,null,null,null,null,null,null,null,"080902301","P.S. CHOCORIARI","2428","3","08","09","02","11","03","05","080902","0305",7,{"$f":"CONCATENATE(W150,X150)","v":"308"},"0305-P.S. CHOCORIARI"]
[null,null,null,null,null,null,null,null,null,null,null,null,null,null,null,null,null,null,null,"080902302","P.S. CIRIALO","2429","3","08","09","02","11","03","01","080902","0301",null,null,"0301-P.S. CIRIALO"]
[null,null,null,null,null,null,null,null,null,null,null,null,null,null,null,null,null,null,null,"080902303","P.S. PAMPA CONCEPCION","2430","3","08","09","02","11","03","01","080902","0301",null,null,"0301-P.S. PAMPA CONCEPCION"]
[null,null,null,null,null,null,null,null,null,null,null,null,null,null,null,null,null,null,null,"080902304","P.S. IVOCHOTE","2431","3","08","09","02","11","03","04","080902","0304",null,null,"0304-P.S. IVOCHOTE"]
[null,null,null,null,null,null,null,null,null,null,null,null,null,null,null,null,null,null,null,"080902206","C.S. KEPASHIATO","2432","2","08","09","02","11","03","04","080902","0304",null,null,"0304-C.S. KEPASHIATO"]
[null,null,null,null,null,null,null,null,null,null,null,null,null,null,null,null,null,null,null,"080902306","P.S. KORIVENI","2433","3","08","09","02","11","03","01","080902","0301",null,null,"0301-P.S. KORIVENI"]
[null,null,null,null,null,null,null,null,null,null,null,null,null,null,null,null,null,null,null,"080902307","P.S. MATERIATO","2434","3","08","09","02","11","03","04","080902","0304",null,null,"0304-P.S. MATERIATO"]
[null,null,null,null,null,null,null,null,null,null,null,null,null,null,null,null,null,null,null,"080902308","P.S. MIARIA","2435","3","08","09","02","11","03","05","080902","0305",null,null,"0305-P.S. MIARIA"]
[null,null,null,null,null,null,null,null,null,null,null,null,null,null,null,null,null,null,null,"080902309","P.S. NUEVA LUZ","2436","3","08","09","02","11","03","05","080902","0305",null,null,"0305-P.S. NUEVA LUZ"]
[null,null,null,null,null,null,null,null,null,null,null,null,null,null,null,null,null,null,null,"080902310","P.S. NUEVO MUNDO","2437","3","08","09","02","11","03","05","080902","0305",null,null,"0305-P.S. NUEVO MUNDO"]
[null,null,null,null,null,null,null,null,null,null,null,null,null,null,null,null,null,null,null,"080902311","P.S. PACHIRI","2438","3","08","09","02","11","03","04","080902","0304",null,null,"0304-P.S. PACHIRI"]
[null,null,null,null,null,null,null,null,null,null,null,null,null,null,null,null,null,null,null,"080902204","P.S. PALMA REAL","2439","3","08","09","02","11","03","01","080902","0301",8,{"$f":"CONCATENATE(W161,X161)","v":"308"},"0301-P.S. PALMA REAL"]
[null,null,null,null,null,null,null,null,null,null,null,null,null,null,null,null,null,null,null,"080902313","P.S. PANGOA","2440","3","08","09","02","11","03","04","080902","0304",4,"308","0304-P.S. PANGOA"]
[null,null,null,null,null,null,null,null,null,null,null,null,null,null,null,null,null,null,null,"080902314","P.S. PUERTO HUALLANA","2441","3","08","09","02","11","03","05","080902","0305",8,"308","0305-P.S. PUERTO HUALLANA"]
[null,null,null,null,null,null,null,null,null,null,null,null,null,null,null,null,null,null,null,"080902315","P.S. PUERTO RICO","2442","3","08","09","02","11","03","05","080902","0305",8,"308","0305-P.S. PUERTO RICO"]
[null,null,null,null,null,null,null,null,null,null,null,null,null,null,null,null,null,null,null,"080902316","P.S. SANIRIATO","2443","3","08","09","02","11","03","04","080902","0304",1,"308","0304-P.S. SANIRIATO"]
[null,null,null,null,null,null,null,null,null,null,null,null,null,null,null,null,null,null,null,"080902317","P.S. SENSA","2444","3","08","09","02","11","03","05","080902","0305",1,"308","0305-P.S. SENSA"]
[null,null,null,null,null,null,null,null,null,null,null,null,null,null,null,null,null,null,null,"080902318","P.S. TIMPIA","2445","3","08","09","02","11","03","05","080902","0305",2,"308","0305-P.S. TIMPIA"]
[null,null,null,null,null,null,null,null,null,null,null,null,null,null,null,null,null,null,null,"080902319","P.S. CHACCO","2446","3","08","09","02","11","03","01","080902","0301",7,"308","0301-P.S. CHACCO"]
[null,null,null,null,null,null,null,null,null,null,null,null,null,null,null,null,null,null,null,"080902321","P.S. KAMANQUIRIATO","2447","3","08","09","02","11","03","04","080902","0304",7,"308","0304-P.S. KAMANQUIRIATO"]
[null,null,null,null,null,null,null,null,null,null,null,null,null,null,null,null,null,null,null,"080902205","P.S. CAMISEA","2448","3","08","09","02","11","03","05","080902","0305",null,null,"0305-P.S. CAMISEA"]
[null,null,null,null,null,null,null,null,null,null,null,null,null,null,null,null,null,null,null,"080902323","P.S. ICHIQUIATO BAJO","2449","3","08","09","02","11","03","01","080902","0301",null,null,"0301-P.S. ICHIQUIATO BAJO"]
[null,null,null,null,null,null,null,null,null,null,null,null,null,null,null,null,null,null,null,"080902324","P.S. SAN ANTONIO","2450","3","08","09","02","11","03","01","080902","0301",null,null,"0301-P.S. SAN ANTONIO"]
[null,null,null,null,null,null,null,null,null,null,null,null,null,null,null,null,null,null,null,"080902325","P.S. CHAHUARES","2451","3","08","09","02","11","03","01","080902","0301",1,{"$f":"CONCATENATE(W173,X173)","v":"308"},"0301-P.S. CHAHUARES"]
[null,null,null,null,null,null,null,null,null,null,null,null,null,null,null,null,null,null,null,"080902326","P.S. SHIVANKORENI","2452","3","08","09","02","11","03","05","080902","0305",1,"308","0305-P.S. SHIVANKORENI"]
[null,null,null,null,null,null,null,null,null,null,null,null,null,null,null,null,null,null,null,"080903201","C.S. HUYRO","2453","2","08","09","03","11","03","02","080903","0302",1,"208","0302-C.S. HUYRO"]
[null,null,null,null,null,null,null,null,null,null,null,null,null,null,null,null,null,null,null,"080903301","P.S. ALFAMAYO","2454","3","08","09","03","11","03","02","080903","0302",1,"308","0302-P.S. ALFAMAYO"]
[null,null,null,null,null,null,null,null,null,null,null,null,null,null,null,null,null,null,null,"080903302","P.S. HUAYOPATA","2455","3","08","09","03","11","03","02","080903","0302",1,"308","0302-P.S. HUAYOPATA"]
[null,null,null,null,null,null,null,null,null,null,null,null,null,null,null,null,null,null,null,"080903303","P.S. AMAYBAMBA","2456","3","08","09","03","11","03","02","080903","0302",5,"308","0302-P.S. AMAYBAMBA"]
[null,null,null,null,null,null,null,null,null,null,null,null,null,null,null,null,null,null,null,"080903304","P.S. SAN PABLO","2457","3","08","09","03","11","03","02","080903","0302",2,"308","0302-P.S. SAN PABLO"]
[null,null,null,null,null,null,null,null,null,null,null,null,null,null,null,null,null,null,null,"080904201","C.S. MARANURA","2458","2","08","09","04","11","03","02","080904","0302",2,"208","0302-C.S. MARANURA"]
[null,null,null,null,null,null,null,null,null,null,null,null,null,null,null,null,null,null,null,"080904302","P.S. SANTA MARIA","2460","3","08","09","04","11","03","02","080904","0302",2,"308","0302-P.S. SANTA MARIA"]
[null,null,null,null,null,null,null,null,null,null,null,null,null,null,null,null,null,null,null,"080904303","P.S. UCHUMAYO","2461","3","08","09","04","11","03","02","080904","0302",2,"308","0302-P.S. UCHUMAYO"]
[null,null,null,null,null,null,null,null,null,null,null,null,null,null,null,null,null,null,null,"080905301","P.S. OCCOBAMBA","2462","3","08","09","05","11","03","03","080905","0303",2,"308","0303-P.S. OCCOBAMBA"]
[null,null,null,null,null,null,null,null,null,null,null,null,null,null,null,null,null,null,null,"080905302","P.S. CHINGANILLA","2463","3","08","09","05","11","03","03","080905","0303",2,"308","0303-P.S. CHINGANILLA"]
[null,null,null,null,null,null,null,null,null,null,null,null,null,null,null,null,null,null,null,"080905303","P.S. VERSALLES","2464","3","08","09","05","11","02","08","080905","0208",2,"308","0208-P.S. VERSALLES"]
[null,null,null,null,null,null,null,null,null,null,null,null,null,null,null,null,null,null,null,"080906201","C.S. QUELLOUNO","2465","2","08","09","06","11","03","03","080906","0303",2,"208","0303-C.S. QUELLOUNO"]
[null,null,null,null,null,null,null,null,null,null,null,null,null,null,null,null,null,null,null,"080906301","P.S. HUILLCAPAMPA","2466","3","08","09","06","11","03","03","080906","0303",2,"308","0303-P.S. HUILLCAPAMPA"]
[null,null,null,null,null,null,null,null,null,null,null,null,null,null,null,null,null,null,null,"080906302","P.S. PTE. SANTIAGO","2467","3","08","09","06","11","02","08","080906","0208",2,"308","0208-P.S. PTE. SANTIAGO"]
[null,null,null,null,null,null,null,null,null,null,null,null,null,null,null,null,null,null,null,"080906303","P.S. SAN MARTIN","2468","3","08","09","06","11","03","03","080906","0303",3,"308","0303-P.S. SAN MARTIN"]
[null,null,null,null,null,null,null,null,null,null,null,null,null,null,null,null,null,null,null,"080907201","C.S. KIMBIRI","2469","2","08","09","07","11","05","07","080907","0507",3,"208","0507-C.S. KIMBIRI"]
[null,null,null,null,null,null,null,null,null,null,null,null,null,null,null,null,null,null,null,"080907301","P.S. CHIRUMPIARI","2470","3","08","09","07","11","05","07","080907","0507",3,"308","0507-P.S. CHIRUMPIARI"]
[null,null,null,null,null,null,null,null,null,null,null,null,null,null,null,null,null,null,null,"080907304","P.S. LOBO TAHUANTINSUYO","2471","3","08","09","07","11","05","07","080907","0507",4,"308","0507-P.S. LOBO TAHUANTINSUYO"]
[null,null,null,null,null,null,null,null,null,null,null,null,null,null,null,null,null,null,null,"080907305","P.S. MAPITUNARI","2472","3","08","09","07","11","05","07","080907","0507",4,"308","0507-P.S. MAPITUNARI"]
[null,null,null,null,null,null,null,null,null,null,null,null,null,null,null,null,null,null,null,"080907306","P.S. UNION ROSALES","2473","3","08","09","07","11","05","07","080907","0507",5,"308","0507-P.S. UNION ROSALES"]
[null,null,null,null,null,null,null,null,null,null,null,null,null,null,null,null,null,null,null,"080907307","P.S. SAMANIATO","2474","3","08","09","07","11","05","07","080907","0507",5,"308","0507-P.S. SAMANIATO"]
[null,null,null,null,null,null,null,null,null,null,null,null,null,null,null,null,null,null,null,"080907308","P.S. KIMBIRI ALTO","2475","3","08","09","07","11","05","07","080907","0507",5,"308","0507-P.S. KIMBIRI ALTO"]
[null,null,null,null,null,null,null,null,null,null,null,null,null,null,null,null,null,null,null,"080908201","C.S. SANTA TERESA","2476","2","08","09","08","11","03","02","080908","0302",6,"208","0302-C.S. SANTA TERESA"]
[null,null,null,null,null,null,null,null,null,null,null,null,null,null,null,null,null,null,null,"080908303","P.S. SULLUCUYOC","2477","3","08","09","08","11","03","02","080908","0302",6,"308","0302-P.S. SULLUCUYOC"]
[null,null,null,null,null,null,null,null,null,null,null,null,null,null,null,null,null,null,null,"080908304","P.S. TOTORA","2478","3","08","09","08","11","03","02","080908","0302",6,"308","0302-P.S. TOTORA"]
[null,null,null,null,null,null,null,null,null,null,null,null,null,null,null,null,null,null,null,"080909302","C.S. VILLA VIRGEN","2479","2","08","09","09","11","05","07","080909","0507",9,"208","0507-C.S. VILLA VIRGEN"]
[null,null,null,null,null,null,null,null,null,null,null,null,null,null,null,null,null,null,null,"080909202","C.S. PUCYURA","2480","2","08","09","09","11","03","06","080909","0306",9,"208","0306-C.S. PUCYURA"]
[null,null,null,null,null,null,null,null,null,null,null,null,null,null,null,null,null,null,null,"080909301","P.S. CCARCO","2481","3","08","09","09","11","03","06","080909","0306",9,"308","0306-P.S. CCARCO"]
[null,null,null,null,null,null,null,null,null,null,null,null,null,null,null,null,null,null,null,"080909304","P.S. INCAHUASI","2482","3","08","09","09","11","03","06","080909","0306",null,null,"0306-P.S. INCAHUASI"]
[null,null,null,null,null,null,null,null,null,null,null,null,null,null,null,null,null,null,null,"080909306","P.S. OYARA","2484","3","08","09","09","11","03","06","080909","0306",4,{"$f":"CONCATENATE(W204,X204)","v":"308"},"0306-P.S. OYARA"]
[null,null,null,null,null,null,null,null,null,null,null,null,null,null,null,null,null,null,null,"080909307","P.S. PACCAYBAMBA","2485","3","08","09","09","11","03","06","080909","0306",7,"308","0306-P.S. PACCAYBAMBA"]
[null,null,null,null,null,null,null,null,null,null,null,null,null,null,null,null,null,null,null,"080909308","P.S. PAMPACONAS","2486","3","08","09","09","11","03","06","080909","0306",7,"308","0306-P.S. PAMPACONAS"]
[null,null,null,null,null,null,null,null,null,null,null,null,null,null,null,null,null,null,null,"080909309","P.S. CHOQUETIRA","2487","3","08","09","09","11","03","06","080909","0306",7,"308","0306-P.S. CHOQUETIRA"]
[null,null,null,null,null,null,null,null,null,null,null,null,null,null,null,null,null,null,null,"080909310","P.S. VILLA QUINTIARINA","2488","3","08","09","09","11","05","07","080909","0507",7,"308","0507-P.S. VILLA QUINTIARINA"]
[null,null,null,null,null,null,null,null,null,null,null,null,null,null,null,null,null,null,null,"080909311","P.S. YUVENI","2489","3","08","09","09","11","03","04","080909","0304",7,"308","0304-P.S. YUVENI"]
[null,null,null,null,null,null,null,null,null,null,null,null,null,null,null,null,null,null,null,"080909312","P.S. ARMA","2490","3","08","09","09","11","03","06","080909","0306",null,null,{"$f":"CONCATENATE(AE210,\"-\",U210)","v":"0306-P.S. ARMA"}]
[null,null,null,null,null,null,null,null,null,null,null,null,null,null,null,null,null,null,null,"080909314","P.S. PALTAYBAMBA","2492","3","08","09","09","11","03","06","080909","0306",null,null,"0306-P.S. PALTAYBAMBA"]
[null,null,null,null,null,null,null,null,null,null,null,null,null,null,null,null,null,null,null,"080909315","P.S. SELVA ALEGRE","2493","3","08","09","09","11","03","04","080909","0304",null,null,"0304-P.S. SELVA ALEGRE"]
[null,null,null,null,null,null,null,null,null,null,null,null,null,null,null,null,null,null,null,"080910201","C.S. PICHARI","2494","2","08","09","10","11","05","08","080910","0508",null,null,"0508-C.S. PICHARI"]
[null,null,null,null,null,null,null,null,null,null,null,null,null,null,null,null,null,null,null,"080910301","P.S. MANTARO","2495","3","08","09","10","11","05","08","080910","0508",null,null,"0508-P.S. MANTARO"]
[null,null,null,null,null,null,null,null,null,null,null,null,null,null,null,null,null,null,null,"080910302","P.S. OMAYA","2496","3","08","09","10","11","05","08","080910","0508",2,{"$f":"CONCATENATE(W215,X215)","v":"308"},"0508-P.S. OMAYA"]
[null,null,null,null,null,null,null,null,null,null,null,null,null,null,null,null,null,null,null,"080910303","P.S. OTARI","2497","3","08","09","10","11","05","08","080910","0508",2,"308","0508-P.S. OTARI"]
[null,null,null,null,null,null,null,null,null,null,null,null,null,null,null,null,null,null,null,"080910304","P.S. PUERTO MAYO","2498","3","08","09","10","11","05","08","080910","0508",2,"308","0508-P.S. PUERTO MAYO"]
[null,null,null,null,null,null,null,null,null,null,null,null,null,null,null,null,null,null,null,"081001201","C.S. PARURO","2499","2","08","10","01","11","01","03","081001","0103",2,"208","0103-C.S. PARURO"]
[null,null,null,null,null,null,null,null,null,null,null,null,null,null,null,null,null,null,null,"081002201","P.S. ACCHA","2500","3","08","10","02","11","01","04","081002","0104",2,"308","0104-P.S. ACCHA"]
[null,null,null,null,null,null,null,null,null,null,null,null,null,null,null,null,null,null,null,"081003301","P.S. CCAPI","2501","3","08","10","03","11","01","05","081003","0105",2,"308","0105-P.S. CCAPI"]
[null,null,null,null,null,null,null,null,null,null,null,null,null,null,null,null,null,null,null,"081003302","P.S. CCOYABAMBA","2502","3","08","10","03","11","01","05","081003","0105",2,"308","0105-P.S. CCOYABAMBA"]
[null,null,null,null,null,null,null,null,null,null,null,null,null,null,null,null,null,null,null,"081004301","P.S. COLCHA","2503","3","08","10","04","11","01","03","081004","0103",3,"308","0103-P.S. COLCHA"]
[null,null,null,null,null,null,null,null,null,null,null,null,null,null,null,null,null,null,null,"081005301","P.S. HUANOQUITE","2504","3","08","10","05","11","01","05","081005","0105",10,"308","0105-P.S. HUANOQUITE"]
[null,null,null,null,null,null,null,null,null,null,null,null,null,null,null,null,null,null,null,"081006301","P.S. OMACHA","2505","3","08","10","06","11","01","04","081006","0104",3,"308","0104-P.S. OMACHA"]
[null,null,null,null,null,null,null,null,null,null,null,null,null,null,null,null,null,null,null,"081006302","P.S. ANTAPALLPA","2506","3","08","10","06","11","01","04","081006","0104",2,"308","0104-P.S. ANTAPALLPA"]
[null,null,null,null,null,null,null,null,null,null,null,null,null,null,null,null,null,null,null,"081007301","P.S. PACCARECTAMBO","2507","3","08","10","07","11","01","05","081007","0105",2,"308","0105-P.S. PACCARECTAMBO"]
[null,null,null,null,null,null,null,null,null,null,null,null,null,null,null,null,null,null,null,"081008301","P.S. PILLPINTO","2508","3","08","10","08","11","01","13","081008","0113",2,"308","0113-P.S. PILLPINTO"]
[null,null,null,null,null,null,null,null,null,null,null,null,null,null,null,null,null,null,null,"081009201","P.S. YAURISQUE","2509","3","08","10","09","11","01","05","081009","0105",2,"308","0105-P.S. YAURISQUE"]
[null,null,null,null,null,null,null,null,null,null,null,null,null,null,null,null,null,null,null,"081101201","C.S. PAUCARTAMBO","2510","2","08","11","01","11","01","06","081101","0106",2,"208","0106-C.S. PAUCARTAMBO"]
[null,null,null,null,null,null,null,null,null,null,null,null,null,null,null,null,null,null,null,"081101301","P.S. MOLLOMARCA","2511","3","08","11","01","11","01","06","081101","0106",2,"308","0106-P.S. MOLLOMARCA"]
[null,null,null,null,null,null,null,null,null,null,null,null,null,null,null,null,null,null,null,"081102301","P.S. CAY CAY","2512","3","08","11","02","11","01","01","081102","0101",2,"308","0101-P.S. CAY CAY"]
[null,null,null,null,null,null,null,null,null,null,null,null,null,null,null,null,null,null,null,"081102302","P.S. HUASAC","2513","3","08","11","02","11","01","08","081102","0108",2,"308","0108-P.S. HUASAC"]
[null,null,null,null,null,null,null,null,null,null,null,null,null,null,null,null,null,null,null,"081103201","P.S. CHALLABAMBA","2514","3","08","11","03","11","01","06","081103","0106",2,"308","0106-P.S. CHALLABAMBA"]
[null,null,null,null,null,null,null,null,null,null,null,null,null,null,null,null,null,null,null,"081103302","P.S. PAROBAMBA","2515","3","08","11","03","11","02","06","081103","0206",3,"308","0206-P.S. PAROBAMBA"]
[null,null,null,null,null,null,null,null,null,null,null,null,null,null,null,null,null,null,null,"081104301","P.S. COLQUEPATA","2516","3","08","11","04","11","01","08","081104","0108",4,"308","0108-P.S. COLQUEPATA"]
[null,null,null,null,null,null,null,null,null,null,null,null,null,null,null,null,null,null,null,"081104303","P.S. PICHIHUA","2517","3","08","11","04","11","01","06","081104","0106",9,"308","0106-P.S. PICHIHUA"]
[null,null,null,null,null,null,null,null,null,null,null,null,null,null,null,null,null,null,null,"081104304","P.S. VIZCOCHONI","2518","3","08","11","04","11","01","08","081104","0108",9,"308","0108-P.S. VIZCOCHONI"]
[null,null,null,null,null,null,null,null,null,null,null,null,null,null,null,null,null,null,null,"081104305","P.S. AYRE","2519","3","08","11","04","11","01","06","081104","0106",9,"308","0106-P.S. AYRE"]
[null,null,null,null,null,null,null,null,null,null,null,null,null,null,null,null,null,null,null,"081105201","C.S. HUANCARANI","2520","2","08","11","05","11","01","08","081105","0108",9,"208","0108-C.S. HUANCARANI"]
[null,null,null,null,null,null,null,null,null,null,null,null,null,null,null,null,null,null,null,"081106201","C.S. PILCOPATA","2521","2","08","11","06","11","01","07","081106","0107",9,"208","0107-C.S. PILCOPATA"]
[null,null,null,null,null,null,null,null,null,null,null,null,null,null,null,null,null,null,null,"081106301","P.S. PATRIA","2522","3","08","11","06","11","01","07","081106","0107",9,"308","0107-P.S. PATRIA"]
[null,null,null,null,null,null,null,null,null,null,null,null,null,null,null,null,null,null,null,"081201201","C.S. URCOS","2523","2","08","12","01","11","01","12","081201","0112",10,"208","0112-C.S. URCOS"]
[null,null,null,null,null,null,null,null,null,null,null,null,null,null,null,null,null,null,null,"081201301","P.S. PAMPACAMARA","2524","3","08","12","01","11","01","12","081201","0112",10,"308","0112-P.S. PAMPACAMARA"]
[null,null,null,null,null,null,null,null,null,null,null,null,null,null,null,null,null,null,null,"081202301","P.S. ANDAHUAYLILLAS","2525","3","08","12","02","11","01","12","081202","0112",10,"308","0112-P.S. ANDAHUAYLILLAS"]
[null,null,null,null,null,null,null,null,null,null,null,null,null,null,null,null,null,null,null,"081203301","C.S. QUINCEMIL","2526","2","08","12","03","11","01","15","081203","0115",1,"208","0115-C.S. QUINCEMIL"]
[null,null,null,null,null,null,null,null,null,null,null,null,null,null,null,null,null,null,null,"081204301","P.S. CCARHUAYO","2527","3","08","12","04","11","01","15","081204","0115",2,"308","0115-P.S. CCARHUAYO"]
[null,null,null,null,null,null,null,null,null,null,null,null,null,null,null,null,null,null,null,"081205201","C.S. CCATCCA","2528","2","08","12","05","11","01","12","081205","0112",null,null,"0112-C.S. CCATCCA"]
[null,null,null,null,null,null,null,null,null,null,null,null,null,null,null,null,null,null,null,"081205302","P.S. KCAURY","2529","3","08","12","05","11","01","12","081205","0112",4,{"$f":"CONCATENATE(W248,X248)","v":"308"},"0112-P.S. KCAURY"]
[null,null,null,null,null,null,null,null,null,null,null,null,null,null,null,null,null,null,null,"081206301","P.S. CUSIPATA","2530","3","08","12","06","11","01","12","081206","0112",5,"308","0112-P.S. CUSIPATA"]
[null,null,null,null,null,null,null,null,null,null,null,null,null,null,null,null,null,null,null,"081207301","P.S. HUARO","2532","3","08","12","07","11","01","12","081207","0112",7,"308","0112-P.S. HUARO"]
[null,null,null,null,null,null,null,null,null,null,null,null,null,null,null,null,null,null,null,"081207302","P.S. URPAY","2533","3","08","12","07","11","01","12","081207","0112",1,"308","0112-P.S. URPAY"]
[null,null,null,null,null,null,null,null,null,null,null,null,null,null,null,null,null,null,null,"081208301","P.S. LUCRE","2534","3","08","12","08","11","01","01","081208","0101",1,"308","0101-P.S. LUCRE"]
[null,null,null,null,null,null,null,null,null,null,null,null,null,null,null,null,null,null,null,"081209301","P.S. MARCAPATA","2535","3","08","12","09","11","01","15","081209","0115",1,"308","0115-P.S. MARCAPATA"]
[null,null,null,null,null,null,null,null,null,null,null,null,null,null,null,null,null,null,null,"081210201","C.S. OCONGATE","2536","2","08","12","10","11","01","15","081210","0115",1,"208","0115-C.S. OCONGATE"]
[null,null,null,null,null,null,null,null,null,null,null,null,null,null,null,null,null,null,null,"081211201","P.S. OROPESA","2537","3","08","12","11","11","01","01","081211","0101",1,"308","0101-P.S. OROPESA"]
[null,null,null,null,null,null,null,null,null,null,null,null,null,null,null,null,null,null,null,"081212201","C.S. QUIQUIJANA","2538","2","08","12","12","11","01","12","081212","0112",1,"208","0112-C.S. QUIQUIJANA"]
[null,null,null,null,null,null,null,null,null,null,null,null,null,null,null,null,null,null,null,"081212302","P.S. COLCA","2539","3","08","12","12","11","01","12","081212","0112",7,"308","0112-P.S. COLCA"]
[null,null,null,null,null,null,null,null,null,null,null,null,null,null,null,null,null,null,null,"081301201","C.S. URUBAMBA","2540","2","08","13","01","11","02","07","081301","0207",8,"208","0207-C.S. URUBAMBA"]
[null,null,null,null,null,null,null,null,null,null,null,null,null,null,null,null,null,null,null,"081301301","P.S. YANAHUARA","2541","3","08","13","01","11","02","07","081301","0207",3,"308","0207-P.S. YANAHUARA"]
[null,null,null,null,null,null,null,null,null,null,null,null,null,null,null,null,null,null,null,"081302201","C.S. CHINCHERO","2543","2","08","13","02","11","02","07","081302","0207",6,"208","0207-C.S. CHINCHERO"]
[null,null,null,null,null,null,null,null,null,null,null,null,null,null,null,null,null,null,null,"081302301","P.S. OCCOTUAN","2544","3","08","13","02","11","02","07","081302","0207",8,"308","0207-P.S. OCCOTUAN"]
[null,null,null,null,null,null,null,null,null,null,null,null,null,null,null,null,null,null,null,"081303301","P.S. HUAYLLABAMBA","2545","3","08","13","03","11","02","07","081303","0207",8,"308","0207-P.S. HUAYLLABAMBA"]
[null,null,null,null,null,null,null,null,null,null,null,null,null,null,null,null,null,null,null,"081304201","C.S. MACHUPICCHU","2546","2","08","13","04","11","02","07","081304","0207",8,"208","0207-C.S. MACHUPICCHU"]
[null,null,null,null,null,null,null,null,null,null,null,null,null,null,null,null,null,null,null,"081305201","P.S. MARAS","2548","3","08","13","05","11","02","07","081305","0207",null,null,"0207-P.S. MARAS"]
[null,null,null,null,null,null,null,null,null,null,null,null,null,null,null,null,null,null,null,"081306201","C.S. OLLANTAYTAMBO","2549","2","08","13","06","11","02","07","081306","0207",7,{"$f":"CONCATENATE(W265,X265)","v":"208"},"0207-C.S. OLLANTAYTAMBO"]
[null,null,null,null,null,null,null,null,null,null,null,null,null,null,null,null,null,null,null,"081306301","P.S. CHILLCA","2550","3","08","13","06","11","02","07","081306","0207",4,"308","0207-P.S. CHILLCA"]
[null,null,null,null,null,null,null,null,null,null,null,null,null,null,null,null,null,null,null,"081307301","P.S. YUCAY","2551","3","08","13","07","11","02","07","081307","0207",5,"308","0207-P.S. YUCAY"]
[null,null,null,null,null,null,null,null,null,null,null,null,null,null,null,null,null,null,null,"080801301","P.S. TINTAYA MARQUIRI","6745","3","08","08","01","11","04","06","080801","0406",5,"308","0406-P.S. TINTAYA MARQUIRI"]
[null,null,null,null,null,null,null,null,null,null,null,null,null,null,null,null,null,null,null,"080701303","P.S. LLIQUE","6746","3","08","07","01","11","01","09","080701","0109",1,"308","0109-P.S. LLIQUE"]
[null,null,null,null,null,null,null,null,null,null,null,null,null,null,null,null,null,null,null,"080706303","P.S. LUTTO","6747","3","08","07","06","11","01","09","080706","0109",3,"308","0109-P.S. LUTTO"]
[null,null,null,null,null,null,null,null,null,null,null,null,null,null,null,null,null,null,null,"080706302","P.S. COLLPA","6748","3","08","07","06","11","01","09","080706","0109",1,"308","0109-P.S. COLLPA"]
[null,null,null,null,null,null,null,null,null,null,null,null,null,null,null,null,null,null,null,"080406302","P.S. TIRACANCHA","6970","3","08","04","06","11","02","05","080406","0205",2,"308","0205-P.S. TIRACANCHA"]
[null,null,null,null,null,null,null,null,null,null,null,null,null,null,null,null,null,null,null,"080408311","P.S. COMBAPATA","6971","3","08","04","08","11","02","08","080408","0208",3,"308","0208-P.S. COMBAPATA"]
[null,null,null,null,null,null,null,null,null,null,null,null,null,null,null,null,null,null,null,"080304302","P.S. PANTIPATA","6972","3","08","03","04","11","02","03","080304","0203",6,"308",{"$f":"CONCATENATE(AE274,\"-\",U274)","v":"0203-P.S. PANTIPATA"}]
[null,null,null,null,null,null,null,null,null,null,null,null,null,null,null,null,null,null,null,"080408310","P.S. BELLAVISTA","6973","3","08","04","08","11","02","08","080408","0208",6,"308","0208-P.S. BELLAVISTA"]
[null,null,null,null,null,null,null,null,null,null,null,null,null,null,null,null,null,null,null,"081304301","P.S. CAMINO INCA","6974","3","08","13","04","11","02","07","081304","0207",7,"308","0207-P.S. CAMINO INCA"]
[null,null,null,null,null,null,null,null,null,null,null,null,null,null,null,null,null,null,null,"080403302","P.S. SAYLLAFAYA","6975","3","08","04","03","11","02","05","080403","0205",8,"308","0205-P.S. SAYLLAFAYA"]
[null,null,null,null,null,null,null,null,null,null,null,null,null,null,null,null,null,null,null,"080909316","P.S. CHONTABAMBA","6976","3","08","09","09","11","03","04","080909","0304",3,"308","0304-P.S. CHONTABAMBA"]
[null,null,null,null,null,null,null,null,null,null,null,null,null,null,null,null,null,null,null,"081210301","P.S. TINKI","6977","3","08","12","10","11","01","15","081210","0115",4,"308","0115-P.S. TINKI"]
[null,null,null,null,null,null,null,null,null,null,null,null,null,null,null,null,null,null,null,"081004302","P.S. CCOCHIRIHUAY","6978","3","08","10","04","11","01","03","081004","0103",4,"308","0103-P.S. CCOCHIRIHUAY"]
[null,null,null,null,null,null,null,null,null,null,null,null,null,null,null,null,null,null,null,"081104306","P.S. TOCRA","6979","3","08","11","04","11","01","08","081104","0108",4,"308","0108-P.S. TOCRA"]
[null,null,null,null,null,null,null,null,null,null,null,null,null,null,null,null,null,null,null,"081206302","P.S. CHILLIHUANI","6980","3","08","12","06","11","01","12","081206","0112",1,"308","0112-P.S. CHILLIHUANI"]
[null,null,null,null,null,null,null,null,null,null,null,null,null,null,null,null,null,null,null,"080701304","P.S. CCOYO","6981","3","08","07","01","11","01","09","080701","0109",1,"308","0109-P.S. CCOYO"]
[null,null,null,null,null,null,null,null,null,null,null,null,null,null,null,null,null,null,null,"080701305","P.S. MELLOTOTORA","6982","3","08","07","01","11","01","09","080701","0109",2,"308","0109-P.S. MELLOTOTORA"]
[null,null,null,null,null,null,null,null,null,null,null,null,null,null,null,null,null,null,null,"080701306","P.S. ORCCOMA","6983","3","08","07","01","11","01","09","080701","0109",3,"308","0109-P.S. ORCCOMA"]
[null,null,null,null,null,null,null,null,null,null,null,null,null,null,null,null,null,null,null,"080707302","P.S. CCOLLANA","6984","3","08","07","07","11","01","09","080707","0109",5,"308","0109-P.S. CCOLLANA"]
[null,null,null,null,null,null,null,null,null,null,null,null,null,null,null,null,null,null,null,"080706304","P.S. TOTORAPALLCA","6985","3","08","07","06","11","01","09","080706","0109",6,"308","0109-P.S. TOTORAPALLCA"]
[null,null,null,null,null,null,null,null,null,null,null,null,null,null,null,null,null,null,null,"081209302","P.S. INCACANCHA","7110","3","08","12","09","11","01","15","081209","0115",6,"308","0115-P.S. INCACANCHA"]
[null,null,null,null,null,null,null,null,null,null,null,null,null,null,null,null,null,null,null,"080701307","P.S. YAVINA","7111","3","08","07","01","11","01","09","080701","0109",7,"308","0109-P.S. YAVINA"]
[null,null,null,null,null,null,null,null,null,null,null,null,null,null,null,null,null,null,null,"080707303","P.S. YORENCCA","7112","3","08","07","07","11","01","09","080707","0109",8,"308","0109-P.S. YORENCCA"]
[null,null,null,null,null,null,null,null,null,null,null,null,null,null,null,null,null,null,null,"080910307","P.S. NATIVIDAD","7113","3","08","09","10","11","05","08","080910","0508",1,"308","0508-P.S. NATIVIDAD"]
[null,null,null,null,null,null,null,null,null,null,null,null,null,null,null,null,null,null,null,"080910306","P.S. QUISTO CENTRAL","7114","3","08","09","10","11","05","08","080910","0508",1,"308","0508-P.S. QUISTO CENTRAL"]
[null,null,null,null,null,null,null,null,null,null,null,null,null,null,null,null,null,null,null,"080801101","HOSP. ESPINAR","7135","1","08","08","01","11","04","06","080801","0406",1,"108","0406-HOSP. ESPINAR"]
[null,null,null,null,null,null,null,null,null,null,null,null,null,null,null,null,null,null,null,"080408312","P.S. CHANCAMAYO","7142","3","08","04","08","11","02","08","080408","0208",1,"308","0208-P.S. CHANCAMAYO"]
[null,null,null,null,null,null,null,null,null,null,null,null,null,null,null,null,null,null,null,"081103303","P.S. OTOCANI","7143","3","08","11","03","11","02","06","081103","0206",2,"308","0206-P.S. OTOCANI"]
[null,null,null,null,null,null,null,null,null,null,null,null,null,null,null,null,null,null,null,"080407303","P.S. PATABAMBA","7144","3","08","04","07","11","02","06","080407","0206",2,"308","0206-P.S. PATABAMBA"]
[null,null,null,null,null,null,null,null,null,null,null,null,null,null,null,null,null,null,null,"080403304","P.S. HUAMA","7145","3","08","04","03","11","02","05","080403","0205",null,null,"0205-P.S. HUAMA"]
[null,null,null,null,null,null,null,null,null,null,null,null,null,null,null,null,null,null,null,"080403303","P.S. POQUES","7146","3","08","04","03","11","02","05","080403","0205",null,null,"0205-P.S. POQUES"]
[null,null,null,null,null,null,null,null,null,null,null,null,null,null,null,null,null,null,null,"081006303","P.S. HUASQUILLAY","7147","3","08","10","06","11","01","04","081006","0104",8,{"$f":"CONCATENATE(W299,X299)","v":"308"},"0104-P.S. HUASQUILLAY"]
[null,null,null,null,null,null,null,null,null,null,null,null,null,null,null,null,null,null,null,"080104301","P.S. CONCHACALLE","7699","3","08","01","04","11","01","01","080104","0101",8,"308","0101-P.S. CONCHACALLE"]
[null,null,null,null,null,null,null,null,null,null,null,null,null,null,null,null,null,null,null,"080503201","P.S. EL DESCANSO","7700","3","08","05","03","11","04","02","080503","0402",8,"308","0402-P.S. EL DESCANSO"]
[null,null,null,null,null,null,null,null,null,null,null,null,null,null,null,null,null,null,null,"080907309","P.S. PUEBLO LIBRE","8283","3","08","09","07","11","05","07","080907","0507",9,"308","0507-P.S. PUEBLO LIBRE"]
[null,null,null,null,null,null,null,null,null,null,null,null,null,null,null,null,null,null,null,"080907310","P.S. MANITEA ALTA","8284","3","08","09","07","11","05","07","080907","0507",9,"308","0507-P.S. MANITEA ALTA"]
[null,null,null,null,null,null,null,null,null,null,null,null,null,null,null,null,null,null,null,"080907311","P.S. ANGELES","8285","3","08","09","07","11","05","07","080907","0507",9,"308","0507-P.S. ANGELES"]
[null,null,null,null,null,null,null,null,null,null,null,null,null,null,null,null,null,null,null,"080906304","P.S. ESTRELLA","8906","3","08","09","06","11","03","03","080906","0303",9,"308","0303-P.S. ESTRELLA"]
[null,null,null,null,null,null,null,null,null,null,null,null,null,null,null,null,null,null,null,"080906305","P.S. MATORIATO","8907","3","08","09","06","11","03","03","080906","0303",9,"308","0303-P.S. MATORIATO"]
[null,null,null,null,null,null,null,null,null,null,null,null,null,null,null,null,null,null,null,"080906306","P.S. CHIRUMBIA","8908","3","08","09","06","11","03","03","080906","0303",10,"308","0303-P.S. CHIRUMBIA"]
[null,null,null,null,null,null,null,null,null,null,null,null,null,null,null,null,null,null,null,"080906307","P.S. CHAPO BOYERO","8909","3","08","09","06","11","03","03","080906","0303",null,null,"0303-P.S. CHAPO BOYERO"]
[null,null,null,null,null,null,null,null,null,null,null,null,null,null,null,null,null,null,null,"080901304","P.S. SANTA ANA","8910","3","08","09","01","11","03","01","080901","0301",null,null,"0301-P.S. SANTA ANA"]
[null,null,null,null,null,null,null,null,null,null,null,null,null,null,null,null,null,null,null,"081205303","P.S. HUARA HUARA","8911","3","08","12","05","11","01","12","081205","0112",null,null,"0112-P.S. HUARA HUARA"]
[null,null,null,null,null,null,null,null,null,null,null,null,null,null,null,null,null,null,null,"080708302","P.S. ALCCA VICTORIA","8912","3","08","07","08","11","01","10","080708","0110",3,{"$f":"CONCATENATE(W311,X311)","v":"308"},"0110-P.S. ALCCA VICTORIA"]
[null,null,null,null,null,null,null,null,null,null,null,null,null,null,null,null,null,null,null,"080701308","P.S. HUARACCO","8913","3","08","07","01","11","01","09","080701","0109",4,{"$f":"CONCATENATE(W312,X312)","v":"308"},"0109-P.S. HUARACCO"]
[null,null,null,null,null,null,null,null,null,null,null,null,null,null,null,null,null,null,null,"080704303","P.S. HUAYLLANI","8914","3","08","07","04","11","01","11","080704","0111",5,{"$f":"CONCATENATE(W313,X313)","v":"308"},"0111-P.S. HUAYLLANI"]
[null,null,null,null,null,null,null,null,null,null,null,null,null,null,null,null,null,null,null,"080701309","P.S. PFULLPURI CONDEPAMPA","8915","3","08","07","01","11","01","09","080701","0109",6,{"$f":"CONCATENATE(W314,X314)","v":"308"},"0109-P.S. PFULLPURI CONDEPAMPA"]
[null,null,null,null,null,null,null,null,null,null,null,null,null,null,null,null,null,null,null,"080601999","Essalud (Sicuani)","","","08","06","01","11","04","04","080601","0404",6,{"$f":"CONCATENATE(W315,X315)","v":"08"},{"$f":"CONCATENATE(AE315,\"-\",U315)","v":"0404-Essalud (Sicuani)"}]
[null,null,null,null,null,null,null,null,null,null,null,null,null,null,null,null,null,null,null,"080801999","Essalud(Yauri)","","","08","08","01","11","04","06","080801","0406",null,null,"0406-Essalud(Yauri)"]
[null,null,null,null,null,null,null,null,null,null,null,null,null,null,null,null,null,null,null,"080702302","Ps Cancahuani","","","08","07","02","11","03","01","080702","0301",null,null,"0301-Ps Cancahuani"]
[null,null,null,null,null,null,null,null,null,null,null,null,null,null,null,null,null,null,null,"080901999","ESSALUD (Sta Ana)","","","08","09","01","11","03","01","080901","0301",null,null,"0301-ESSALUD (Sta Ana)"]
[null,null,null,null,null,null,null,null,null,null,null,null,null,null,null,null,null,null,null,"080401999","ESSALUD(Calca)","","","08","04","01","11","02","06","080401","0206",null,null,"0206-ESSALUD(Calca)"]
[null,null,null,null,null,null,null,null,null,null,null,null,null,null,null,null,null,null,null,"080106999","Essalud (Santiago)","","","08","01","06","11","02","01","080106","0201",null,null,"0201-Essalud (Santiago)"]
[null,null,null,null,null,null,null,null,null,null,null,null,null,null,null,null,null,null,null,"080108998","Essalud Wanchac(Metrop)","","","08","01","08","11","02","02","080108","0202",null,null,"0202-Essalud Wanchac(Metrop)"]
[null,null,null,null,null,null,null,null,null,null,null,null,null,null,null,null,null,null,null,"080108999","Essalud Wanchac(Central)","","","08","01","08","11","02","02","080108","0202",null,null,"0202-Essalud Wanchac(Central)"]
[null,null,null,null,null,null,null,null,null,null,null,null,null,null,null,null,null,null,null,"081301999","Essalud (Urubamba)","","","08","13","01","11","02","07","081301","0207",null,null,"0207-Essalud (Urubamba)"]
[null,null,null,null,null,null,null,null,null,null,null,null,null,null,null,null,null,null,null,"080702302","Ps Cancahuani","","","08","07","02","11","01","11","080702","0111",null,null,"0111-Ps Cancahuani"]
[null,null,null,null,null,null,null,null,null,null,null,null,null,null,null,null,null,null,null,"080105000","Otros Sectores","","","08","01","05","11","01","02","080105","0102",null,null,"0102-Otros Sectores"]
[null,null,null,null,null,null,null,null,null,null,null,null,null,null,null,null,null,null,null,"080105999","ESSALUD (San  Sebas)","","","08","01","05","11","01","02","080105","0102",null,null,"0102-ESSALUD (San  Sebas)"]
[null,null,null,null,null,null,null,null,null,null,null,null,null,null,null,null,null,null,null,"081101999","ESSALUD (Paucarta)","","","08","11","01","11","01","06","081101","0106",null,null,"0106-ESSALUD (Paucarta)"]
[null,null,null,null,null,null,null,null,null,null,null,null,null,null,null,null,null,null,null,"081201999","ESSALUD (Urcos","","","08","12","01","11","01","12","081201","0112",null,null,"0112-ESSALUD (Urcos"]
[null,null,null,null,null,null,null,null,null,null,null,null,null,null,null,null,null,null,null,null,"(Todos)",null,null,null,null,null,null,null,null,null,"0101",null,null,"0000-(Todos)"]
[null,null,null,null,null,null,null,null,null,null,null,null,null,null,null,null,null,null,null,null,"(Todos)",null,null,null,null,null,null,null,null,null,"0102",null,null,"0000-(Todos)"]
[null,null,null,null,null,null,null,null,null,null,null,null,null,null,null,null,null,null,null,null,"(Todos)",null,null,null,null,null,null,null,null,null,"0103",null,null,"0000-(Todos)"]
[null,null,null,null,null,null,null,null,null,null,null,null,null,null,null,null,null,null,null,null,"(Todos)",null,null,null,null,null,null,null,null,null,"0104",null,null,"0000-(Todos)"]
[null,null,null,null,null,null,null,null,null,null,null,null,null,null,null,null,null,null,null,null,"(Todos)",null,null,null,null,null,null,null,null,null,"0105",null,null,"0000-(Todos)"]
[null,null,null,null,null,null,null,null,null,null,null,null,null,null,null,null,null,null,null,null,"(Todos)",null,null,null,null,null,null,null,null,null,"0106",null,null,"0000-(Todos)"]
[null,null,null,null,null,null,null,null,null,null,null,null,null,null,null,null,null,null,null,null,"(Todos)",null,null,null,null,null,null,null,null,null,"0107",null,null,"0000-(Todos)"]
[null,null,null,null,null,null,null,null,null,null,null,null,null,null,null,null,null,null,null,null,"(Todos)",null,null,null,null,null,null,null,null,null,"0108",null,null,"0000-(Todos)"]
[null,null,null,null,null,null,null,null,null,null,null,null,null,null,null,null,null,null,null,null,"(Todos)",null,null,null,null,null,null,null,null,null,"0109",null,null,"0000-(Todos)"]
[null,null,null,null,null,null,null,null,null,null,null,null,null,null,null,null,null,null,null,null,"(Todos)",null,null,null,null,null,null,null,null,null,"0110",null,null,"0000-(Todos)"]
[null,null,null,null,null,null,null,null,null,null,null,null,null,null,null,null,null,null,null,null,"(Todos)",null,null,null,null,null,null,null,null,null,"0111",null,null,"0000-(Todos)"]
[null,null,null,null,null,null,null,null,null,null,null,null,null,null,null,null,null,null,null,null,"(Todos)",null,null,null,null,null,null,null,null,null,"0112",null,null,"0000-(Todos)"]
[null,null,null,null,null,null,null,null,null,null,null,null,null,null,null,null,null,null,null,null,"(Todos)",null,null,null,null,null,null,null,null,null,"0113",null,null,"0000-(Todos)"]
[null,null,null,null,null,null,null,null,null,null,null,null,null,null,null,null,null,null,null,null,"(Todos)",null,null,null,null,null,null,null,null,null,"0114",null,null,"0000-(Todos)"]
[null,null,null,null,null,null,null,null,null,null,null,null,null,null,null,null,null,null,null,null,"(Todos)",null,null,null,null,null,null,null,null,null,"0115",null,null,"0000-(Todos)"]
[null,null,null,null,null,null,null,null,null,null,null,null,null,null,null,null,null,null,null,null,"(Todos)",null,null,null,null,null,null,null,null,null,"0201",null,null,"0000-(Todos)"]
[null,null,null,null,null,null,null,null,null,null,null,null,null,null,null,null,null,null,null,null,"(Todos)",null,null,null,null,null,null,null,null,null,"0202",null,null,"0000-(Todos)"]
[null,null,null,null,null,null,null,null,null,null,null,null,null,null,null,null,null,null,null,null,"(Todos)",null,null,null,null,null,null,null,null,null,"0203",null,null,"0000-(Todos)"]
[null,null,null,null,null,null,null,null,null,null,null,null,null,null,null,null,null,null,null,null,"(Todos)",null,null,null,null,null,null,null,null,null,"0204",null,null,"0000-(Todos)"]
[null,null,null,null,null,null,null,null,null,null,null,null,null,null,null,null,null,null,null,null,"(Todos)",null,null,null,null,null,null,null,null,null,"0205",null,null,"0000-(Todos)"]
[null,null,null,null,null,null,null,null,null,null,null,null,null,null,null,null,null,null,null,null,"(Todos)",null,null,null,null,null,null,null,null,null,"0206",null,null,"0000-(Todos)"]
[null,null,null,null,null,null,null,null,null,null,null,null,null,null,null,null,null,null,null,null,"(Todos)",null,null,null,null,null,null,null,null,null,"0207",null,null,"0000-(Todos)"]
[null,null,null,null,null,null,null,null,null,null,null,null,null,null,null,null,null,null,null,null,"(Todos)",null,null,null,null,null,null,null,null,null,"0208",null,null,"0000-(Todos)"]
[null,null,null,null,null,null,null,null,null,null,null,null,null,null,null,null,null,null,null,null,"(Todos)",null,null,null,null,null,null,null,null,null,"0209",null,null,"0000-(Todos)"]
[null,null,null,null,null,null,null,null,null,null,null,null,null,null,null,null,null,null,null,null,"(Todos)",null,null,null,null,null,null,null,null,null,"0301",null,null,"0000-(Todos)"]
[null,null,null,null,null,null,null,null,null,null,null,null,null,null,null,null,null,null,null,null,"(Todos)",null,null,null,null,null,null,null,null,null,"0302",null,null,"0000-(Todos)"]
[null,null,null,null,null,null,null,null,null,null,null,null,null,null,null,null,null,null,null,null,"(Todos)",null,null,null,null,null,null,null,null,null,"0303",null,null,"0000-(Todos)"]
[null,null,null,null,null,null,null,null,null,null,null,null,null,null,null,null,null,null,null,null,"(Todos)",null,null,null,null,null,null,null,null,null,"0304",null,null,"0000-(Todos)"]
[null,null,null,null,null,null,null,null,null,null,null,null,null,null,null,null,null,null,null,null,"(Todos)",null,null,null,null,null,null,null,null,null,"0305",null,null,"0000-(Todos)"]
[null,null,null,null,null,null,null,null,null,null,null,null,null,null,null,null,null,null,null,null,"(Todos)",null,null,null,null,null,null,null,null,null,"0306",null,null,"0000-(Todos)"]
[null,null,null,null,null,null,null,null,null,null,null,null,null,null,null,null,null,null,null,null,"(Todos)",null,null,null,null,null,null,null,null,null,"0401",null,null,"0000-(Todos)"]
[null,null,null,null,null,null,null,null,null,null,null,null,null,null,null,null,null,null,null,null,"(Todos)",null,null,null,null,null,null,null,null,null,"0402",null,null,"0000-(Todos)"]
[null,null,null,null,null,null,null,null,null,null,null,null,null,null,null,null,null,null,null,null,"(Todos)",null,null,null,null,null,null,null,null,null,"0403",null,null,"0000-(Todos)"]
[null,null,null,null,null,null,null,null,null,null,null,null,null,null,null,null,null,null,null,null,"(Todos)",null,null,null,null,null,null,null,null,null,"0404",null,null,"0000-(Todos)"]
[null,null,null,null,null,null,null,null,null,null,null,null,null,null,null,null,null,null,null,null,"(Todos)",null,null,null,null,null,null,null,null,null,"0405",null,null,"0000-(Todos)"]
[null,null,null,null,null,null,null,null,null,null,null,null,null,null,null,null,null,null,null,null,"(Todos)",null,null,null,null,null,null,null,null,null,"0406",null,null,"0000-(Todos)"]
[null,null,null,null,null,null,null,null,null,null,null,null,null,null,null,null,null,null,null,null,"(Todos)",null,null,null,null,null,null,null,null,null,"0507",null,null,"0000-(Todos)"]
[null,null,null,null,null,null,null,null,null,null,null,null,null,null,null,null,null,null,null,null,"(Todos)",null,null,null,null,null,null,null,null,null,"0508",null,null,"0000-(Todos)"]

{"sheet":"INICIO","index":1,"n_rows":128,"n_cols":223,"rows_kept":128,"cut":false,"hidden":false,"merged":[]}
[]
[]
[]
[]
[]
[]
[]
[]
[]
[]
[]
[]
[null,null,1,null,3]
[]
[]
[]
[]
[]
[]
[]
[]
[]
[]
[]
[]
[]
[]
[null,"año","2010"]
[null,"meses",1,2,3,4,5,6,7,8,9,10,11,12]
[null,null,{"$f":"IF(C29>=1,C29,\" \")","v":1},{"$f":"IF(D29>=1,D29,\" \")","v":2},{"$f":"IF(E29>=1,E29,\" \")","v":3},{"$f":"IF(F29>=1,F29,\" \")","v":4},{"$f":"IF(G29>=1,G29,\" \")","v":5},{"$f":"IF(H29>=1,H29,\" \")","v":6},7,8,9,10,11,12]
[null,"redes","06-(Todas)",null,{"$f":"TRIM(MID(C31,4,25))","v":"(Todas)"}]
[null,"micro red","06-(Todas)",null,{"$f":"TRIM(MID(C32,4,25))","v":"(Todas)"}]
[null,"establecimiento  ","0000-(Todas)",null,{"$f":"TRIM(MID(C33,6,25))","v":"(Todas)"}]
[null,"provincia ","00-(Todas)",null,{"$f":"TRIM(MID(C34,4,25))","v":"(Todas)"}]
[null,"distrito","0000-(Todas)",null,{"$f":"TRIM(MID(C35,6,25))","v":"(Todas)"}]
[]
[]
[]
[]
[]
[]
[]
["cod_ano","2025"]
["red","(All)"]
["mred","YAURI"]
["estable","HOSP. ESPINAR"]
["desc_prov","(All)"]
["desc_dist","(All)"]
[]
[null,"Valores"]
["MES","  s01","  s02","  s03","  s04","  s05","  s06","  s07","  s08","  s09","  s10","  s11","  s12","  s13","  s14","  s15","  s16","  s17","  s18","  s19","  s20","  s21","  s22","  s23","  s24","  s25","  s26","  s27","  s28","  s29","  s30","  s31","  s32","  s33","  s34","  s35","  s36","  s37","  s38","  s39","  s40","  s41","  s42","  s43","  s44","  s45","  s46","  s47","  s48","  s49","  s50","  s51","  s52","  s53","  s54","  s55","  s56","  s57","  s58","  s59","  s60","  s61","  s62","  s63","  s64","  s65","  s66","  s67","  s68","  s69","  s70","  s71","  s72","  s73","  s74","  s75","  s76","  s77","  s78","  s79","  s80","  s81","  s82","  s83","  s84","  s85","  s86","  s87","  s88","  s89","  s90","  s91","  s92","  s93","  s94","  s95","  s96","  s97","  s98","  s99","  s100","  s101","  s102","  s103","  s104","  s105","  s106","  s107","  s108","  s109","  s110","  s111","  s112","  s113","  s114","  s115","  s116","  s117","  s118","  s119","  s120","  s121","  s122","  s123","  s124","  s125","  s126","  s127","  s128","  s129","  s130","  s131","  s132","  s133","  s134","  s135","  s136","  s137","  s138","  s139","  s140","  s141","  s142","  s143","  s144","  s145","  s146","  s147","  s148","  s149","  s150","  s151","  s152","  s153","  s154","  s155","  s156","  s157","  s158","  s159","  s160","  s161","  s162","  s163","  s164","  s165","  s166","  s167","  s168","  s169","  s170","  s171","  s172","  s173","  s174","  s175","  s176","  s177","  s178","  s179","  s180","  s181","  s182","  s183","  s184","  s185","  s186","  s187","  s188","  s189","  s190","  s191","  s192","  s193","  s194","  s195","  s196","  s197","  s198","  s199","  s200","  s201","  s202","  s203","  s204","  s205","  s206","  s207","  s208","  s209","  s210","  s211","  s212","  s213","  s214","  s215","  s216","  s217","  s218","  s219","  s220","  s221","  s222"]
[1,393,0,19,0,0,0,0,0,0,0,469,0,0,0,0,0,0,646,0,51,0,0,0,0,0,0,0,960,0,0,0,0,0,0,114,83,0,120,0,0,0,0,0,0,0,0,235,130,0,143,0,0,0,0,0,0,0,0,268,0,723,0,1066,175,166,0,1802,423,470,0,52,110,124,65,206,304,191,111,89,55,720,1447,211,150,145,1747,2324,405,59,17,113,117,50,79,1172,1232,469,307,0,0,2351,2272,960,569,0,0,1057,1164,419,138,2209,1822,643,213,167,106,995,1800,308,347,267,2358,3050,640,0,0,0,0,0,0,2873,881,5583,1657,317,508,268,723,1407,2695,2873,351,5583,812,144,295,93,356,2873,5583,6154,11549,2778,4887,273,614,0,0,0,0,0,0,0,0,0,0,0,0,0,0,0,0,0,0,0,0,0,0,0,0,0,0,0,0,0,0,0,0,0,0,0,0,0,0,0,0,0,0,0,0,0,0,0,0,0,0,0,0,0,0,0,0,0,0,0,0,0,0,0,0,0,0]
[2,286,0,13,0,0,0,0,0,0,0,648,0,0,0,0,0,0,751,0,43,0,0,0,0,0,0,0,2087,0,0,0,0,0,0,68,28,0,149,0,0,0,0,0,0,0,0,223,64,0,234,0,0,0,0,0,0,0,0,140,0,507,0,889,131,19,0,2395,436,227,0,45,134,102,46,351,585,209,90,60,67,636,1040,241,171,202,1728,2991,640,54,18,87,115,38,67,815,908,648,186,0,0,2258,2622,2087,499,0,0,128,466,297,57,1918,1797,626,154,101,143,747,1298,286,433,473,2198,3893,897,0,0,0,0,0,0,2371,947,6967,2881,245,521,140,507,1039,3058,2371,327,6967,1235,127,373,43,312,2371,6967,3523,12389,948,4495,244,906,0,0,0,0,0,0,0,0,0,0,0,0,0,0,0,0,0,0,0,0,0,0,0,0,0,0,0,0,0,0,0,0,0,0,0,0,0,0,0,0,0,0,0,0,0,0,0,0,0,0,0,0,0,0,0,0,0,0,0,0,0,0,0,0,0,0]
[3,228,0,19,0,0,0,0,0,0,0,250,0,0,0,0,0,0,597,0,295,0,0,0,0,0,0,0,667,0,0,0,0,0,0,77,54,0,103,0,0,0,0,0,0,0,0,211,111,0,249,0,0,0,0,0,0,0,0,120,0,538,0,913,101,13,0,2668,431,242,0,20,51,50,27,174,233,135,113,54,40,536,917,183,169,197,1656,2730,602,59,26,116,123,50,69,702,926,250,170,0,0,2432,2910,667,522,0,0,170,346,126,63,2228,1652,304,188,102,96,659,1155,283,317,383,2162,3636,923,0,0,0,0,0,0,1878,497,6009,1559,234,571,120,538,1027,3341,1878,148,6009,655,94,366,363,374,1878,6009,3000,11793,705,4372,198,700,0,0,0,0,0,0,0,0,0,0,0,0,0,0,0,0,0,0,0,0,0,0,0,0,0,0,0,0,0,0,0,0,0,0,0,0,0,0,0,0,0,0,0,0,0,0,0,0,0,0,0,0,0,0,0,0,0,0,0,0,0,0,0,0,0,0]
["Grand Total",907,0,51,0,0,0,0,0,0,0,1367,0,0,0,0,0,0,1994,0,389,0,0,0,0,0,0,0,3714,0,0,0,0,0,0,259,165,0,372,0,0,0,0,0,0,0,0,669,305,0,626,0,0,0,0,0,0,0,0,528,0,1768,0,2868,407,198,0,6865,1290,939,0,117,295,276,138,731,1122,535,314,203,162,1892,3404,635,490,544,5131,8045,1647,172,61,316,355,138,215,2689,3066,1367,663,0,0,7041,7804,3714,1590,0,0,1355,1976,842,258,6355,5271,1573,555,370,345,2401,4253,877,1097,1123,6718,10579,2460,0,0,0,0,0,0,7122,2325,18559,6097,796,1600,528,1768,3473,9094,7122,826,18559,2702,365,1034,499,1042,7122,18559,12677,35731,4431,13754,715,2220,0,0,0,0,0,0,0,0,0,0,0,0,0,0,0,0,0,0,0,0,0,0,0,0,0,0,0,0,0,0,0,0,0,0,0,0,0,0,0,0,0,0,0,0,0,0,0,0,0,0,0,0,0,0,0,0,0,0,0,0,0,0,0,0,0,0]
[]
[]
[]
[]
[]
[]
[]
[]
[]
[]
[]
[]
[]
[]
["cod_ano","2025"]
["red","CANAS-CANCHIS-ESPINAR"]
["mred","YAURI"]
["estable","HOSP. ESPINAR"]
["desc_prov","(All)"]
["desc_dist","(All)"]
[]
[null,"Valores"]
["Row Labels","  t01","  t02","  t03","  t04","  t05","  t06","  t07","  t08","  t09","  t10","  t11","  t12","  t13","  t14","  t15","  t16","  t17","  t18","  t19","  t20","  t21","  t22","  t23","  t24","  t25","  t26","  t27","  t28","  t29","  t30","  t31","  t32","  t33","  t34","  t35","  t36","  t37","  t38","  t39","  t40","  t41","  t42","  t43","  t44","  t45","  t46","  t47","  t48","  t49","  t50","  t51","  t52","  t53","  t54","  t55","  t56","  t57","  t58","  t59","  t60","  t61","  t62","  t63","  t64","  t65","  t66","  t67","  t68","  t69","  t70","  t71","  t72","  t73","  t74","  t75","  t76","  t77","  t78","  t79","  t80","  t81","  t82","  t83","  t84","  t85","  t86","  t87","  t88","  t89","  t90","  t91","  t92","  t93","  t94","  t95","  t96","  t97","  t98","  t99","  t100","  t101","  t102","  t103","  t104","  t105","  t106","  t107","  t108","  t109","  t110","  t111","  t112","  t113","  t114","  t115","  t116","  t117","  t118","  t119","  t120","  t121","  t122","  t123","  t124","  t125","  t126","  t127","  t128","  t129","  t130","  t131","  t132","  t133","  t134","  t135","  t136","  t137","  t138","  t139","  t140","  t141","  t142","  t143","  t144","  t145","  t146","  t147","  t148","  t149","  t150","  t151","  t152","  t153","  t154","  t155","  t156","  t157","  t158","  t159","  t160","  t161","  t162","  t163","  t164","  t165","  t166","  t167","  t168","  t169","  t170","  t171","  t172","  t173","  t174","  t175","  t176","  t177","  t178","  t179","  t180","  t181","  t182","  t183","  t184","  t185","  t186","  t187","  t188","  t189","  t190","  t191","  t192","  t193","  t194","  t195","  t196","  t197","  t198","  t199","  t200","  t201","  t202","  t203","  t204","  t205","  t206","  t207","  t208","  t209","  t210","  t211","  t212","  t213","  t214","  t215","  t216","  t217","  t218","  t219","  t220","  t221","  t222"]
[1,0,0,0,0,0,0,0,0,0,0,0,0,0,0,0,0,0,0,0,0,0,0,0,0,0,0,0,0,0,0,0,0,0,0,0,0,64,20,2,6,0,0,0,0,0,33,3,32,3,0,6,7,16,1,0,48,0,96,744,103,90,2,0,0,0,41,41,0,6,0,151,151,0,0,0,0,0,0,0,0,0,0,0,0,0,0,0,93,0,1,0,0,0,0,0,0,0,0,0,0,0,0,0,0,0,0,0,0,0,0,0,0,0,0,0,0,0,0,0,0,0,0,0,0,0,0,0,0,0,0,0,0,0,0,0,0,0,0,0,0,0,0,0,0,0,0,0,0,0,0,0,0,0,0,0,0,0,0,0,0,0,0,0,0,0,0,0,0,0,0,0,0,0,0,0,0,0,0,0,0,0,0,0,0,0,0,0,0,0,0,0,0,0,0,0,0,0,0,0,0,0,0,0,0,0,0,0,0,0,0,0,0,0,0,0,0,0,0,0,0,0,0]
[2,0,0,0,0,0,0,0,0,0,0,0,0,0,0,0,0,0,0,0,0,0,0,0,0,0,0,0,0,0,0,0,0,0,0,0,0,48,11,1,2,0,0,0,0,0,33,1,26,2,0,10,1,13,1,0,49,0,74,672,103,71,0,0,0,0,31,30,1,7,0,127,127,0,0,0,0,0,0,0,0,0,0,0,0,0,0,0,43,0,0,0,0,0,0,0,0,0,0,0,0,0,0,0,0,0,0,0,0,0,0,0,0,0,0,0,0,0,0,0,0,0,0,0,0,0,0,0,0,0,0,0,0,0,0,0,0,0,0,0,0,0,0,0,0,0,0,0,0,0,0,0,0,0,0,0,0,0,0,0,0,0,0,0,0,0,0,0,0,0,0,0,0,0,0,0,0,0,0,0,0,0,0,0,0,0,0,0,0,0,0,0,0,0,0,0,0,0,0,0,0,0,0,0,0,0,0,0,0,0,0,0,0,0,0,0,0,0,0,0,0,0,0]
[3,0,0,0,0,0,0,0,0,0,0,0,0,0,0,0,0,0,0,0,0,0,0,0,0,0,0,0,0,0,0,0,0,0,0,0,0,49,17,0,4,0,0,0,0,0,23,5,33,5,0,3,6,19,1,0,51,0,82,744,103,80,0,0,0,0,40,40,0,5,0,131,131,0,0,0,0,0,0,0,0,0,0,0,0,0,0,0,42,0,0,0,0,0,0,0,0,0,0,0,0,0,0,0,0,0,0,0,0,0,0,0,0,0,0,0,0,0,0,0,0,0,0,0,0,0,0,0,0,0,0,0,0,0,0,0,0,0,0,0,0,0,0,0,0,0,0,0,0,0,0,0,0,0,0,0,0,0,0,0,0,0,0,0,0,0,0,0,0,0,0,0,0,0,0,0,0,0,0,0,0,0,0,0,0,0,0,0,0,0,0,0,0,0,0,0,0,0,0,0,0,0,0,0,0,0,0,0,0,0,0,0,0,0,0,0,0,0,0,0,0,0,0]
["Grand Total",0,0,0,0,0,0,0,0,0,0,0,0,0,0,0,0,0,0,0,0,0,0,0,0,0,0,0,0,0,0,0,0,0,0,0,0,161,48,3,12,0,0,0,0,0,89,9,91,10,0,19,14,48,3,0,148,0,252,2160,309,241,2,0,0,0,112,111,1,18,0,409,409,0,0,0,0,0,0,0,0,0,0,0,0,0,0,0,178,0,1,0,0,0,0,0,0,0,0,0,0,0,0,0,0,0,0,0,0,0,0,0,0,0,0,0,0,0,0,0,0,0,0,0,0,0,0,0,0,0,0,0,0,0,0,0,0,0,0,0,0,0,0,0,0,0,0,0,0,0,0,0,0,0,0,0,0,0,0,0,0,0,0,0,0,0,0,0,0,0,0,0,0,0,0,0,0,0,0,0,0,0,0,0,0,0,0,0,0,0,0,0,0,0,0,0,0,0,0,0,0,0,0,0,0,0,0,0,0,0,0,0,0,0,0,0,0,0,0,0,0,0,0]
[]
[]
[]
[]
[]
[]
[]
[]
[]
[]
[]
[]
["cod_ano","2025"]
["red","CANAS-CANCHIS-ESPINAR"]
["mred","YAURI"]
["estable","HOSP. ESPINAR"]
["desc_prov","(All)"]
["desc_dist","(All)"]
[]
[null,"Valores"]
["Row Labels","  u01","  u02","  u03","  u04","  u05","  u06","  u07","  u08","  u09","  u10","  u11","  u12","  u13","  u14","  u15","  u16","  u17","  u18","  u19","  u20","  u21","  u22","  u23","  u24","  u25","  u26","  u27","  u28","  u29","  u30","  u31","  u32","  u33","  u34","  u35","  u36","  u37","  u38","  u39","  u40","  u41","  u42","  u43","  u44","  u45","  u46","  u47","  u48","  u49","  u50","  u51","  u52","  u53","  u54","  u55","  u56","  u57","  u58","  u59","  u60","  u61","  u62","  u63","  u64","  u65","  u66","  u67","  u68","  u69","  u70","  u71","  u72","  u73","  u74","  u75","  u76","  u77","  u78","  u79","  u80","  u81","  u82","  u83","  u84","  u85","  u86","  u87","  u88","  u89","  u90","  u91","  u92","  u93","  u94","  u95","  u96","  u97","  u98","  u99","  u100","  u101","  u102","  u103","  u104","  u105","  u106","  u107","  u108","  u109","  u110","  u111","  u112","  u113","  u114","  u115","  u116","  u117","  u118","  u119","  u120","  u121","  u122","  u123","  u124","  u125","  u126","  u127","  u128","  u129","  u130","  u131","  u132","  u133","  u134","  u135","  u136","  u137","  u138","  u139","  u140","  u141","  u142","  u143","  u144","  u145","  u146","  u147","  u148","  u149","  u150","  u151","  u152","  u153","  u154","  u155","  u156","  u157","  u158","  u159","  u160","  u161","  u162","  u163","  u164","  u165","  u166","  u167","  u168","  u169","  u170","  u171","  u172","  u173","  u174","  u175","  u176","  u177","  u178","  u179","  u180","  u181","  u182","  u183","  u184","  u185","  u186","  u187","  u188","  u189","  u190","  u191","  u192","  u193","  u194","  u195","  u196","  u197","  u198","  u199","  u200","  u201","  u202","  u203","  u204","  u205","  u206","  u207","  u208","  u209","  u210","  u211","  u212","  u213","  u214","  u215","  u216","  u217","  u218","  u219","  u220","  u221","  u222"]
[1,2691,1106,1585,1562,0,0,0,0,2641,0,180,0,180,446,21,0,0,0,5,2,2,4,11,0,0,0,0,0,0,0,0,0,0,0,43,13,20,15,23,0,175,0,0,0,0,0,0,0,0,0,34,19,20,44,30,0,0,0,0,0,0,0,0,186,352,0,0,32,57,0,11,684,606,0,0,433,49,0,63,635,781,0,0,188,286,0,33,2692,38,16,0,0,0,0,0,106,593,79,1,3,0,0,0,0,0,0,4,56,82,1714,6108,77,1,0,0,0,0,0,4,1824,389,0,0,104,2,0,0,0,834,2,12,1991,868,0,0,0,0,0,0,0,0,0,0,0,0,0,0,0,0,0,0,0,0,0,0,0,2228,11,343,0,0,0,0,0,0,0,0,0,0,0,0,0,0,0,0,0,0,0,0,0,0,0,0,0,0,0,0,0,0,0,0,0,0,0,0,0,0,0,0,0,0,0,0,0,0,0,0,0,0,0,0,0,0,0,0,0,0,0,0,0,0,0]
[2,2390,910,1480,779,0,0,0,0,2445,0,168,0,168,418,14,0,0,0,2,1,2,3,4,0,0,0,0,0,0,0,0,0,0,0,43,13,0,17,34,0,187,0,0,0,0,0,0,0,0,0,33,8,0,49,17,0,0,0,0,0,0,0,0,185,287,0,0,28,42,0,4,708,415,0,0,456,46,0,53,628,568,0,0,141,234,0,39,4784,61,11,0,0,0,0,0,66,1462,374,0,0,153,0,0,0,0,693,3,38,1386,537,1925,18,0,22,2,0,0,0,125,5,33,0,2,0,8,0,0,0,1710,0,0,0,0,1608,145,95,15,6,3,0,1,140,325,220,4,0,10,30,12,0,2,315,0,0,0,285,1752,6,376,0,0,0,0,0,0,0,0,0,0,0,0,0,0,0,0,0,0,0,0,0,0,0,0,0,0,0,0,0,0,0,0,0,0,0,0,0,0,0,0,0,0,0,0,0,0,0,0,0,0,0,0,0,0,0,0,0,0,0,0,0,0,0]
[3,2460,895,1565,849,0,0,0,0,2177,0,170,0,170,504,10,0,0,0,3,1,2,2,5,0,0,0,0,0,0,0,0,0,0,0,36,31,49,26,0,0,216,0,0,0,0,0,0,0,0,0,45,12,49,33,25,0,0,0,0,0,0,0,0,175,257,0,0,38,43,0,7,859,573,0,0,463,22,0,54,566,509,0,0,171,253,0,31,3913,56,13,0,0,0,0,0,59,1375,324,0,0,108,0,0,0,0,607,2,97,1229,43,1976,29,0,17,0,0,0,0,125,9,25,0,1,2,7,0,0,0,1761,0,0,0,0,1613,70,50,10,0,10,0,0,154,200,302,5,0,20,31,10,0,0,380,0,0,0,371,0,0,0,1938,0,4,0,437,0,0,0,0,0,0,0,0,0,0,0,0,0,0,0,0,0,0,0,0,0,0,0,0,0,0,0,0,0,0,0,0,0,0,0,0,0,0,0,0,0,0,0,0,0,0,0,0,0,0,0,0,0,0,0,0,0,0]
["Grand Total",7541,2911,4630,3190,0,0,0,0,7263,0,518,0,518,1368,45,0,0,0,10,4,6,9,20,0,0,0,0,0,0,0,0,0,0,0,122,57,69,58,57,0,578,0,0,0,0,0,0,0,0,0,112,39,69,126,72,0,0,0,0,0,0,0,0,546,896,0,0,98,142,0,22,2251,1594,0,0,1352,117,0,170,1829,1858,0,0,500,773,0,103,11389,155,40,0,0,0,0,0,231,3430,777,1,3,261,0,0,0,0,1300,9,191,2697,2294,10009,124,1,39,2,0,0,0,254,1838,447,0,3,106,17,0,0,0,4305,2,12,1991,868,3221,215,145,25,6,13,0,1,294,525,522,9,0,30,61,22,0,2,695,0,0,0,656,3980,17,719,1938,0,4,0,437,0,0,0,0,0,0,0,0,0,0,0,0,0,0,0,0,0,0,0,0,0,0,0,0,0,0,0,0,0,0,0,0,0,0,0,0,0,0,0,0,0,0,0,0,0,0,0,0,0,0,0,0,0,0,0,0,0,0]
[]
[]
[]
[]
[]
[]
[]
[]
[]
[null,null,null,null,null,"ATENCIONES POR SERVICIO"]
[null,null,{"$f":"CHOOSE(A52,\"ENERO\",\"FEBRERO\",\"MARZO\",\"ABRIL\",\"MAYO\",\"JUNIO\",\"JULIO\",\"AGOSTO\",\"SETIEMBRE\",\"OCTUBRE\",\"NOVIEMBRE\",\"DICIEMBRE\")","v":"ENERO"},{"$f":"CHOOSE(A53,\"ENERO\",\"FEBRERO\",\"MARZO\",\"ABRIL\",\"MAYO\",\"JUNIO\",\"JULIO\",\"AGOSTO\",\"SETIEMBRE\",\"OCTUBRE\",\"NOVIEMBRE\",\"DICIEMBRE\")","v":"FEBRERO"},{"$f":"CHOOSE(A54,\"ENERO\",\"FEBRERO\",\"MARZO\",\"ABRIL\",\"MAYO\",\"JUNIO\",\"JULIO\",\"AGOSTO\",\"SETIEMBRE\",\"OCTUBRE\",\"NOVIEMBRE\",\"DICIEMBRE\")","v":"MARZO"},{"$f":"CHOOSE(A55,\"ENERO\",\"FEBRERO\",\"MARZO\",\"ABRIL\",\"MAYO\",\"JUNIO\",\"JULIO\",\"AGOSTO\",\"SETIEMBRE\",\"OCTUBRE\",\"NOVIEMBRE\",\"DICIEMBRE\")","v":{"$error":"#VALUE!"}},{"$f":"CHOOSE(A56,\"ENERO\",\"FEBRERO\",\"MARZO\",\"ABRIL\",\"MAYO\",\"JUNIO\",\"JULIO\",\"AGOSTO\",\"SETIEMBRE\",\"OCTUBRE\",\"NOVIEMBRE\",\"DICIEMBRE\")","v":{"$error":"#VALUE!"}},{"$f":"CHOOSE(A57,\"ENERO\",\"FEBRERO\",\"MARZO\",\"ABRIL\",\"MAYO\",\"JUNIO\",\"JULIO\",\"AGOSTO\",\"SETIEMBRE\",\"OCTUBRE\",\"NOVIEMBRE\",\"DICIEMBRE\")","v":{"$error":"#VALUE!"}},{"$f":"CHOOSE(A58,\"ENERO\",\"FEBRERO\",\"MARZO\",\"ABRIL\",\"MAYO\",\"JUNIO\",\"JULIO\",\"AGOSTO\",\"SETIEMBRE\",\"OCTUBRE\",\"NOVIEMBRE\",\"DICIEMBRE\")","v":{"$error":"#VALUE!"}},{"$f":"CHOOSE(A59,\"ENERO\",\"FEBRERO\",\"MARZO\",\"ABRIL\",\"MAYO\",\"JUNIO\",\"JULIO\",\"AGOSTO\",\"SETIEMBRE\",\"OCTUBRE\",\"NOVIEMBRE\",\"DICIEMBRE\")","v":{"$error":"#VALUE!"}},{"$f":"CHOOSE(A60,\"ENERO\",\"FEBRERO\",\"MARZO\",\"ABRIL\",\"MAYO\",\"JUNIO\",\"JULIO\",\"AGOSTO\",\"SETIEMBRE\",\"OCTUBRE\",\"NOVIEMBRE\",\"DICIEMBRE\")","v":{"$error":"#VALUE!"}},{"$f":"CHOOSE(A61,\"ENERO\",\"FEBRERO\",\"MARZO\",\"ABRIL\",\"MAYO\",\"JUNIO\",\"JULIO\",\"AGOSTO\",\"SETIEMBRE\",\"OCTUBRE\",\"NOVIEMBRE\",\"DICIEMBRE\")","v":{"$error":"#VALUE!"}},{"$f":"CHOOSE(K52,\"ENERO\",\"FEBRERO\",\"MARZO\",\"ABRIL\",\"MAYO\",\"JUNIO\",\"JULIO\",\"AGOSTO\",\"SETIEMBRE\",\"OCTUBRE\",\"NOVIEMBRE\",\"DICIEMBRE\")","v":{"$error":"#VALUE!"}},{"$f":"CHOOSE(K53,\"ENERO\",\"FEBRERO\",\"MARZO\",\"ABRIL\",\"MAYO\",\"JUNIO\",\"JULIO\",\"AGOSTO\",\"SETIEMBRE\",\"OCTUBRE\",\"NOVIEMBRE\",\"DICIEMBRE\")","v":{"$error":"#VALUE!"}},{"$f":"CHOOSE(M52,\"ENERO\",\"FEBRERO\",\"MARZO\",\"ABRIL\",\"MAYO\",\"JUNIO\",\"JULIO\",\"AGOSTO\",\"SETIEMBRE\",\"OCTUBRE\",\"NOVIEMBRE\",\"DICIEMBRE\")","v":{"$error":"#VALUE!"}}]
[null,"MEDICINA",{"$f":"GETPIVOTDATA(\"  s18\",$A$50,\"mes\",1)","v":646},{"$f":"GETPIVOTDATA(\"  s18\",$A$50,\"mes\",2)","v":751},{"$f":"GETPIVOTDATA(\"  s18\",$A$50,\"mes\",3)","v":597},{"$f":"GETPIVOTDATA(\"  s18\",$A$50,\"mes\",4)","v":{"$error":"#REF!"}},{"$f":"GETPIVOTDATA(\"  s18\",$A$50,\"mes\",5)","v":{"$error":"#REF!"}},{"$f":"GETPIVOTDATA(\"  s18\",$A$50,\"mes\",6)","v":{"$error":"#REF!"}},{"$f":"GETPIVOTDATA(\"  s18\",$A$50,\"mes\",7)","v":{"$error":"#REF!"}},{"$f":"GETPIVOTDATA(\"  s18\",$A$50,\"mes\",8)","v":{"$error":"#REF!"}},{"$f":"GETPIVOTDATA(\"  s18\",$A$50,\"mes\",9)","v":{"$error":"#REF!"}},{"$f":"GETPIVOTDATA(\"  s18\",$A$50,\"mes\",10)","v":{"$error":"#REF!"}},{"$f":"GETPIVOTDATA(\"  s18\",$A$50,\"mes\",11)","v":{"$error":"#REF!"}},{"$f":"GETPIVOTDATA(\"  s18\",$A$50,\"mes\",12)","v":{"$error":"#REF!"}},{"$f":"SUM(C119:N119)","v":{"$error":"#REF!"}}]
[null,"ODONTOLOGIA",{"$f":"GETPIVOTDATA(\"  s104\",$A$50,\"mes\",1)","v":569},{"$f":"GETPIVOTDATA(\"  s104\",$A$50,\"mes\",2)","v":499},{"$f":"GETPIVOTDATA(\"  s104\",$A$50,\"mes\",3)","v":522},{"$f":"GETPIVOTDATA(\"  s104\",$A$50,\"mes\",4)","v":{"$error":"#REF!"}},{"$f":"GETPIVOTDATA(\"  s104\",$A$50,\"mes\",5)","v":{"$error":"#REF!"}},{"$f":"GETPIVOTDATA(\"  s104\",$A$50,\"mes\",6)","v":{"$error":"#REF!"}},{"$f":"GETPIVOTDATA(\"  s104\",$A$50,\"mes\",7)","v":{"$error":"#REF!"}},{"$f":"GETPIVOTDATA(\"  s104\",$A$50,\"mes\",8)","v":{"$error":"#REF!"}},{"$f":"GETPIVOTDATA(\"  s104\",$A$50,\"mes\",9)","v":{"$error":"#REF!"}},{"$f":"GETPIVOTDATA(\"  s104\",$A$50,\"mes\",10)","v":{"$error":"#REF!"}},{"$f":"GETPIVOTDATA(\"  s104\",$A$50,\"mes\",11)","v":{"$error":"#REF!"}},{"$f":"GETPIVOTDATA(\"  s104\",$A$50,\"mes\",12)","v":{"$error":"#REF!"}},{"$f":"SUM(C120:N120)","v":{"$error":"#REF!"}}]
[null,"OBSTETRICIA",{"$f":"GETPIVOTDATA(\"  s67\",$A$50,\"mes\",1)","v":1802},{"$f":"GETPIVOTDATA(\"  s67\",$A$50,\"mes\",2)","v":2395},{"$f":"GETPIVOTDATA(\"  s67\",$A$50,\"mes\",3)","v":2668},{"$f":"GETPIVOTDATA(\"  s67\",$A$50,\"mes\",4)","v":{"$error":"#REF!"}},{"$f":"GETPIVOTDATA(\"  s67\",$A$50,\"mes\",5)","v":{"$error":"#REF!"}},{"$f":"GETPIVOTDATA(\"  s67\",$A$50,\"mes\",6)","v":{"$error":"#REF!"}},{"$f":"GETPIVOTDATA(\"  s67\",$A$50,\"mes\",7)","v":{"$error":"#REF!"}},{"$f":"GETPIVOTDATA(\"  s67\",$A$50,\"mes\",8)","v":{"$error":"#REF!"}},{"$f":"GETPIVOTDATA(\"  s67\",$A$50,\"mes\",9)","v":{"$error":"#REF!"}},{"$f":"GETPIVOTDATA(\"  s67\",$A$50,\"mes\",10)","v":{"$error":"#REF!"}},{"$f":"GETPIVOTDATA(\"  s67\",$A$50,\"mes\",11)","v":{"$error":"#REF!"}},{"$f":"GETPIVOTDATA(\"  s67\",$A$50,\"mes\",12)","v":{"$error":"#REF!"}},{"$f":"SUM(C121:N121)","v":{"$error":"#REF!"}}]
[null,"PEDIATRIA",{"$f":"GETPIVOTDATA(\"  s61\",$A$50,\"mes\",1)","v":723},{"$f":"GETPIVOTDATA(\"  s61\",$A$50,\"mes\",2)","v":507},{"$f":"GETPIVOTDATA(\"  s61\",$A$50,\"mes\",3)","v":538},{"$f":"GETPIVOTDATA(\"  s61\",$A$50,\"mes\",4)","v":{"$error":"#REF!"}},{"$f":"GETPIVOTDATA(\"  s61\",$A$50,\"mes\",5)","v":{"$error":"#REF!"}},{"$f":"GETPIVOTDATA(\"  s61\",$A$50,\"mes\",6)","v":{"$error":"#REF!"}},{"$f":"GETPIVOTDATA(\"  s61\",$A$50,\"mes\",7)","v":{"$error":"#REF!"}},{"$f":"GETPIVOTDATA(\"  s61\",$A$50,\"mes\",8)","v":{"$error":"#REF!"}},{"$f":"GETPIVOTDATA(\"  s61\",$A$50,\"mes\",9)","v":{"$error":"#REF!"}},{"$f":"GETPIVOTDATA(\"  s61\",$A$50,\"mes\",10)","v":{"$error":"#REF!"}},{"$f":"GETPIVOTDATA(\"  s61\",$A$50,\"mes\",11)","v":{"$error":"#REF!"}},{"$f":"GETPIVOTDATA(\"  s61\",$A$50,\"mes\",12)","v":{"$error":"#REF!"}},{"$error":"#REF!"}]
[null,"GINECOLOGIA",{"$f":"GETPIVOTDATA(\"  s68\",$A$50,\"mes\",1)","v":423},{"$f":"GETPIVOTDATA(\"  s68\",$A$50,\"mes\",2)","v":436},{"$f":"GETPIVOTDATA(\"  s68\",$A$50,\"mes\",3)","v":431},{"$f":"GETPIVOTDATA(\"  s68\",$A$50,\"mes\",4)","v":{"$error":"#REF!"}},{"$f":"GETPIVOTDATA(\"  s68\",$A$50,\"mes\",5)","v":{"$error":"#REF!"}},{"$f":"GETPIVOTDATA(\"  s68\",$A$50,\"mes\",6)","v":{"$error":"#REF!"}},{"$f":"GETPIVOTDATA(\"  s68\",$A$50,\"mes\",7)","v":{"$error":"#REF!"}},{"$f":"GETPIVOTDATA(\"  s68\",$A$50,\"mes\",8)","v":{"$error":"#REF!"}},{"$f":"GETPIVOTDATA(\"  s68\",$A$50,\"mes\",9)","v":{"$error":"#REF!"}},{"$f":"GETPIVOTDATA(\"  s68\",$A$50,\"mes\",10)","v":{"$error":"#REF!"}},{"$f":"GETPIVOTDATA(\"  s68\",$A$50,\"mes\",11)","v":{"$error":"#REF!"}},{"$f":"GETPIVOTDATA(\"  s68\",$A$50,\"mes\",12)","v":{"$error":"#REF!"}},{"$error":"#REF!"}]
[null,"PLAN. FAMILIAR",{"$f":"GETPIVOTDATA(\"  s69\",$A$50,\"mes\",1)","v":470},{"$f":"GETPIVOTDATA(\"  s69\",$A$50,\"mes\",2)","v":227},{"$f":"GETPIVOTDATA(\"  s69\",$A$50,\"mes\",3)","v":242},{"$f":"GETPIVOTDATA(\"  s69\",$A$50,\"mes\",4)","v":{"$error":"#REF!"}},{"$f":"GETPIVOTDATA(\"  s69\",$A$50,\"mes\",5)","v":{"$error":"#REF!"}},{"$f":"GETPIVOTDATA(\"  s69\",$A$50,\"mes\",6)","v":{"$error":"#REF!"}},{"$f":"GETPIVOTDATA(\"  s69\",$A$50,\"mes\",7)","v":{"$error":"#REF!"}},{"$f":"GETPIVOTDATA(\"  s69\",$A$50,\"mes\",8)","v":{"$error":"#REF!"}},{"$f":"GETPIVOTDATA(\"  s69\",$A$50,\"mes\",9)","v":{"$error":"#REF!"}},{"$f":"GETPIVOTDATA(\"  s69\",$A$50,\"mes\",10)","v":{"$error":"#REF!"}},{"$f":"GETPIVOTDATA(\"  s69\",$A$50,\"mes\",11)","v":{"$error":"#REF!"}},{"$f":"GETPIVOTDATA(\"  s69\",$A$50,\"mes\",12)","v":{"$error":"#REF!"}},{"$error":"#REF!"}]
[null,"PSICOLOGIA",{"$f":"GETPIVOTDATA(\"  s103\",$A$50,\"mes\",1)","v":960},{"$f":"GETPIVOTDATA(\"  s103\",$A$50,\"mes\",2)","v":2087},{"$f":"GETPIVOTDATA(\"  s103\",$A$50,\"mes\",3)","v":667},{"$f":"GETPIVOTDATA(\"  s103\",$A$50,\"mes\",4)","v":{"$error":"#REF!"}},{"$f":"GETPIVOTDATA(\"  s103\",$A$50,\"mes\",5)","v":{"$error":"#REF!"}},{"$f":"GETPIVOTDATA(\"  s103\",$A$50,\"mes\",6)","v":{"$error":"#REF!"}},{"$f":"GETPIVOTDATA(\"  s103\",$A$50,\"mes\",7)","v":{"$error":"#REF!"}},{"$f":"GETPIVOTDATA(\"  s103\",$A$50,\"mes\",8)","v":{"$error":"#REF!"}},{"$f":"GETPIVOTDATA(\"  s103\",$A$50,\"mes\",9)","v":{"$error":"#REF!"}},{"$f":"GETPIVOTDATA(\"  s103\",$A$50,\"mes\",10)","v":{"$error":"#REF!"}},{"$f":"GETPIVOTDATA(\"  s103\",$A$50,\"mes\",11)","v":{"$error":"#REF!"}},{"$f":"GETPIVOTDATA(\"  s103\",$A$50,\"mes\",12)","v":{"$error":"#REF!"}},{"$error":"#REF!"}]
[null,"CIRUGIA",{"$f":"GETPIVOTDATA(\"  s47\",$A$50,\"mes\",1)","v":235},{"$f":"GETPIVOTDATA(\"  s47\",$A$50,\"mes\",2)","v":223},{"$f":"GETPIVOTDATA(\"  s47\",$A$50,\"mes\",3)","v":211},{"$f":"GETPIVOTDATA(\"  s47\",$A$50,\"mes\",4)","v":{"$error":"#REF!"}},{"$f":"GETPIVOTDATA(\"  s47\",$A$50,\"mes\",5)","v":{"$error":"#REF!"}},{"$f":"GETPIVOTDATA(\"  s47\",$A$50,\"mes\",6)","v":{"$error":"#REF!"}},{"$f":"GETPIVOTDATA(\"  s47\",$A$50,\"mes\",7)","v":{"$error":"#REF!"}},{"$f":"GETPIVOTDATA(\"  s47\",$A$50,\"mes\",8)","v":{"$error":"#REF!"}},{"$f":"GETPIVOTDATA(\"  s47\",$A$50,\"mes\",9)","v":{"$error":"#REF!"}},{"$f":"GETPIVOTDATA(\"  s47\",$A$50,\"mes\",10)","v":{"$error":"#REF!"}},{"$f":"GETPIVOTDATA(\"  s47\",$A$50,\"mes\",11)","v":{"$error":"#REF!"}},{"$f":"GETPIVOTDATA(\"  s47\",$A$50,\"mes\",12)","v":{"$error":"#REF!"}},{"$error":"#REF!"}]
[null,"MEDICINA INTER",{"$f":"GETPIVOTDATA(\"  s19\",$A$50,\"mes\",1)","v":0},{"$f":"GETPIVOTDATA(\"  s19\",$A$50,\"mes\",2)","v":0},{"$f":"GETPIVOTDATA(\"  s19\",$A$50,\"mes\",3)","v":0},{"$f":"GETPIVOTDATA(\"  s19\",$A$50,\"mes\",4)","v":{"$error":"#REF!"}},{"$f":"GETPIVOTDATA(\"  s19\",$A$50,\"mes\",5)","v":{"$error":"#REF!"}},{"$f":"GETPIVOTDATA(\"  s19\",$A$50,\"mes\",6)","v":{"$error":"#REF!"}},{"$f":"GETPIVOTDATA(\"  s19\",$A$50,\"mes\",7)","v":{"$error":"#REF!"}},{"$f":"GETPIVOTDATA(\"  s19\",$A$50,\"mes\",8)","v":{"$error":"#REF!"}},{"$f":"GETPIVOTDATA(\"  s19\",$A$50,\"mes\",9)","v":{"$error":"#REF!"}},{"$f":"GETPIVOTDATA(\"  s19\",$A$50,\"mes\",10)","v":{"$error":"#REF!"}},{"$f":"GETPIVOTDATA(\"  s19\",$A$50,\"mes\",11)","v":{"$error":"#REF!"}},{"$f":"GETPIVOTDATA(\"  s19\",$A$50,\"mes\",12)","v":{"$error":"#REF!"}},{"$error":"#REF!"}]
[null,null,{"$f":"SUM(C119:C127)","v":5828},{"$f":"SUM(D119:D127)","v":7125},{"$f":"SUM(E119:E127)","v":5876},{"$f":"SUM(F119:F127)","v":{"$error":"#REF!"}},{"$f":"SUM(G119:G127)","v":{"$error":"#REF!"}},{"$error":"#REF!"}]

{"sheet":"SES1","index":2,"n_rows":93,"n_cols":247,"rows_kept":93,"cut":false,"hidden":false,"merged":[[56,6,56,7],[53,17,53,19],[49,5,50,7],[19,13,19,17],[20,13,20,17],[24,13,24,17],[25,13,25,17],[26,13,26,17],[27,13,27,17],[49,8,50,10],[49,11,50,13],[49,14,50,16],[51,5,51,7],[52,6,52,7],[46,19,46,22],[47,15,47,18],[47,19,47,22],[47,11,47,14],[47,7,47,10],[45,15,45,18],[45,19,45,22],[46,7,46,10],[46,11,46,14],[43,7,43,10],[61,8,61,10],[61,11,61,13],[61,14,61,16],[61,17,61,19],[57,8,57,10],[57,11,57,13],[57,14,57,16],[57,17,57,19],[64,5,65,8],[65,9,65,12],[65,13,65,17],[66,9,66,12],[66,13,66,17],[66,18,66,22],[57,6,57,7],[58,6,58,7],[59,6,59,7],[60,6,60,7],[61,6,61,7],[62,6,62,7],[61,20,61,22],[62,8,62,10],[62,11,62,13],[62,14,62,16],[62,17,62,19],[62,20,62,22],[59,8,59,10],[59,11,59,13],[59,14,59,16],[59,17,59,19],[59,20,59,22],[60,8,60,10],[60,11,60,13],[60,14,60,16],[60,17,60,19],[69,6,69,8],[69,9,69,12],[69,13,69,17],[69,18,69,22],[67,6,67,8],[67,9,67,12],[67,13,67,17],[67,18,67,22],[68,6,68,8],[68,9,68,12],[68,13,68,17],[68,18,68,22],[60,20,60,22],[57,20,57,22],[58,8,58,10],[58,11,58,13],[58,14,58,16],[58,17,58,19],[58,20,58,22],[55,17,55,19],[55,20,55,22],[56,8,56,10],[56,11,56,13],[56,14,56,16],[56,17,56,19],[56,20,56,22],[53,1,54,1],[53,2,54,2],[53,3,54,3],[55,8,55,10],[55,11,55,13],[55,14,55,16],[53,6,53,7],[54,6,54,7],[55,6,55,7],[53,8,53,10],[53,11,53,13],[53,14,53,16],[53,20,53,22],[54,8,54,10],[54,11,54,13],[54,14,54,16],[54,17,54,19],[54,20,54,22],[51,17,51,19],[51,20,51,22],[52,8,52,10],[52,11,52,13],[52,14,52,16],[52,17,52,19],[52,20,52,22],[51,8,51,10],[51,11,51,13],[51,14,51,16],[43,11,43,14],[43,15,43,18],[46,15,46,18],[45,11,45,14],[45,7,45,10],[43,19,43,22],[44,7,44,10],[44,11,44,14],[44,15,44,18],[44,19,44,22],[41,5,41,6],[41,7,41,10],[41,11,41,14],[41,15,41,18],[41,19,41,22],[42,7,42,10],[42,11,42,14],[42,15,42,18],[42,19,42,22],[39,5,40,6],[39,7,40,10],[39,11,40,14],[39,15,39,22],[40,15,40,18],[40,19,40,22],[29,13,29,22],[30,13,30,22],[32,13,32,22],[33,13,33,22],[34,13,34,22],[35,13,35,22],[36,13,36,22],[37,13,37,22],[31,13,31,22],[27,6,27,12],[24,6,24,12],[25,6,25,12],[19,6,19,12],[20,6,20,12],[26,6,26,12],[21,6,21,12],[0,0,0,22],[1,0,1,22],[2,0,2,22],[15,0,16,1],[15,2,15,3],[15,5,15,12],[15,13,15,17],[15,18,15,22],[16,5,16,12],[16,13,16,17],[19,18,19,22],[20,18,20,22],[24,18,24,22],[25,18,25,22],[26,18,26,22],[27,18,27,22],[8,10,8,12],[78,0,78,1],[6,0,6,1],[9,0,9,1],[6,3,6,6],[9,3,9,6],[9,8,9,11],[73,0,73,1],[74,5,74,6],[16,18,16,22],[17,0,17,1],[17,6,17,12],[17,13,17,17],[17,18,17,22],[18,6,18,12],[18,13,18,17],[18,18,18,22],[21,13,21,17],[21,18,21,22],[22,6,22,12],[22,13,22,17],[22,18,22,22],[23,6,23,12],[23,13,23,17],[23,18,23,22]]}
["DIRECCION  REGIONAL DE SALUD CUSCO"]
["DIRECCION DE  ESTADISTICA E  INFORMATICA"]
["INFORMACION  MENSUAL DE SES39"]
[]
[]
["RED DE SALUD ",null,null,"MICRO  RED",null,null,null,null,"PROVINCIA"]
[{"$f":"MID(INICIO!E31,1,50)","v":"(Todas)"},null,null,{"$f":"MID(INICIO!E32,1,50)","v":"(Todas)"},null,null,null,null,{"$f":"MID(INICIO!E34,1,50)","v":"(Todas)"}]
[]
["ESTABLECIMIENTO",null,null,"DISTRITO",null,null,null,null,"AÑO",null,{"$f":"INICIO!B43","v":"2025"},null,null,"INI",null,"FIN "]
[{"$f":"MID(INICIO!E33,1,50)","v":"(Todas)"},null,null,{"$f":"MID(INICIO!E35,1,50)","v":"(Todas)"},null,null,null,null,{"$f":"MID(INICIO!C27,1,50)","v":""},null,null,null,"MES",1,"A",3]
[]
[null,"Datos"]
[null," mmg_1"," mmi_1"," mneum_1"," mcardio_1"," mneuro_1"," mgastro_1"," mderma_1"," minfec_1"," mnefro_1"," mendoc_1"," mpsicol_1"," mhemat_1"," motros_1"," mmg_2"," mmi_2"," mneum_2"," mcardio_2"," mneuro_2"," mgastro_2"," mderma_2"," minfec_2"," mnefro_2"," mendoc_2"," mpsicol_2"," mhemat_2"," motros_2"," ccg_1"," ctrauma_1"," coftalm_1"," ccvascular"," ccpedia_1"," ccirugplas"," crehab_1"," concolo_1"," cotros_1"," ppediat_1"," pneonat_1"," oobst_1"," oginec_1"," oplanifam_"," ccg_2"," ctrauma_2"," cotorrino2"," coftalm_2"," curologia2"," ccvascula2"," ccpedia_2"," cneurocir2"," ccirugpla2"," crehab_2"," concolo_2"," cotros_2"," ppediat_2"," pneonat_2"," oobst_2"," oginec_2"," oplanifam2"," gem1a_1"," ge1_4a_1"," ge5_9a_1"," ge10_14a_1"," ge15_19a_1"," ge20_59a_1"," ge60amas_1"," gem1a_2"," ge1_4a_2"," ge5_9a_2"," ge10_14a_2"," ge15_19a_2"," ge20_59a_2"," ge60amas_2"," pacatd_me2"," e_0_9a"," e_10_19"," e_20_59"," e_60amas"," ce_me_1"," ce_obt_1"," ce_psc_1"," ce_odon_1"," ce_enf_1"," ce_tenf_1"," ce_me_2"," ce_obt_2"," ce_psc_2"," ce_odon_2"," ce_enf_2"," ce_tenf_2"," ppm1a_1"," pp1_4a_1"," pp5_9_1"," pp10_14_1"," pp15_19_1"," pp20_59_1"," pp60mas_1"," ppm1a_2"," pp1_4a_2"," pp5_9_2"," pp10_14_2"," pp15_19_2"," pp20_59_2"," pp60mas_2"," ssce_p"," sshosp_p"," sssp_p"," ssce_t"," sshosp_t"," sssp_t"," mhosmg_1"," mhosneum_1"," mhoscard_1"," mhosneur_1"," mhosgast_1"," mhosderm_1"," mhosotrc_1"," ccgen_1"," ctraum_1"," cotorrin_1"," coftal_1"," curolog_1"," ciotros_1"," mhosmg_2"," mhosneum_2"," mhoscard_2"," mhosneur_2"," mhosgast_2"," mhosderm_2"," mhosnefro_2"," mhossiqui_2"," mhosotrc_2"," ccgen_2"," ctraum_2"," cotorrin_2"," coftal_2"," curolog_2"," ciotros_2"," mhosmg_3"," mhosneum_3"," mhoscard_3"," mhosneur_3"," mhosgast_3"," mhosderm_3"," mhosnefro_3"," mhossiqui_3"," mhosotrc_3"," ccgen_3"," ctraum_3"," cotorrin_3"," coftal_3"," curolog_3"," ciotros_3"," mhosmg_4"," mhosneum_4"," mhoscard_4"," mhosneur_4"," mhosgast_4"," mhosderm_4"," mhosnefro_4"," mhossiqui_4"," mhosotrc_4"," ccgen_4"," ctraum_4"," cotorrin_4"," coftal_4"," curolog_4"," ciotros_4"," mhosmg_5"," mhosneum_5"," mhoscard_5"," mhosneur_5"," mhosgast_5"," mhosderm_5"," mhosnefro_5"," mhossiqui_5"," mhosotrc_5"," ccgen_5"," ctraum_5"," cotorrin_5"," coftal_5"," curolog_5"," ciotros_5"," mhosmg_6"," mhosneum_6"," mhoscard_6"," mhosneur_6"," mhosgast_6"," mhosderm_6"," mhosnefro_6"," mhossiqui_6"," mhosotrc_6"," ccgen_6"," ctraum_6"," cotorrin_6"," coftal_6"," curolog_6"," ciotros_6"," mhosmg_7"," mhosneum_7"," mhoscard_7"," mhosneur_7"," mhosgast_7"," mhosderm_7"," mhosnefro_7"," mhossiqui_7"," mhosotrc_7"," ccgen_7"," ctraum_7"," cotorrin_7"," coftal_7"," curolog_7"," ciotros_7"," mhosmg_8"," mhosneum_8"," mhoscard_8"," mhosneur_8"," mhosgast_8"," mhosderm_8"," mhosnefro_8"," mhossiqui_8"," mhosotrc_8"," ccgen_8"," ctraum_8"," cotorrin_8"," coftal_8"," curolog_8"," ciotros_8"," mhosmg_9"," mhosneum_9"," mhoscard_9"," mhosneur_9"," mhosgast_9"," mhosderm_9"," mhosnefro_9"," mhossiqui_9"," mhosotrc_9"," ccgen_9"," ctraum_9"," cotorrin_9"," coftal_9"," curolog_9"," ciotros_9","Suma de cotorrino_1","Suma de curologia_1","Suma de cneurocir_1","Suma de mhosnefro_1","Suma de mhossiqui_1"]
["Total",212556,1978,367,1538,1310,813,1520,114,231,757,19586,396,693,582938,3257,1070,2446,1990,1132,1809,223,467,1201,28030,562,1423,2089,1563,949,134,116,238,627,149,93,57457,525,37054,10035,48511,4925,3721,2408,2491,1521,230,331,168,356,764,353,240,179952,875,158887,29016,142235,20891,39554,34825,33656,40527,205597,28711,71020,140893,99233,81747,102844,589925,69560,6954,11364,7066,20992,4836,257083,125290,21174,96432,146472,65050,680185,443631,30879,206988,439104,216625,75257,118182,103699,90303,78680,303627,42598,259515,413212,274672,220093,194687,858385,107313,1327,1132,196,2444,2119,414,2057,0,0,0,0,0,24,1039,387,2,0,0,1,578,0,0,0,0,0,0,0,6,577,182,0,0,0,0,5302,11,0,0,0,0,0,0,32,2428,627,7,0,0,0,101,0,0,0,0,0,0,0,1,99,6,0,0,0,0,82,0,0,0,0,0,0,0,1,94,5,0,0,0,0,5226,11,0,0,0,0,0,0,28,2388,576,7,0,0,0,26076,32,0,0,0,0,0,0,84,19821,5984,13,0,0,0,26374,32,0,0,0,0,0,0,273,20612,6410,13,0,0,0,80012,174,0,0,0,0,0,0,630,37167,11892,62,0,0,31,952,283,54,0,0]
[]
["I. Consultorio",null,"Consulta Externa",null,null,"II Grupos Etareos",null,null,null,null,null,null,null,"Atendidos",null,null,null,null,"Atenciones"]
[null,null,"Atendidos","Atenciones",null,"00. Total",null,null,null,null,null,null,null,{"$f":"IF($N$10=$P$10,GETPIVOTDATA(\"  s141\",INICIO!$A$50,\"mes\",$N$10),SUM(GETPIVOTDATA(\"  s141\",INICIO!$A$50)))","v":7122},null,null,null,null,{"$f":"IF($N$10=$P$10,GETPIVOTDATA(\"  s143\",INICIO!$A$50,\"mes\",$N$10),SUM(GETPIVOTDATA(\"  s143\",INICIO!$A$50)))","v":18559},null,null,null,null,null,null,{"$f":"N17-C18","v":0}]
["Total",null,{"$f":"IF($N$10=$P$10,GETPIVOTDATA(\"  s131\",INICIO!$A$50,\"mes\",$N$10),SUM(GETPIVOTDATA(\"  s131\",INICIO!$A$50)))","v":7122},{"$f":"IF($N$10=$P$10,GETPIVOTDATA(\"  s133\",INICIO!$A$50,\"mes\",$N$10),SUM(GETPIVOTDATA(\"  s133\",INICIO!$A$50)))","v":18559},null,"10:00:00","Grupo Niño (0 -11 Años)",null,null,null,null,null,null,{"$f":"IF($N$10=$P$10,GETPIVOTDATA(\"  s142\",INICIO!$A$50,\"mes\",$N$10),SUM(GETPIVOTDATA(\"  s142\",INICIO!$A$50)))","v":826},null,null,null,null,{"$f":"IF($N$10=$P$10,GETPIVOTDATA(\"  s144\",INICIO!$A$50,\"mes\",$N$10),SUM(GETPIVOTDATA(\"  s144\",INICIO!$A$50)))","v":2702}]
[10,"Medicina",{"$f":"IF($N$10=$P$10,GETPIVOTDATA(\"  s132\",INICIO!$A$50,\"mes\",$N$10),SUM(GETPIVOTDATA(\"  s132\",INICIO!$A$50)))","v":2325},{"$f":"IF($N$10=$P$10,GETPIVOTDATA(\"  s134\",INICIO!$A$50,\"mes\",$N$10),SUM(GETPIVOTDATA(\"  s134\",INICIO!$A$50)))","v":6097},null,1,"Menor de 1 año",null,null,null,null,null,null,{"$f":"IF($N$10=$P$10,GETPIVOTDATA(\"  s71\",INICIO!$A$50,\"mes\",$N$10),SUM(GETPIVOTDATA(\"  s71\",INICIO!$A$50)))","v":117},null,null,null,null,{"$f":"IF($N$10=$P$10,GETPIVOTDATA(\"  s75\",INICIO!$A$50,\"mes\",$N$10),SUM(GETPIVOTDATA(\"  s75\",INICIO!$A$50)))","v":731}]
[1,"Medicina General",{"$f":"IF($N$10=$P$10,GETPIVOTDATA(\"  s01\",INICIO!$A$50,\"mes\",$N$10),SUM(GETPIVOTDATA(\"  s01\",INICIO!$A$50)))","v":907},{"$f":"IF($N$10=$P$10,GETPIVOTDATA(\"  s18\",INICIO!$A$50,\"mes\",$N$10),SUM(GETPIVOTDATA(\"  s18\",INICIO!$A$50)))","v":1994},null,2,"1 - 4 Años",null,null,null,null,null,null,{"$f":"IF($N$10=$P$10,GETPIVOTDATA(\"  s72\",INICIO!$A$50,\"mes\",$N$10),SUM(GETPIVOTDATA(\"  s72\",INICIO!$A$50)))","v":295},null,null,null,null,{"$f":"IF($N$10=$P$10,GETPIVOTDATA(\"  s76\",INICIO!$A$50,\"mes\",$N$10),SUM(GETPIVOTDATA(\"  s76\",INICIO!$A$50)))","v":1122}]
[2,"Medicina Interna",{"$f":"IF($N$9=$P$9,GETPIVOTDATA(\"  s02\",INICIO!$A$50,\"mes\",$N$9),SUM(GETPIVOTDATA(\"  s02\",INICIO!$A$50)))","v":0},{"$f":"IF($N$9=$P$9,GETPIVOTDATA(\"  s19\",INICIO!$A$50,\"mes\",$N$9),SUM(GETPIVOTDATA(\"  s19\",INICIO!$A$50)))","v":0},null,3,"5 - 9 Años",null,null,null,null,null,null,{"$f":"IF($N$10=$P$10,GETPIVOTDATA(\"  s73\",INICIO!$A$50,\"mes\",$N$10),SUM(GETPIVOTDATA(\"  s73\",INICIO!$A$50)))","v":276},null,null,null,null,{"$f":"IF($N$10=$P$10,GETPIVOTDATA(\"  s77\",INICIO!$A$50,\"mes\",$N$10),SUM(GETPIVOTDATA(\"  s77\",INICIO!$A$50)))","v":535}]
[3,"Neumologia",{"$f":"IF($N$9=$P$9,GETPIVOTDATA(\"  s03\",INICIO!$A$50,\"mes\",$N$9),SUM(GETPIVOTDATA(\"  s03\",INICIO!$A$50)))","v":51},{"$f":"IF($N$9=$P$9,GETPIVOTDATA(\"  s20\",INICIO!$A$50,\"mes\",$N$9),SUM(GETPIVOTDATA(\"  s20\",INICIO!$A$50)))","v":389},null,4,"10-11Años",null,null,null,null,null,null,{"$f":"IF($N$10=$P$10,GETPIVOTDATA(\"  s74\",INICIO!$A$50,\"mes\",$N$10),SUM(GETPIVOTDATA(\"  s74\",INICIO!$A$50)))","v":138},null,null,null,null,{"$f":"IF($N$10=$P$10,GETPIVOTDATA(\"  s78\",INICIO!$A$50,\"mes\",$N$10),SUM(GETPIVOTDATA(\"  s78\",INICIO!$A$50)))","v":314}]
[4,"Cardiologia",{"$f":"IF($N$9=$P$9,GETPIVOTDATA(\"  s04\",INICIO!$A$50,\"mes\",$N$9),SUM(GETPIVOTDATA(\"  s04\",INICIO!$A$50)))","v":0},{"$f":"IF($N$9=$P$9,GETPIVOTDATA(\"  s21\",INICIO!$A$50,\"mes\",$N$9),SUM(GETPIVOTDATA(\"  s21\",INICIO!$A$50)))","v":0},null,11,"Adolescente (12-17 Años)",null,null,null,null,null,null,{"$f":"IF($N$10=$P$10,GETPIVOTDATA(\"  s145\",INICIO!$A$50,\"mes\",$N$10),SUM(GETPIVOTDATA(\"  s145\",INICIO!$A$50)))","v":365},null,null,null,null,{"$f":"IF($N$10=$P$10,GETPIVOTDATA(\"  s146\",INICIO!$A$50,\"mes\",$N$10),SUM(GETPIVOTDATA(\"  s146\",INICIO!$A$50)))","v":1034}]
[5,"Neurología",{"$f":"IF($N$9=$P$9,GETPIVOTDATA(\"  s05\",INICIO!$A$50,\"mes\",$N$9),SUM(GETPIVOTDATA(\"  s05\",INICIO!$A$50)))","v":0},{"$f":"IF($N$9=$P$9,GETPIVOTDATA(\"  s22\",INICIO!$A$50,\"mes\",$N$9),SUM(GETPIVOTDATA(\"  s22\",INICIO!$A$50)))","v":0},null,1,"12-14 Años",null,null,null,null,null,null,{"$f":"IF($N$10=$P$10,GETPIVOTDATA(\"  s79\",INICIO!$A$50,\"mes\",$N$10),SUM(GETPIVOTDATA(\"  s79\",INICIO!$A$50)))","v":203},null,null,null,null,{"$f":"IF($N$10=$P$10,GETPIVOTDATA(\"  s84\",INICIO!$A$50,\"mes\",$N$10),SUM(GETPIVOTDATA(\"  s84\",INICIO!$A$50)))","v":490}]
[6,"Gastroenterología",{"$f":"IF($N$9=$P$9,GETPIVOTDATA(\"  s06\",INICIO!$A$50,\"mes\",$N$9),SUM(GETPIVOTDATA(\"  s06\",INICIO!$A$50)))","v":0},{"$f":"IF($N$9=$P$9,GETPIVOTDATA(\"  s23\",INICIO!$A$50,\"mes\",$N$9),SUM(GETPIVOTDATA(\"  s23\",INICIO!$A$50)))","v":0},null,2,"15 -17Años",null,null,null,null,null,null,{"$f":"IF($N$10=$P$10,GETPIVOTDATA(\"  s80\",INICIO!$A$50,\"mes\",$N$10),SUM(GETPIVOTDATA(\"  s80\",INICIO!$A$50)))","v":162},null,null,null,null,{"$f":"IF($N$10=$P$10,GETPIVOTDATA(\"  s85\",INICIO!$A$50,\"mes\",$N$10),SUM(GETPIVOTDATA(\"  s85\",INICIO!$A$50)))","v":544}]
[7,"Dermatología",{"$f":"IF($N$9=$P$9,GETPIVOTDATA(\"  s07\",INICIO!$A$50,\"mes\",$N$9),SUM(GETPIVOTDATA(\"  s07\",INICIO!$A$50)))","v":0},{"$f":"IF($N$9=$P$9,GETPIVOTDATA(\"  s24\",INICIO!$A$50,\"mes\",$N$9),SUM(GETPIVOTDATA(\"  s24\",INICIO!$A$50)))","v":0},null,12,"Joven  (18-29 Años)",null,null,null,null,null,null,{"$f":"IF($N$10=$P$10,GETPIVOTDATA(\"  s81\",INICIO!$A$50,\"mes\",$N$10),SUM(GETPIVOTDATA(\"  s81\",INICIO!$A$50)))","v":1892},null,null,null,null,{"$f":"IF($N$10=$P$10,GETPIVOTDATA(\"  s86\",INICIO!$A$50,\"mes\",$N$10),SUM(GETPIVOTDATA(\"  s86\",INICIO!$A$50)))","v":5131}]
[8,"Infectología",{"$f":"IF($N$9=$P$9,GETPIVOTDATA(\"  s08\",INICIO!$A$50,\"mes\",$N$9),SUM(GETPIVOTDATA(\"  s08\",INICIO!$A$50)))","v":0},{"$f":"IF($N$9=$P$9,GETPIVOTDATA(\"  s25\",INICIO!$A$50,\"mes\",$N$9),SUM(GETPIVOTDATA(\"  s25\",INICIO!$A$50)))","v":0},null,13,"Grupo Adulto (30-59 Años)",null,null,null,null,null,null,{"$f":"IF($N$10=$P$10,GETPIVOTDATA(\"  s82\",INICIO!$A$50,\"mes\",$N$10),SUM(GETPIVOTDATA(\"  s82\",INICIO!$A$50)))","v":3404},null,null,null,null,{"$f":"IF($N$10=$P$10,GETPIVOTDATA(\"  s87\",INICIO!$A$50,\"mes\",$N$10),SUM(GETPIVOTDATA(\"  s87\",INICIO!$A$50)))","v":8045},null,null,null,null,null,null,null,null,null,{"$f":"7529+1462","v":8991}]
[9,"Nefrología",{"$f":"IF($N$9=$P$9,GETPIVOTDATA(\"  s09\",INICIO!$A$50,\"mes\",$N$9),SUM(GETPIVOTDATA(\"  s09\",INICIO!$A$50)))","v":0},{"$f":"IF($N$9=$P$9,GETPIVOTDATA(\"  s26\",INICIO!$A$50,\"mes\",$N$9),SUM(GETPIVOTDATA(\"  s26\",INICIO!$A$50)))","v":0},null,14,"Grupo Adulto Mayor (60 A+ Años)",null,null,null,null,null,null,{"$f":"IF($N$10=$P$10,GETPIVOTDATA(\"  s83\",INICIO!$A$50,\"mes\",$N$10),SUM(GETPIVOTDATA(\"  s83\",INICIO!$A$50)))","v":635},null,null,null,null,{"$f":"IF($N$10=$P$10,GETPIVOTDATA(\"  s88\",INICIO!$A$50,\"mes\",$N$10),SUM(GETPIVOTDATA(\"  s88\",INICIO!$A$50)))","v":1647}]
[10,"Endocrinología",{"$f":"IF($N$9=$P$9,GETPIVOTDATA(\"  s10\",INICIO!$A$50,\"mes\",$N$9),SUM(GETPIVOTDATA(\"  s10\",INICIO!$A$50)))","v":0},{"$f":"IF($N$9=$P$9,GETPIVOTDATA(\"  s27\",INICIO!$A$50,\"mes\",$N$9),SUM(GETPIVOTDATA(\"  s27\",INICIO!$A$50)))","v":0}]
[11,"Psicología",{"$f":"IF($N$9=$P$9,GETPIVOTDATA(\"  s11\",INICIO!$A$50,\"mes\",$N$9),SUM(GETPIVOTDATA(\"  s11\",INICIO!$A$50)))","v":1367},{"$f":"IF($N$9=$P$9,GETPIVOTDATA(\"  s28\",INICIO!$A$50,\"mes\",$N$9),SUM(GETPIVOTDATA(\"  s28\",INICIO!$A$50)))","v":3714},null,"40: Pacientes en Observación :",null,null,null,null,null,null,null,"< 24 Hrs",null,null,null,null,null,null,null,null,null,null,null,22680,100]
[12,"Hematología",{"$f":"IF($N$9=$P$9,GETPIVOTDATA(\"  s12\",INICIO!$A$50,\"mes\",$N$9),SUM(GETPIVOTDATA(\"  s12\",INICIO!$A$50)))","v":0},{"$f":"IF($N$9=$P$9,GETPIVOTDATA(\"  s29\",INICIO!$A$50,\"mes\",$N$9),SUM(GETPIVOTDATA(\"  s29\",INICIO!$A$50)))","v":0},null,1,"Nro. Pacientes Atendidos",null,null,null,null,null,null,{"$f":"IF($N$10=$P$10,GETPIVOTDATA(\"  s147\",INICIO!$A$50,\"mes\",$N$10),SUM(GETPIVOTDATA(\"  s147\",INICIO!$A$50)))","v":499},null,null,null,null,null,null,null,null,null,null,null,7,{"$f":"Z31*AA30/Z30","v":3.0864197530864196E-2}]
[13,"Reumatologia ",{"$f":"IF($N$9=$P$9,GETPIVOTDATA(\"  s13\",INICIO!$A$50,\"mes\",$N$9),SUM(GETPIVOTDATA(\"  s13\",INICIO!$A$50)))","v":0},{"$f":"IF($N$9=$P$9,GETPIVOTDATA(\"  s30\",INICIO!$A$50,\"mes\",$N$9),SUM(GETPIVOTDATA(\"  s30\",INICIO!$A$50)))","v":0},null,"50: Atenciones de Emergencia:",null,null,null,null,null,null,null,{"$f":"IF($N$10=$P$10,GETPIVOTDATA(\"  s148\",INICIO!$A$50,\"mes\",$N$10),SUM(GETPIVOTDATA(\"  s148\",INICIO!$A$50)))","v":1042},null,null,null,null,null,null,null,null,null,null,7,{"$f":"Y32/N31*100","v":1.402805611222445}]
[14,"Gereatria ",{"$f":"IF($N$9=$P$9,GETPIVOTDATA(\"  s14\",INICIO!$A$50,\"mes\",$N$9),SUM(GETPIVOTDATA(\"  s14\",INICIO!$A$50)))","v":0},{"$f":"IF($N$9=$P$9,GETPIVOTDATA(\"  s31\",INICIO!$A$50,\"mes\",$N$9),SUM(GETPIVOTDATA(\"  s31\",INICIO!$A$50)))","v":0},null,1,"Niño   0-11A",null,null,null,null,null,null,{"$f":"IF($N$10=$P$10,GETPIVOTDATA(\"  s89\",INICIO!$A$50,\"mes\",$N$10),SUM(GETPIVOTDATA(\"  s89\",INICIO!$A$50)))","v":172}]
[15,"Psiquiatria",{"$f":"IF($N$9=$P$9,GETPIVOTDATA(\"  s15\",INICIO!$A$50,\"mes\",$N$9),SUM(GETPIVOTDATA(\"  s15\",INICIO!$A$50)))","v":0},{"$f":"IF($N$9=$P$9,GETPIVOTDATA(\"  s32\",INICIO!$A$50,\"mes\",$N$9),SUM(GETPIVOTDATA(\"  s32\",INICIO!$A$50)))","v":0},null,2,"Adolescente  12-17A",null,null,null,null,null,null,{"$f":"IF($N$10=$P$10,GETPIVOTDATA(\"  s90\",INICIO!$A$50,\"mes\",$N$10),SUM(GETPIVOTDATA(\"  s90\",INICIO!$A$50)))","v":61}]
[16,"Medicina  Familiar ",{"$f":"IF($N$9=$P$9,GETPIVOTDATA(\"  s16\",INICIO!$A$50,\"mes\",$N$9),SUM(GETPIVOTDATA(\"  s16\",INICIO!$A$50)))","v":0},{"$f":"IF($N$9=$P$9,GETPIVOTDATA(\"  s33\",INICIO!$A$50,\"mes\",$N$9),SUM(GETPIVOTDATA(\"  s33\",INICIO!$A$50)))","v":0},null,3,"Joven  18-29 A",null,null,null,null,null,null,{"$f":"IF($N$10=$P$10,GETPIVOTDATA(\"  s91\",INICIO!$A$50,\"mes\",$N$10),SUM(GETPIVOTDATA(\"  s91\",INICIO!$A$50)))","v":316}]
[14,"Otros",{"$f":"IF($N$9=$P$9,GETPIVOTDATA(\"  s17\",INICIO!$A$50,\"mes\",$N$9),SUM(GETPIVOTDATA(\"  s17\",INICIO!$A$50)))","v":0},{"$f":"IF($N$9=$P$9,GETPIVOTDATA(\"  s34\",INICIO!$A$50,\"mes\",$N$9),SUM(GETPIVOTDATA(\"  s34\",INICIO!$A$50)))","v":0},null,4,"Adulto  30-59A",null,null,null,null,null,null,{"$f":"IF($N$10=$P$10,GETPIVOTDATA(\"  s92\",INICIO!$A$50,\"mes\",$N$10),SUM(GETPIVOTDATA(\"  s92\",INICIO!$A$50)))","v":355}]
[20,"Cirugia",{"$f":"IF($N$9=$P$9,GETPIVOTDATA(\"  s135\",INICIO!$A$50,\"mes\",$N$9),SUM(GETPIVOTDATA(\"  s135\",INICIO!$A$50)))","v":796},{"$f":"IF($N$9=$P$9,GETPIVOTDATA(\"  s136\",INICIO!$A$50,\"mes\",$N$9),SUM(GETPIVOTDATA(\"  s136\",INICIO!$A$50)))","v":1600},null,5,"Adulto Mayor  60A +",null,null,null,null,null,null,{"$f":"IF($N$10=$P$10,GETPIVOTDATA(\"  s93\",INICIO!$A$50,\"mes\",$N$10),SUM(GETPIVOTDATA(\"  s93\",INICIO!$A$50)))","v":138}]
[1,"Cirugía General",{"$f":"IF($N$10=$P$10,GETPIVOTDATA(\"  s35\",INICIO!$A$50,\"mes\",$N$10),SUM(GETPIVOTDATA(\"  s35\",INICIO!$A$50)))","v":259},{"$f":"IF($N$10=$P$10,GETPIVOTDATA(\"  s47\",INICIO!$A$50,\"mes\",$N$10),SUM(GETPIVOTDATA(\"  s47\",INICIO!$A$50)))","v":669},null,6,"Emergencias  Obstetricas ",null,null,null,null,null,null,{"$f":"IF($N$10=$P$10,GETPIVOTDATA(\"  s94\",INICIO!$A$50,\"mes\",$N$10),SUM(GETPIVOTDATA(\"  s94\",INICIO!$A$50)))","v":215}]
[2,"Traum. y Ortopedia",{"$f":"IF($N$9=$P$9,GETPIVOTDATA(\"  s36\",INICIO!$A$50,\"mes\",$N$9),SUM(GETPIVOTDATA(\"  s36\",INICIO!$A$50)))","v":165},{"$f":"IF($N$9=$P$9,GETPIVOTDATA(\"  s48\",INICIO!$A$50,\"mes\",$N$9),SUM(GETPIVOTDATA(\"  s48\",INICIO!$A$50)))","v":305},null,"III Consulta Externa Según Tipo de Profesional"]
[3,"Otorrinolaringología",{"$f":"IF($N$9=$P$9,GETPIVOTDATA(\"  s37\",INICIO!$A$50,\"mes\",$N$9),SUM(GETPIVOTDATA(\"  s37\",INICIO!$A$50)))","v":0},{"$f":"IF($N$9=$P$9,GETPIVOTDATA(\"  s49\",INICIO!$A$50,\"mes\",$N$9),SUM(GETPIVOTDATA(\"  s49\",INICIO!$A$50)))","v":0},null,"Tipo de Profesional",null,"Atendidos",null,null,null,"Atenciones",null,null,null,"Horas"]
[4,"Oftalmología",{"$f":"IF($N$9=$P$9,GETPIVOTDATA(\"  s38\",INICIO!$A$50,\"mes\",$N$9),SUM(GETPIVOTDATA(\"  s38\",INICIO!$A$50)))","v":372},{"$f":"IF($N$9=$P$9,GETPIVOTDATA(\"  s50\",INICIO!$A$50,\"mes\",$N$9),SUM(GETPIVOTDATA(\"  s50\",INICIO!$A$50)))","v":626},null,null,null,null,null,null,null,null,null,null,null,"Trabajadas",null,null,null,"Programadas"]
[5,"Urología",{"$f":"IF($N$9=$P$9,GETPIVOTDATA(\"  s39\",INICIO!$A$50,\"mes\",$N$9),SUM(GETPIVOTDATA(\"  s39\",INICIO!$A$50)))","v":0},{"$f":"IF($N$9=$P$9,GETPIVOTDATA(\"  s51\",INICIO!$A$50,\"mes\",$N$9),SUM(GETPIVOTDATA(\"  s51\",INICIO!$A$50)))","v":0},null,"Total",null,{"$f":"IF($N$10=$P$10,GETPIVOTDATA(\"  s149\",INICIO!$A$50,\"mes\",$N$10),SUM(GETPIVOTDATA(\"  s149\",INICIO!$A$50)))","v":7122},null,null,null,{"$f":"IF($N$10=$P$10,GETPIVOTDATA(\"  s150\",INICIO!$A$50,\"mes\",$N$10),SUM(GETPIVOTDATA(\"  s150\",INICIO!$A$50)))","v":18559},null,null,null,0,null,null,null,0]
[6,"Cirugía Vascular",{"$f":"IF($N$9=$P$9,GETPIVOTDATA(\"  s40\",INICIO!$A$50,\"mes\",$N$9),SUM(GETPIVOTDATA(\"  s40\",INICIO!$A$50)))","v":0},{"$f":"IF($N$9=$P$9,GETPIVOTDATA(\"  s52\",INICIO!$A$50,\"mes\",$N$9),SUM(GETPIVOTDATA(\"  s52\",INICIO!$A$50)))","v":0},null,0,"Medico",{"$f":"IF($N$10=$P$10,GETPIVOTDATA(\"  s95\",INICIO!$A$50,\"mes\",$N$10),SUM(GETPIVOTDATA(\"  s95\",INICIO!$A$50)))","v":2689},null,null,null,{"$f":"IF($N$10=$P$10,GETPIVOTDATA(\"  s101\",INICIO!$A$50,\"mes\",$N$10),SUM(GETPIVOTDATA(\"  s101\",INICIO!$A$50)))","v":7041}]
[7,"Cirugía Pediatría",{"$f":"IF($N$9=$P$9,GETPIVOTDATA(\"  s41\",INICIO!$A$50,\"mes\",$N$9),SUM(GETPIVOTDATA(\"  s41\",INICIO!$A$50)))","v":0},{"$f":"IF($N$9=$P$9,GETPIVOTDATA(\"  s53\",INICIO!$A$50,\"mes\",$N$9),SUM(GETPIVOTDATA(\"  s53\",INICIO!$A$50)))","v":0},null,1,"Obstetriz",{"$f":"IF($N$10=$P$10,GETPIVOTDATA(\"  s96\",INICIO!$A$50,\"mes\",$N$10),SUM(GETPIVOTDATA(\"  s96\",INICIO!$A$50)))","v":3066},null,null,null,{"$f":"IF($N$10=$P$10,GETPIVOTDATA(\"  s102\",INICIO!$A$50,\"mes\",$N$10),SUM(GETPIVOTDATA(\"  s102\",INICIO!$A$50)))","v":7804}]
[8,"Neurocirugía",{"$f":"IF($N$9=$P$9,GETPIVOTDATA(\"  s42\",INICIO!$A$50,\"mes\",$N$9),SUM(GETPIVOTDATA(\"  s42\",INICIO!$A$50)))","v":0},{"$f":"IF($N$9=$P$9,GETPIVOTDATA(\"  s54\",INICIO!$A$50,\"mes\",$N$9),SUM(GETPIVOTDATA(\"  s54\",INICIO!$A$50)))","v":0},null,2,"Psicólogo",{"$f":"IF($N$10=$P$10,GETPIVOTDATA(\"  s97\",INICIO!$A$50,\"mes\",$N$10),SUM(GETPIVOTDATA(\"  s97\",INICIO!$A$50)))","v":1367},null,null,null,{"$f":"IF($N$10=$P$10,GETPIVOTDATA(\"  s103\",INICIO!$A$50,\"mes\",$N$10),SUM(GETPIVOTDATA(\"  s103\",INICIO!$A$50)))","v":3714}]
[9,"Cirugía Plástica",{"$f":"IF($N$9=$P$9,GETPIVOTDATA(\"  s43\",INICIO!$A$50,\"mes\",$N$9),SUM(GETPIVOTDATA(\"  s43\",INICIO!$A$50)))","v":0},{"$f":"IF($N$9=$P$9,GETPIVOTDATA(\"  s55\",INICIO!$A$50,\"mes\",$N$9),SUM(GETPIVOTDATA(\"  s55\",INICIO!$A$50)))","v":0},null,3,"Odontólogo",{"$f":"IF($N$10=$P$10,GETPIVOTDATA(\"  s98\",INICIO!$A$50,\"mes\",$N$10),SUM(GETPIVOTDATA(\"  s98\",INICIO!$A$50)))","v":663},null,null,null,{"$f":"IF($N$10=$P$10,GETPIVOTDATA(\"  s104\",INICIO!$A$50,\"mes\",$N$10),SUM(GETPIVOTDATA(\"  s104\",INICIO!$A$50)))","v":1590}]
[10,"Rehabilitación \ny Fisioterapia",{"$f":"IF($N$9=$P$9,GETPIVOTDATA(\"  s44\",INICIO!$A$50,\"mes\",$N$9),SUM(GETPIVOTDATA(\"  s44\",INICIO!$A$50)))","v":0},{"$f":"IF($N$9=$P$9,GETPIVOTDATA(\"  s56\",INICIO!$A$50,\"mes\",$N$9),SUM(GETPIVOTDATA(\"  s56\",INICIO!$A$50)))","v":0},null,4,"Enfermera",{"$f":"IF($N$9=$P$9,GETPIVOTDATA(\"  s99\",INICIO!$A$50,\"mes\",$N$9),SUM(GETPIVOTDATA(\"  s99\",INICIO!$A$50)))","v":0},null,null,null,{"$f":"IF($N$9=$P$9,GETPIVOTDATA(\"  s105\",INICIO!$A$50,\"mes\",$N$9),SUM(GETPIVOTDATA(\"  s105\",INICIO!$A$50)))","v":0}]
[11,"Oncología",{"$f":"IF($N$9=$P$9,GETPIVOTDATA(\"  s45\",INICIO!$A$50,\"mes\",$N$9),SUM(GETPIVOTDATA(\"  s45\",INICIO!$A$50)))","v":0},{"$f":"IF($N$9=$P$9,GETPIVOTDATA(\"  s57\",INICIO!$A$50,\"mes\",$N$9),SUM(GETPIVOTDATA(\"  s57\",INICIO!$A$50)))","v":0},null,5,"Técnico en Enfermería",{"$f":"IF($N$9=$P$9,GETPIVOTDATA(\"  s100\",INICIO!$A$50,\"mes\",$N$9),SUM(GETPIVOTDATA(\"  s100\",INICIO!$A$50)))","v":0},null,null,null,{"$f":"IF($N$9=$P$9,GETPIVOTDATA(\"  s106\",INICIO!$A$50,\"mes\",$N$9),SUM(GETPIVOTDATA(\"  s106\",INICIO!$A$50)))","v":0}]
[12,"Cirujia de Cabeza y  Cuello",{"$f":"IF($N$9=$P$9,GETPIVOTDATA(\"  s46\",INICIO!$A$50,\"mes\",$N$9),SUM(GETPIVOTDATA(\"  s46\",INICIO!$A$50)))","v":0},{"$f":"IF($N$9=$P$9,GETPIVOTDATA(\"  s58\",INICIO!$A$50,\"mes\",$N$9),SUM(GETPIVOTDATA(\"  s58\",INICIO!$A$50)))","v":0},null,"IV.-Producción del Establecimiento por todo tipo de personal"]
[30,"Pediatria",{"$f":"IF($N$10=$P$10,GETPIVOTDATA(\"  s137\",INICIO!$A$50,\"mes\",$N$10),SUM(GETPIVOTDATA(\"  s137\",INICIO!$A$50)))","v":528},{"$f":"IF($N$10=$P$10,GETPIVOTDATA(\"  s138\",INICIO!$A$50,\"mes\",$N$10),SUM(GETPIVOTDATA(\"  s138\",INICIO!$A$50)))","v":1768},null,"Grupos de Edad",null,null,"Población",null,null,"Atendidos",null,null,"Atenciones",null,null,"Extensión ",null,null,"Intensidad"]
[1,"Pediatría General",{"$f":"IF($N$10=$P$10,GETPIVOTDATA(\"  s59\",INICIO!$A$50,\"mes\",$N$10),SUM(GETPIVOTDATA(\"  s59\",INICIO!$A$50)))","v":528},{"$f":"IF($N$10=$P$10,GETPIVOTDATA(\"  s61\",INICIO!$A$50,\"mes\",$N$10),SUM(GETPIVOTDATA(\"  s61\",INICIO!$A$50)))","v":1768},null,null,null,null,null,null,null,null,null,null,null,null,null,"de Uso",null,null,"de Uso"]
[2,"Neonatologia",{"$f":"IF($N$9=$P$9,GETPIVOTDATA(\"  s60\",INICIO!$A$50,\"mes\",$N$9),SUM(GETPIVOTDATA(\"  s60\",INICIO!$A$50)))","v":0},{"$f":"IF($N$9=$P$9,GETPIVOTDATA(\"  s62\",INICIO!$A$50,\"mes\",$N$9),SUM(GETPIVOTDATA(\"  s62\",INICIO!$A$50)))","v":0},null,"Total",null,null,{"$f":"+I53+I58+I61+I62+I63","v":17053},null,null,{"$f":"IF($N$10=$P$10,GETPIVOTDATA(\"  s151\",INICIO!$A$50,\"mes\",$N$10),SUM(GETPIVOTDATA(\"  s151\",INICIO!$A$50)))","v":12677},null,null,{"$f":"IF($N$10=$P$10,GETPIVOTDATA(\"  s152\",INICIO!$A$50,\"mes\",$N$10),SUM(GETPIVOTDATA(\"  s152\",INICIO!$A$50)))","v":35731},null,null,{"$f":"O52/I52*100","v":209.52911511171055},null,null,{"$f":"O52/L52","v":2.8185690620809338}]
[null,null,null,null,null,10,"Niñ (0 -11 Años)",null,{"$f":"SUM(I54:K57)","v":4416},null,null,{"$f":"IF($N$10=$P$10,GETPIVOTDATA(\"  s153\",INICIO!$A$50,\"mes\",$N$10),SUM(GETPIVOTDATA(\"  s153\",INICIO!$A$50)))","v":4431},null,null,{"$f":"IF($N$10=$P$10,GETPIVOTDATA(\"  s154\",INICIO!$A$50,\"mes\",$N$10),SUM(GETPIVOTDATA(\"  s154\",INICIO!$A$50)))","v":13754},null,null,{"$f":"O53/I53*100","v":311.45833333333337},null,null,{"$f":"O53/L53","v":3.1040397201534642}]
[40,"Obstetricia y \nGinecologia  ",{"$f":"IF($N$10=$P$10,GETPIVOTDATA(\"  s139\",INICIO!$A$50,\"mes\",$N$10),SUM(GETPIVOTDATA(\"  s139\",INICIO!$A$50)))","v":3473},{"$f":"IF($N$10=$P$10,GETPIVOTDATA(\"  s140\",INICIO!$A$50,\"mes\",$N$10),SUM(GETPIVOTDATA(\"  s140\",INICIO!$A$50)))","v":9094},null,1,"Menor de 1 año",null,295,null,null,{"$f":"IF($N$10=$P$10,GETPIVOTDATA(\"  s107\",INICIO!$A$50,\"mes\",$N$10),SUM(GETPIVOTDATA(\"  s107\",INICIO!$A$50)))","v":1355},null,null,{"$f":"IF($N$10=$P$10,GETPIVOTDATA(\"  s111\",INICIO!$A$50,\"mes\",$N$10),SUM(GETPIVOTDATA(\"  s111\",INICIO!$A$50)))","v":6355},null,null,2154.2372881355932,null,null,4.6900369003690034]
[null,null,null,null,null,2,"1 - 4 años",null,1353,null,null,{"$f":"IF($N$10=$P$10,GETPIVOTDATA(\"  s108\",INICIO!$A$50,\"mes\",$N$10),SUM(GETPIVOTDATA(\"  s108\",INICIO!$A$50)))","v":1976},null,null,{"$f":"IF($N$10=$P$10,GETPIVOTDATA(\"  s112\",INICIO!$A$50,\"mes\",$N$10),SUM(GETPIVOTDATA(\"  s112\",INICIO!$A$50)))","v":5271},null,null,389.57871396895791,null,null,2.6675101214574899]
[1,"Obstetricia",{"$f":"IF($N$10=$P$10,GETPIVOTDATA(\"  s63\",INICIO!$A$50,\"mes\",$N$10),SUM(GETPIVOTDATA(\"  s63\",INICIO!$A$50)))","v":2868},{"$f":"IF($N$10=$P$10,GETPIVOTDATA(\"  s67\",INICIO!$A$50,\"mes\",$N$10),SUM(GETPIVOTDATA(\"  s67\",INICIO!$A$50)))","v":6865},null,3,"5 - 9 años",null,1983,null,null,{"$f":"IF($N$10=$P$10,GETPIVOTDATA(\"  s109\",INICIO!$A$50,\"mes\",$N$10),SUM(GETPIVOTDATA(\"  s109\",INICIO!$A$50)))","v":842},null,null,{"$f":"IF($N$10=$P$10,GETPIVOTDATA(\"  s113\",INICIO!$A$50,\"mes\",$N$10),SUM(GETPIVOTDATA(\"  s113\",INICIO!$A$50)))","v":1573},null,null,79.324256177508829,null,null,1.8681710213776721]
[2,"Ginecologia ",{"$f":"IF($N$10=$P$10,GETPIVOTDATA(\"  s64\",INICIO!$A$50,\"mes\",$N$10),SUM(GETPIVOTDATA(\"  s64\",INICIO!$A$50)))","v":407},{"$f":"IF($N$10=$P$10,GETPIVOTDATA(\"  s68\",INICIO!$A$50,\"mes\",$N$10),SUM(GETPIVOTDATA(\"  s68\",INICIO!$A$50)))","v":1290},null,4,"10-11 años",null,785,null,null,{"$f":"IF($N$10=$P$10,GETPIVOTDATA(\"  s110\",INICIO!$A$50,\"mes\",$N$10),SUM(GETPIVOTDATA(\"  s110\",INICIO!$A$50)))","v":258},null,null,{"$f":"IF($N$10=$P$10,GETPIVOTDATA(\"  s114\",INICIO!$A$50,\"mes\",$N$10),SUM(GETPIVOTDATA(\"  s114\",INICIO!$A$50)))","v":555},null,null,70.70063694267516,null,null,2.1511627906976742]
[3,"Planificación Familiar",{"$f":"IF($N$10=$P$10,GETPIVOTDATA(\"  s65\",INICIO!$A$50,\"mes\",$N$10),SUM(GETPIVOTDATA(\"  s65\",INICIO!$A$50)))","v":198},{"$f":"IF($N$10=$P$10,GETPIVOTDATA(\"  s69\",INICIO!$A$50,\"mes\",$N$10),SUM(GETPIVOTDATA(\"  s69\",INICIO!$A$50)))","v":939},null,11,"Adolescente (12-17 Años)",null,{"$f":"SUM(I59:K60)","v":2067},null,null,{"$f":"IF($N$10=$P$10,GETPIVOTDATA(\"  s155\",INICIO!$A$50,\"mes\",$N$10),SUM(GETPIVOTDATA(\"  s155\",INICIO!$A$50)))","v":715},null,null,{"$f":"IF($N$10=$P$10,GETPIVOTDATA(\"  s156\",INICIO!$A$50,\"mes\",$N$10),SUM(GETPIVOTDATA(\"  s156\",INICIO!$A$50)))","v":2220},null,null,107.40203193033382,null,null,3.104895104895105]
[4,"Histerectomia ",{"$f":"IF($N$9=$P$9,GETPIVOTDATA(\"  s66\",INICIO!$A$50,\"mes\",$N$9),SUM(GETPIVOTDATA(\"  s66\",INICIO!$A$50)))","v":0},{"$f":"IF($N$9=$P$9,GETPIVOTDATA(\"  s70\",INICIO!$A$50,\"mes\",$N$9),SUM(GETPIVOTDATA(\"  s70\",INICIO!$A$50)))","v":0},null,1,"12 - 14 años",null,1090,null,null,{"$f":"IF($N$10=$P$10,GETPIVOTDATA(\"  s115\",INICIO!$A$50,\"mes\",$N$10),SUM(GETPIVOTDATA(\"  s115\",INICIO!$A$50)))","v":370},null,null,{"$f":"IF($N$10=$P$10,GETPIVOTDATA(\"  s120\",INICIO!$A$50,\"mes\",$N$10),SUM(GETPIVOTDATA(\"  s120\",INICIO!$A$50)))","v":1097},null,null,100.64220183486239,null,null,2.964864864864865]
[null,null,null,null,null,2,"15 - 17 años",null,977,null,null,{"$f":"IF($N$10=$P$10,GETPIVOTDATA(\"  s116\",INICIO!$A$50,\"mes\",$N$10),SUM(GETPIVOTDATA(\"  s116\",INICIO!$A$50)))","v":345},null,null,{"$f":"IF($N$10=$P$10,GETPIVOTDATA(\"  s121\",INICIO!$A$50,\"mes\",$N$10),SUM(GETPIVOTDATA(\"  s121\",INICIO!$A$50)))","v":1123},null,null,114.9437052200614,null,null,3.2550724637681161]
[null,null,null,null,null,12,"Joven (18-29 Años)",null,3664,null,null,{"$f":"IF($N$10=$P$10,GETPIVOTDATA(\"  s117\",INICIO!$A$50,\"mes\",$N$10),SUM(GETPIVOTDATA(\"  s117\",INICIO!$A$50)))","v":2401},null,null,{"$f":"IF($N$10=$P$10,GETPIVOTDATA(\"  s122\",INICIO!$A$50,\"mes\",$N$10),SUM(GETPIVOTDATA(\"  s122\",INICIO!$A$50)))","v":6718},null,null,183.35152838427948,null,null,2.7980008329862556]
[null,null,null,null,null,13,"Adulto (30-59 Años)",null,5389,null,null,{"$f":"IF($N$10=$P$10,GETPIVOTDATA(\"  s118\",INICIO!$A$50,\"mes\",$N$10),SUM(GETPIVOTDATA(\"  s118\",INICIO!$A$50)))","v":4253},null,null,{"$f":"IF($N$10=$P$10,GETPIVOTDATA(\"  s123\",INICIO!$A$50,\"mes\",$N$10),SUM(GETPIVOTDATA(\"  s123\",INICIO!$A$50)))","v":10579},null,null,196.3072926331416,null,null,2.4874206442511166]
[" ",null,null,null,null,14,"Adulto Mayor  60A+",null,1517,null,null,{"$f":"IF($N$10=$P$10,GETPIVOTDATA(\"  s119\",INICIO!$A$50,\"mes\",$N$10),SUM(GETPIVOTDATA(\"  s119\",INICIO!$A$50)))","v":877},null,null,{"$f":"IF($N$10=$P$10,GETPIVOTDATA(\"  s124\",INICIO!$A$50,\"mes\",$N$10),SUM(GETPIVOTDATA(\"  s124\",INICIO!$A$50)))","v":2460},null,null,{"$f":"O63/I63*100","v":162.16216216216216},null,null,2.805017103762828]
[null,null,null,null,null,"   V. Servicio Social"]
[null,null,null,null,null,"Procedencia",null,null,null,"Indigencias",null,null,null,null,null,null,null,null,"Total"]
[null,null,null,null,null,null,null,null,null,"Parciales",null,null,null,"Totales",null,null,null,null,"General"]
[null,null,null,null,null," Totales",null,null,null,{"$f":"IF($N$10=$P$10,GETPIVOTDATA(\"  s157\",INICIO!$A$50,\"mes\",$N$10),SUM(GETPIVOTDATA(\"  s157\",INICIO!$A$50)))","v":0},null,null,null,{"$f":"IF($N$10=$P$10,GETPIVOTDATA(\"  s158\",INICIO!$A$50,\"mes\",$N$10),SUM(GETPIVOTDATA(\"  s158\",INICIO!$A$50)))","v":0},null,null,null,null,{"$f":"SUM(J67:R67)","v":0}]
[null,null,null,null,null,1,"Consulta Externa",null,null,{"$f":"IF($N$10=$P$10,GETPIVOTDATA(\"  s125\",INICIO!$A$50,\"mes\",$N$10),SUM(GETPIVOTDATA(\"  s125\",INICIO!$A$50)))","v":0},null,null,null,{"$f":"IF($N$10=$P$10,GETPIVOTDATA(\"  s128\",INICIO!$A$50,\"mes\",$N$10),SUM(GETPIVOTDATA(\"  s128\",INICIO!$A$50)))","v":0},null,null,null,null,{"$f":"SUM(J68:R68)","v":0}]
[null,null,null,null,null,2,"Hospitalización",null,null,{"$f":"IF($N$10=$P$10,GETPIVOTDATA(\"  s126\",INICIO!$A$50,\"mes\",$N$10),SUM(GETPIVOTDATA(\"  s126\",INICIO!$A$50)))","v":0},null,null,null,{"$f":"IF($N$10=$P$10,GETPIVOTDATA(\"  s129\",INICIO!$A$50,\"mes\",$N$10),SUM(GETPIVOTDATA(\"  s129\",INICIO!$A$50)))","v":0},null,null,null,null,0]
[null,null,null,null,null,3,"Servicio Periférico",null,null,{"$f":"IF($N$10=$P$10,GETPIVOTDATA(\"  s127\",INICIO!$A$50,\"mes\",$N$10),SUM(GETPIVOTDATA(\"  s127\",INICIO!$A$50)))","v":0},null,null,null,{"$f":"IF($N$10=$P$10,GETPIVOTDATA(\"  s130\",INICIO!$A$50,\"mes\",$N$10),SUM(GETPIVOTDATA(\"  s130\",INICIO!$A$50)))","v":0},null,null,null,null,0]
[]
[]
[]
["Total",null,"N° CAMAS "]
[1,"Niño",{"$f":"IF($N$9=$P$9,GETPIVOTDATA(\"  t01\",INICIO!$A$77,\"mes\",$N$9),SUM(GETPIVOTDATA(\"  t01\",INICIO!$A$77)))","v":0},null,null,"TOTAL ",null,"N° CAMAS "]
[2,"Adolescente",{"$f":"IF($N$9=$P$9,GETPIVOTDATA(\"  t02\",INICIO!$A$77,\"mes\",$N$9),SUM(GETPIVOTDATA(\"  t02\",INICIO!$A$77)))","v":0},null,null,20,"Cirugia",{"$f":"IF($N$9=$P$9,GETPIVOTDATA(\"  t19\",INICIO!$A$77,\"mes\",$N$9),SUM(GETPIVOTDATA(\"  t19\",INICIO!$A$77)))","v":0}]
[3,"Adulto",{"$f":"IF($N$9=$P$9,GETPIVOTDATA(\"  t03\",INICIO!$A$77,\"mes\",$N$9),SUM(GETPIVOTDATA(\"  t03\",INICIO!$A$77)))","v":0},null,null,1,"Cirugía General",{"$f":"IF($N$9=$P$9,GETPIVOTDATA(\"  t20\",INICIO!$A$77,\"mes\",$N$9),SUM(GETPIVOTDATA(\"  t20\",INICIO!$A$77)))","v":0}]
[4,"Adulto Mayor",{"$f":"IF($N$9=$P$9,GETPIVOTDATA(\"  t04\",INICIO!$A$77,\"mes\",$N$9),SUM(GETPIVOTDATA(\"  t04\",INICIO!$A$77)))","v":0},null,null,2,"Traum. y Ortopedia",{"$f":"IF($N$9=$P$9,GETPIVOTDATA(\"  t21\",INICIO!$A$77,\"mes\",$N$9),SUM(GETPIVOTDATA(\"  t21\",INICIO!$A$77)))","v":0}]
["Sub Total",null,{"$f":"IF($N$9=$P$9,GETPIVOTDATA(\"  t05\",INICIO!$A$77,\"mes\",$N$9),SUM(GETPIVOTDATA(\"  t05\",INICIO!$A$77)))","v":0},null,null,3,"Otorrinolaringología",{"$f":"IF($N$9=$P$9,GETPIVOTDATA(\"  t22\",INICIO!$A$77,\"mes\",$N$9),SUM(GETPIVOTDATA(\"  t22\",INICIO!$A$77)))","v":0}]
[10,"Medicina",{"$f":"IF($N$9=$P$9,GETPIVOTDATA(\"  t06\",INICIO!$A$77,\"mes\",$N$9),SUM(GETPIVOTDATA(\"  t06\",INICIO!$A$77)))","v":0},null,null,4,"Oftalmología",{"$f":"IF($N$9=$P$9,GETPIVOTDATA(\"  t23\",INICIO!$A$77,\"mes\",$N$9),SUM(GETPIVOTDATA(\"  t23\",INICIO!$A$77)))","v":0}]
[1,"Medicina General",{"$f":"IF($N$9=$P$9,GETPIVOTDATA(\"  t07\",INICIO!$A$77,\"mes\",$N$9),SUM(GETPIVOTDATA(\"  t07\",INICIO!$A$77)))","v":0},null,null,5,"Urología",{"$f":"IF($N$9=$P$9,GETPIVOTDATA(\"  t24\",INICIO!$A$77,\"mes\",$N$9),SUM(GETPIVOTDATA(\"  t24\",INICIO!$A$77)))","v":0}]
[2,"Neumología",{"$f":"IF($N$9=$P$9,GETPIVOTDATA(\"  t08\",INICIO!$A$77,\"mes\",$N$9),SUM(GETPIVOTDATA(\"  t08\",INICIO!$A$77)))","v":0},null,null,6,"Oncología",{"$f":"IF($N$9=$P$9,GETPIVOTDATA(\"  t25\",INICIO!$A$77,\"mes\",$N$9),SUM(GETPIVOTDATA(\"  t25\",INICIO!$A$77)))","v":0}]
[3,"Cardiología",{"$f":"IF($N$9=$P$9,GETPIVOTDATA(\"  t09\",INICIO!$A$77,\"mes\",$N$9),SUM(GETPIVOTDATA(\"  t09\",INICIO!$A$77)))","v":0},null,null,7,"Otros",{"$f":"IF($N$9=$P$9,GETPIVOTDATA(\"  t26\",INICIO!$A$77,\"mes\",$N$9),SUM(GETPIVOTDATA(\"  t26\",INICIO!$A$77)))","v":0}]
[4,"Neurología",{"$f":"IF($N$9=$P$9,GETPIVOTDATA(\"  t10\",INICIO!$A$77,\"mes\",$N$9),SUM(GETPIVOTDATA(\"  t10\",INICIO!$A$77)))","v":0},null,null,30,"Pediatria",{"$f":"IF($N$9=$P$9,GETPIVOTDATA(\"  t27\",INICIO!$A$77,\"mes\",$N$9),SUM(GETPIVOTDATA(\"  t27\",INICIO!$A$77)))","v":0}]
[5,"Gastroenterología",{"$f":"IF($N$9=$P$9,GETPIVOTDATA(\"  t11\",INICIO!$A$77,\"mes\",$N$9),SUM(GETPIVOTDATA(\"  t11\",INICIO!$A$77)))","v":0},null,null,1,"Lactantes(-1 años)",{"$f":"IF($N$9=$P$9,GETPIVOTDATA(\"  t28\",INICIO!$A$77,\"mes\",$N$9),SUM(GETPIVOTDATA(\"  t28\",INICIO!$A$77)))","v":0}]
[6,"Dermatología",{"$f":"IF($N$9=$P$9,GETPIVOTDATA(\"  t12\",INICIO!$A$77,\"mes\",$N$9),SUM(GETPIVOTDATA(\"  t12\",INICIO!$A$77)))","v":0},null,null,2,"Pre escolar   1-4 años",{"$f":"IF($N$9=$P$9,GETPIVOTDATA(\"  t29\",INICIO!$A$77,\"mes\",$N$9),SUM(GETPIVOTDATA(\"  t29\",INICIO!$A$77)))","v":0}]
[7,"Nefrología",{"$f":"IF($N$9=$P$9,GETPIVOTDATA(\"  t13\",INICIO!$A$77,\"mes\",$N$9),SUM(GETPIVOTDATA(\"  t13\",INICIO!$A$77)))","v":0},null,null,3,"Pre escolar 5 años",{"$f":"IF($N$9=$P$9,GETPIVOTDATA(\"  t30\",INICIO!$A$77,\"mes\",$N$9),SUM(GETPIVOTDATA(\"  t30\",INICIO!$A$77)))","v":0}]
[8,"Psiquiatría ",{"$f":"IF($N$9=$P$9,GETPIVOTDATA(\"  t14\",INICIO!$A$77,\"mes\",$N$9),SUM(GETPIVOTDATA(\"  t14\",INICIO!$A$77)))","v":0},null,null,4,"Neonatología",{"$f":"IF($N$9=$P$9,GETPIVOTDATA(\"  t31\",INICIO!$A$77,\"mes\",$N$9),SUM(GETPIVOTDATA(\"  t31\",INICIO!$A$77)))","v":0}]
[9,"Otros CLINICA",{"$f":"IF($N$9=$P$9,GETPIVOTDATA(\"  t15\",INICIO!$A$77,\"mes\",$N$9),SUM(GETPIVOTDATA(\"  t15\",INICIO!$A$77)))","v":0},null,null,5,"Escolar (6-14 años)",{"$f":"IF($N$9=$P$9,GETPIVOTDATA(\"  t32\",INICIO!$A$77,\"mes\",$N$9),SUM(GETPIVOTDATA(\"  t32\",INICIO!$A$77)))","v":0}]
[10,"Endocrinología",{"$f":"IF($N$9=$P$9,GETPIVOTDATA(\"  t16\",INICIO!$A$77,\"mes\",$N$9),SUM(GETPIVOTDATA(\"  t16\",INICIO!$A$77)))","v":0},null,null,40,"Obst. y Ginec.",{"$f":"IF($N$9=$P$9,GETPIVOTDATA(\"  t33\",INICIO!$A$77,\"mes\",$N$9),SUM(GETPIVOTDATA(\"  t33\",INICIO!$A$77)))","v":0}]
[11,"Hematología",{"$f":"IF($N$9=$P$9,GETPIVOTDATA(\"  t17\",INICIO!$A$77,\"mes\",$N$9),SUM(GETPIVOTDATA(\"  t17\",INICIO!$A$77)))","v":0},null,null,1,"Obstetricia",{"$f":"IF($N$9=$P$9,GETPIVOTDATA(\"  t34\",INICIO!$A$77,\"mes\",$N$9),SUM(GETPIVOTDATA(\"  t34\",INICIO!$A$77)))","v":0}]
[12,"Reumatologia ",{"$f":"IF($N$9=$P$9,GETPIVOTDATA(\"  t18\",INICIO!$A$77,\"mes\",$N$9),SUM(GETPIVOTDATA(\"  t18\",INICIO!$A$77)))","v":0},null,null,2,"Ginecología",{"$f":"IF($N$9=$P$9,GETPIVOTDATA(\"  t35\",INICIO!$A$77,\"mes\",$N$9),SUM(GETPIVOTDATA(\"  t35\",INICIO!$A$77)))","v":0}]
[null,null,null,null,null,null,"UCI",{"$f":"IF($N$9=$P$9,GETPIVOTDATA(\"  t36\",INICIO!$A$77,\"mes\",$N$9),SUM(GETPIVOTDATA(\"  t36\",INICIO!$A$77)))","v":0}]

{"sheet":"SES2","index":3,"n_rows":54,"n_cols":213,"rows_kept":54,"cut":false,"hidden":false,"merged":[[19,0,29,0],[30,0,35,0],[53,0,53,1],[54,11,54,13],[55,11,55,13],[42,0,42,1],[43,0,43,1],[44,0,44,1],[45,0,45,1],[50,0,50,1],[51,0,51,1],[37,0,37,1],[38,0,38,1],[39,0,39,1],[40,0,40,1],[52,0,52,1],[9,0,9,1],[6,0,6,1],[41,0,41,1],[0,0,0,9],[1,0,1,9],[2,0,2,9],[18,0,18,1],[19,4,19,8],[20,4,20,8],[21,4,21,8],[22,4,22,8],[23,4,23,8],[24,4,24,8],[25,4,25,8],[28,4,28,8],[29,4,29,8],[30,4,30,8],[15,3,15,4],[9,3,9,5],[18,4,18,8],[6,3,6,5],[6,7,6,9],[26,4,26,8],[27,4,27,8]]}
["DIRECCION  REGIONAL DE SALUD CUSCO"]
["DIRECCION DE  ESTADISTICA E  INFORMATICA"]
["INFORMACION  MENSUAL DE SES39"]
[]
[]
["RED DE SALUD ",null,null,"MICRO  RED",null,null,null,"PROVINCIA"]
[{"$f":"MID(INICIO!E31,1,50)","v":"(Todas)"},null,null,{"$f":"MID(INICIO!E32,1,50)","v":"(Todas)"},null,null,null,{"$f":"MID(INICIO!E34,1,50)","v":"(Todas)"}]
[]
["ESTABLECIMIENTO",null,null,"DISTRITO"]
[{"$f":"MID(INICIO!E33,1,50)","v":"(Todas)"},null,null,{"$f":"MID(INICIO!E35,1,50)","v":"(Todas)"}]
[]
[null,"Datos"]
[null," mhosmg_1",null," mhosneum_1",null,null,null,null," mhoscard_1"," mhosneur_1"," mhosgast_1"," mhosderm_1"," mhosnefro_1"," mhossiqui_1"," mhosotrc_1"," ccgen_1"," ctraum_1"," cotorrin_1"," coftal_1"," curolog_1"," ciotros_1"," mhosmg_2"," mhosneum_2"," mhoscard_2"," mhosneur_2"," mhosgast_2"," mhosderm_2"," mhosnefro_2"," mhossiqui_2"," mhosotrc_2"," ccgen_2"," ctraum_2"," cotorrin_2"," coftal_2"," curolog_2"," ciotros_2"," mhosmg_3"," mhosneum_3"," mhoscard_3"," mhosneur_3"," mhosgast_3"," mhosderm_3"," mhosnefro_3"," mhossiqui_3"," mhosotrc_3"," ccgen_3"," ctraum_3"," cotorrin_3"," coftal_3"," curolog_3"," ciotros_3"," mhosmg_4"," mhosneum_4"," mhoscard_4"," mhosneur_4"," mhosgast_4"," mhosderm_4"," mhosnefro_4"," mhossiqui_4"," mhosotrc_4"," ccgen_4"," ctraum_4"," cotorrin_4"," coftal_4"," curolog_4"," ciotros_4"," mhosmg_5"," mhosneum_5"," mhoscard_5"," mhosneur_5"," mhosgast_5"," mhosderm_5"," mhosnefro_5"," mhossiqui_5"," mhosotrc_5"," ccgen_5"," ctraum_5"," cotorrin_5"," coftal_5"," curolog_5"," ciotros_5"," mhosmg_6"," mhosneum_6"," mhoscard_6"," mhosneur_6"," mhosgast_6"," mhosderm_6"," mhosnefro_6"," mhossiqui_6"," mhosotrc_6"," ccgen_6"," ctraum_6"," cotorrin_6"," coftal_6"," curolog_6"," ciotros_6"," mhosmg_7"," mhosneum_7"," mhoscard_7"," mhosneur_7"," mhosgast_7"," mhosderm_7"," mhosnefro_7"," mhossiqui_7"," mhosotrc_7"," ccgen_7"," ctraum_7"," cotorrin_7"," coftal_7"," curolog_7"," ciotros_7"," mhosmg_8"," mhosneum_8"," mhoscard_8"," mhosneur_8"," mhosgast_8"," mhosderm_8"," mhosnefro_8"," mhossiqui_8"," mhosotrc_8"," ccgen_8"," ctraum_8"," cotorrin_8"," coftal_8"," curolog_8"," ciotros_8"," mhosmg_9"," mhosneum_9"," mhoscard_9"," mhosneur_9"," mhosgast_9"," mhosderm_9"," mhosnefro_9"," mhossiqui_9"," mhosotrc_9"," ccgen_9"," ctraum_9"," cotorrin_9"," coftal_9"," curolog_9"," ciotros_9"," obs_gin_1"," obs_gin_2"," obs_gin_3"," obs_gin_4"," obs_gin_5"," obs_gin_6"," obs_gin_7"," obs_gin_8"," obs_gin_9"," obsuci_1"," obsuci_2"," obsuci_3"," obsuci_4"," obsuci_5"," obsuci_6"," obsuci_7"," obsuci_8"," obsuci_9"," pesc4_1"," pesc4_2"," pesc4_3"," pesc4_4"," pesc4_5"," pesc4_6"," pesc4_7"," pesc4_8"," pesc4_9"," pesc5_1"," pesc5_2"," pesc5_3"," pesc5_4"," pesc5_5"," pesc5_6"," pesc5_7"," pesc5_8"," pesc5_9"," pesc6_1"," pesc6_2"," pesc6_3"," pesc6_4"," pesc6_5"," pesc6_6"," pesc6_7"," pesc6_8"," pesc6_9"," plact_1"," plact_2"," plact_3"," plact_4"," plact_5"," plact_6"," plact_7"," plact_8"," plact_9"," pneona_1"," pneona_2"," pneona_3"," pneona_4"," pneona_5"," pneona_6"," pneona_7"," pneona_8"," pneona_9"," ginec_1"," ginec_2"," ginec_3"," ginec_4"," ginec_5"," ginec_6"," ginec_7"," ginec_8"," ginec_9"]
["Total",1729,null,0,null,null,null,null,0,0,0,0,0,0,36,2047,805,0,0,0,28,1095,0,0,0,0,0,0,0,9,1330,497,0,0,0,17,4983,0,0,0,0,0,0,0,52,5199,1222,0,0,0,64,192,0,0,0,0,0,0,0,1,227,36,0,0,0,3,182,0,0,0,0,0,0,0,0,182,24,0,0,0,3,4958,0,0,0,0,0,0,0,53,5247,1229,0,0,0,64,32855,0,0,0,0,0,0,0,167,40710,14769,0,0,0,695,36338,0,0,0,0,0,0,0,153,42783,15988,0,0,0,420,58284,0,0,0,0,0,0,0,1095,67630,24500,0,0,0,868,1265,732,9808,22,110,9716,23640,27209,43212,69,55,229,54,86,194,1032,1844,2007,181,110,1017,5,7,1003,4020,4282,7179,15,6,49,0,1,48,224,243,791,409,271,1258,18,20,1265,8219,8862,14007,709,316,1427,11,9,1383,9146,10973,23239,329,242,1248,0,6,1240,7729,9015,12351,541,295,3099,100,35,3167,8764,11047,19346]
[null,null,null,"AÑO",null,null,null,"INI",null,"FIN "]
[null,null,null,{"$f":"INICIO!B43","v":"2025"},null,null,"MES",1,"A",3]
[]
[]
["INTERVENCIONES QUIRURGICAS : ",null,"N°",null,"INTERVENCIONES QUIRURGICAS : ",null,null,null,null,"N\""]
["CIRUGIA MAYOR ","TOTAL ",{"$f":"IF($H$16=$J$16,GETPIVOTDATA(\"  t37\",INICIO!$A$77,\"mes\",$H$16),SUM(GETPIVOTDATA(\"  t37\",INICIO!$A$77)))","v":161},null,"N° DE UTILIZADAS SALA DE OPERACIONES ",null,null,null,null,1]
[null,"CESAREAS ",{"$f":"IF($H$16=$J$146,GETPIVOTDATA(\"  t38\",INICIO!$A$77,\"mes\",$H$16),SUM(GETPIVOTDATA(\"  t38\",INICIO!$A$77)))","v":48},null,"ATENCIONES EN U. HEMODIALISIS",null,null,null,null,{"$f":"IF($H$16=$J$146,GETPIVOTDATA(\"  t55\",INICIO!$A$77,\"mes\",$H$16),SUM(GETPIVOTDATA(\"  t55\",INICIO!$A$77)))","v":0}]
[null,"HISTERECTOMIA ",{"$f":"IF($H$16=$J$146,GETPIVOTDATA(\"  t39\",INICIO!$A$77,\"mes\",$H$16),SUM(GETPIVOTDATA(\"  t39\",INICIO!$A$77)))","v":3},null,"N° DE INTERVENCIONES QUIRURGICAS PROGRAMADAS",null,null,null,null,{"$f":"IF($H$16=$J$146,GETPIVOTDATA(\"  t56\",INICIO!$A$77,\"mes\",$H$16),SUM(GETPIVOTDATA(\"  t56\",INICIO!$A$77)))","v":148}]
[null,"TRAUMATOLOGIA ORTOPEDIA ",{"$f":"IF($H$16=$J$146,GETPIVOTDATA(\"  t40\",INICIO!$A$77,\"mes\",$H$16),SUM(GETPIVOTDATA(\"  t40\",INICIO!$A$77)))","v":12},null,"N° DE INTERVENCIONES QUIRURGICAS SUSPENDIDAS ",null,null,null,null,{"$f":"IF($H$16=$J$146,GETPIVOTDATA(\"  t57\",INICIO!$A$77,\"mes\",$H$16),SUM(GETPIVOTDATA(\"  t57\",INICIO!$A$77)))","v":0}]
[null,"CARDIOVASCULARES",{"$f":"IF($H$16=$J$146,GETPIVOTDATA(\"  t41\",INICIO!$A$77,\"mes\",$H$16),SUM(GETPIVOTDATA(\"  t41\",INICIO!$A$77)))","v":0},null,"N° DE INTERVENCIONES QUIRURGICAS REALIZADAS",null,null,null,null,{"$f":"IF($H$16=$J$146,GETPIVOTDATA(\"  t58\",INICIO!$A$77,\"mes\",$H$16),SUM(GETPIVOTDATA(\"  t58\",INICIO!$A$77)))","v":252}]
[null,"NEUROLOGICAS",{"$f":"IF($H$16=$J$146,GETPIVOTDATA(\"  t42\",INICIO!$A$77,\"mes\",$H$16),SUM(GETPIVOTDATA(\"  t42\",INICIO!$A$77)))","v":0},null,"N° HORAS  QUIRURGICAS DISPONIBLES",null,null,null,null,{"$f":"IF($H$16=$J$146,GETPIVOTDATA(\"  t59\",INICIO!$A$77,\"mes\",$H$16),SUM(GETPIVOTDATA(\"  t59\",INICIO!$A$77)))","v":2160}]
[null,"TORAXICAS",{"$f":"IF($H$16=$J$146,GETPIVOTDATA(\"  t43\",INICIO!$A$77,\"mes\",$H$16),SUM(GETPIVOTDATA(\"  t43\",INICIO!$A$77)))","v":0},null,"N° HORAS  QUIRURGICAS EFECTIVAS",null,null,null,null,{"$f":"IF($H$16=$J$146,GETPIVOTDATA(\"  t60\",INICIO!$A$77,\"mes\",$H$16),SUM(GETPIVOTDATA(\"  t60\",INICIO!$A$77)))","v":309}]
[null,"UROLOGICAS",{"$f":"IF($H$16=$J$146,GETPIVOTDATA(\"  t44\",INICIO!$A$77,\"mes\",$H$16),SUM(GETPIVOTDATA(\"  t44\",INICIO!$A$77)))","v":0},null,"N° PACIENTES OPERADOS",null,null,null,null,{"$f":"IF($H$16=$J$146,GETPIVOTDATA(\"  t61\",INICIO!$A$77,\"mes\",$H$16),SUM(GETPIVOTDATA(\"  t61\",INICIO!$A$77)))","v":241}]
[null,"ONCOLOGICAS",{"$f":"IF($H$16=$J$146,GETPIVOTDATA(\"  t45\",INICIO!$A$77,\"mes\",$H$16),SUM(GETPIVOTDATA(\"  t45\",INICIO!$A$77)))","v":0},null,"N° PACIENTES REINTERVENIDOS",null,null,null,null,{"$f":"IF($H$16=$J$146,GETPIVOTDATA(\"  t62\",INICIO!$A$77,\"mes\",$H$16),SUM(GETPIVOTDATA(\"  t62\",INICIO!$A$77)))","v":2}]
[null,"GASTROINTESTINALES",{"$f":"IF($H$16=$J$146,GETPIVOTDATA(\"  t46\",INICIO!$A$77,\"mes\",$H$16),SUM(GETPIVOTDATA(\"  t46\",INICIO!$A$77)))","v":89},null,"N° PACIENTES CON ENCEFALOPATIA HIPOXICA POST ACTO  QUIRURGICO",null,null,null,null,{"$f":"IF($H$16=$J$146,GETPIVOTDATA(\"  t63\",INICIO!$A$77,\"mes\",$H$16),SUM(GETPIVOTDATA(\"  t63\",INICIO!$A$77)))","v":0}]
[null,"OTRAS CIRUGIAS MAYORES",{"$f":"IF($H$16=$J$146,GETPIVOTDATA(\"  t47\",INICIO!$A$77,\"mes\",$H$16),SUM(GETPIVOTDATA(\"  t47\",INICIO!$A$77)))","v":9},null,"N° DE DEFUNCIONES  CENTRO  QUIRURGICO  ",null,null,null,null,{"$f":"IF($H$16=$J$146,GETPIVOTDATA(\"  t64\",INICIO!$A$77,\"mes\",$H$16),SUM(GETPIVOTDATA(\"  t64\",INICIO!$A$77)))","v":0}]
["CIRUGIA MENOR","TOTAL ",{"$f":"IF($H$16=$J$146,GETPIVOTDATA(\"  t48\",INICIO!$A$77,\"mes\",$H$16),SUM(GETPIVOTDATA(\"  t48\",INICIO!$A$77)))","v":91},null,"N° NECROPSIAS REALIZADAS",null,null,null,null,{"$f":"IF($H$16=$J$146,GETPIVOTDATA(\"  t65\",INICIO!$A$77,\"mes\",$H$16),SUM(GETPIVOTDATA(\"  t65\",INICIO!$A$77)))","v":0}]
[null,"PQRR:LIGADURA DE TROMPAS",{"$f":"IF($H$16=$J$146,GETPIVOTDATA(\"  t49\",INICIO!$A$77,\"mes\",$H$16),SUM(GETPIVOTDATA(\"  t49\",INICIO!$A$77)))","v":10}]
[null,"PQRR:VASECTOMIA",{"$f":"IF($H$16=$J$146,GETPIVOTDATA(\"  t50\",INICIO!$A$77,\"mes\",$H$16),SUM(GETPIVOTDATA(\"  t50\",INICIO!$A$77)))","v":0}]
[null,"LEGRADO  UTERINO  POR ABORTO",{"$f":"IF($H$16=$J$146,GETPIVOTDATA(\"  t51\",INICIO!$A$77,\"mes\",$H$16),SUM(GETPIVOTDATA(\"  t51\",INICIO!$A$77)))","v":19}]
[null,"LEGRADO  UTERINO POR OTRAS  CAUSAS",{"$f":"IF($H$16=$J$146,GETPIVOTDATA(\"  t52\",INICIO!$A$77,\"mes\",$H$16),SUM(GETPIVOTDATA(\"  t52\",INICIO!$A$77)))","v":14}]
[null,"OTRAS CIRUGIAS MENORES",{"$f":"IF($H$16=$J$146,GETPIVOTDATA(\"  t53\",INICIO!$A$77,\"mes\",$H$16),SUM(GETPIVOTDATA(\"  t53\",INICIO!$A$77)))","v":48}]
[]
["Descripcion",null,"Hospital","Periferie"]
["Partos",null,{"$f":"IF($H$16=$J$146,GETPIVOTDATA(\"  t66\",INICIO!$A$77,\"mes\",$H$16),SUM(GETPIVOTDATA(\"  t66\",INICIO!$A$77)))","v":112},{"$f":"IF($H$16=$J$146,GETPIVOTDATA(\"  t77\",INICIO!$A$77,\"mes\",$H$16),SUM(GETPIVOTDATA(\"  t77\",INICIO!$A$77)))","v":0}]
["Nacido vivo",null,{"$f":"IF($H$16=$J$146,GETPIVOTDATA(\"  t67\",INICIO!$A$77,\"mes\",$H$16),SUM(GETPIVOTDATA(\"  t67\",INICIO!$A$77)))","v":111},{"$f":"IF($H$16=$J$146,GETPIVOTDATA(\"  t78\",INICIO!$A$77,\"mes\",$H$16),SUM(GETPIVOTDATA(\"  t78\",INICIO!$A$77)))","v":0},null,null,null,null,null,null,null,"ABORTOS","GEST","TASA"]
["Defun.Fetal",null,{"$f":"IF($H$16=$J$146,GETPIVOTDATA(\"  t68\",INICIO!$A$77,\"mes\",$H$16),SUM(GETPIVOTDATA(\"  t68\",INICIO!$A$77)))","v":1},{"$f":"IF($H$16=$J$146,GETPIVOTDATA(\"  t79\",INICIO!$A$77,\"mes\",$H$16),SUM(GETPIVOTDATA(\"  t79\",INICIO!$A$77)))","v":0},null,null,null,null,null,null,null,72,298,{"$f":"C42/M41*100","v":6.0402684563758395}]
["Abortos",null,{"$f":"IF($H$16=$J$146,GETPIVOTDATA(\"  t69\",INICIO!$A$77,\"mes\",$H$16),SUM(GETPIVOTDATA(\"  t69\",INICIO!$A$77)))","v":18},{"$f":"IF($H$16=$J$146,GETPIVOTDATA(\"  t80\",INICIO!$A$77,\"mes\",$H$16),SUM(GETPIVOTDATA(\"  t80\",INICIO!$A$77)))","v":0}]
["Def.Materna",null,{"$f":"IF($H$16=$J$146,GETPIVOTDATA(\"  t70\",INICIO!$A$77,\"mes\",$H$16),SUM(GETPIVOTDATA(\"  t70\",INICIO!$A$77)))","v":0},{"$f":"IF($H$16=$J$146,GETPIVOTDATA(\"  t81\",INICIO!$A$77,\"mes\",$H$16),SUM(GETPIVOTDATA(\"  t81\",INICIO!$A$77)))","v":0}]
["80:Pac Egres",null,{"$f":"IF($H$16=$J$146,GETPIVOTDATA(\"  t71\",INICIO!$A$77,\"mes\",$H$16),SUM(GETPIVOTDATA(\"  t71\",INICIO!$A$77)))","v":409},{"$f":"IF($H$16=$J$146,GETPIVOTDATA(\"  t82\",INICIO!$A$77,\"mes\",$H$16),SUM(GETPIVOTDATA(\"  t82\",INICIO!$A$77)))","v":0}]
["81 Vivos",null,{"$f":"IF($H$16=$J$146,GETPIVOTDATA(\"  t72\",INICIO!$A$77,\"mes\",$H$16),SUM(GETPIVOTDATA(\"  t72\",INICIO!$A$77)))","v":409},{"$f":"IF($H$16=$J$146,GETPIVOTDATA(\"  t83\",INICIO!$A$77,\"mes\",$H$16),SUM(GETPIVOTDATA(\"  t83\",INICIO!$A$77)))","v":0}]
["82 fallecidos",null,{"$f":"IF($H$16=$J$146,GETPIVOTDATA(\"  t73\",INICIO!$A$77,\"mes\",$H$16),SUM(GETPIVOTDATA(\"  t73\",INICIO!$A$77)))","v":0},{"$f":"IF($H$16=$J$146,GETPIVOTDATA(\"  t84\",INICIO!$A$77,\"mes\",$H$16),SUM(GETPIVOTDATA(\"  t84\",INICIO!$A$77)))","v":0}]
[null,"83 <24 hrs",{"$f":"IF($H$16=$J$146,GETPIVOTDATA(\"  t74\",INICIO!$A$77,\"mes\",$H$16),SUM(GETPIVOTDATA(\"  t74\",INICIO!$A$77)))","v":0},{"$f":"IF($H$16=$J$146,GETPIVOTDATA(\"  t85\",INICIO!$A$77,\"mes\",$H$16),SUM(GETPIVOTDATA(\"  t85\",INICIO!$A$77)))","v":0}]
[null,"84 24-48 hrs",{"$f":"IF($H$16=$J$146,GETPIVOTDATA(\"  t75\",INICIO!$A$77,\"mes\",$H$16),SUM(GETPIVOTDATA(\"  t75\",INICIO!$A$77)))","v":0},{"$f":"IF($H$16=$J$146,GETPIVOTDATA(\"  t86\",INICIO!$A$77,\"mes\",$H$16),SUM(GETPIVOTDATA(\"  t86\",INICIO!$A$77)))","v":0}]
[null,"85    >48 hrs",{"$f":"IF($H$16=$J$146,GETPIVOTDATA(\"  t76\",INICIO!$A$77,\"mes\",$H$16),SUM(GETPIVOTDATA(\"  t76\",INICIO!$A$77)))","v":0},{"$f":"IF($H$16=$J$146,GETPIVOTDATA(\"  t87\",INICIO!$A$77,\"mes\",$H$16),SUM(GETPIVOTDATA(\"  t87\",INICIO!$A$77)))","v":0}]
[]
["EMERGENCIAS :"]
["SALA DE OBSERVACION ",null,"<24horas",">=24 Horas"]
["N° Pacientes en Sala de Observacion ",null,{"$f":"IF($H$16=$J$146,GETPIVOTDATA(\"  t88\",INICIO!$A$77,\"mes\",$H$16),SUM(GETPIVOTDATA(\"  t88\",INICIO!$A$77)))","v":178},{"$f":"IF($H$16=$J$146,GETPIVOTDATA(\"  t90\",INICIO!$A$77,\"mes\",$H$16),SUM(GETPIVOTDATA(\"  t90\",INICIO!$A$77)))","v":1}]
["N° Reingresoso  en  sala de Observacion ",null,{"$f":"IF($H$16=$J$146,GETPIVOTDATA(\"  t89\",INICIO!$A$77,\"mes\",$H$16),SUM(GETPIVOTDATA(\"  t89\",INICIO!$A$77)))","v":0},{"$f":"IF($H$16=$J$146,GETPIVOTDATA(\"  t91\",INICIO!$A$77,\"mes\",$H$16),SUM(GETPIVOTDATA(\"  t91\",INICIO!$A$77)))","v":0}]

{"sheet":"SES3","index":4,"n_rows":53,"n_cols":100,"rows_kept":53,"cut":false,"hidden":false,"merged":[[42,12,42,13],[42,14,42,16],[44,14,44,16],[35,12,35,13],[36,12,36,13],[37,12,37,13],[38,12,38,13],[39,12,39,13],[37,14,37,16],[38,14,38,16],[39,14,39,16],[36,14,36,16],[27,12,27,13],[30,12,30,13],[31,12,31,13],[32,12,32,13],[33,12,33,13],[34,12,34,13],[32,14,32,16],[33,14,33,16],[34,14,34,16],[35,14,35,16],[27,14,27,16],[28,14,28,16],[29,14,29,16],[30,14,30,16],[31,14,31,16],[51,0,51,1],[42,0,42,1],[43,0,43,1],[44,0,44,1],[45,0,45,1],[46,0,46,1],[47,0,47,1],[48,0,48,1],[49,0,49,1],[50,0,50,1],[44,7,44,9],[43,7,43,9],[43,14,43,16],[44,12,44,13],[43,12,43,13],[41,0,41,1],[41,12,41,13],[41,14,41,16],[27,0,27,1],[28,0,28,1],[34,0,34,1],[35,0,35,1],[36,0,36,1],[37,0,37,1],[38,0,38,1],[39,0,39,1],[40,0,40,1],[40,12,40,13],[40,14,40,16],[28,12,28,13],[29,12,29,13],[25,0,25,1],[25,12,25,13],[25,14,25,16],[26,0,26,1],[26,12,26,13],[26,14,26,16],[23,0,23,1],[23,12,23,13],[23,14,23,16],[24,0,24,1],[24,12,24,13],[24,14,24,16],[21,0,21,1],[21,12,21,13],[21,14,21,16],[22,0,22,1],[22,12,22,13],[22,14,22,16],[19,0,19,1],[19,12,19,13],[19,14,19,16],[20,0,20,1],[20,12,20,13],[20,14,20,16],[18,0,18,1],[18,7,18,9],[18,12,18,13],[18,14,18,16],[9,0,9,1],[8,9,8,10],[6,8,6,10],[9,3,9,5],[6,3,6,6],[0,0,0,16],[1,0,1,16],[2,0,2,16],[3,0,3,16],[6,0,6,1]]}
["DIRECCION  REGIONAL DE SALUD CUSCO"]
["DIRECCION DE  ESTADISTICA E  INFORMATICA"]
["INFORMACION  MENSUAL DE SES39"]
[]
[]
["RED DE SALUD ",null,null,"MICRO  RED",null,null,null,null,"PROVINCIA"]
[{"$f":"MID(INICIO!E31,1,50)","v":"(Todas)"},null,null,{"$f":"MID(INICIO!E32,1,50)","v":"(Todas)"},null,null,null,null,{"$f":"MID(INICIO!E34,1,50)","v":"(Todas)"}]
[null,null,null,null,null,null,null,null,null,null,null,null,null,null,"INI",null,"FIN "]
["ESTABLECIMIENTO",null,null,"DISTRITO",null,null,null,null,"AÑO",{"$f":"INICIO!B43","v":"2025"},null,null,null,"MES",1,"A",3]
[{"$f":"MID(INICIO!E33,1,50)","v":"(Todas)"},null,null,{"$f":"MID(INICIO!E35,1,50)","v":"(Todas)"}]
[]
[]
[]
[null,"Datos"]
[null,"Suma de h1","Suma de h2","Suma de h3","Suma de h4","Suma de h5","Suma de h6","Suma de h7","Suma de h8","Suma de h9","Suma de h10","Suma de h11","Suma de h12","Suma de h13","Suma de h14","Suma de h15","Suma de h16","Suma de h17","Suma de h18","Suma de h19","Suma de h20","Suma de h21","Suma de h22","Suma de h23","Suma de h24","Suma de h25","Suma de h26","Suma de h27","Suma de h28","Suma de h29","Suma de h30","Suma de h31","Suma de h32","Suma de h33","Suma de ce1","Suma de ce2","Suma de ce3","Suma de ce4","Suma de ce5","Suma de ce6","Suma de ce7","Suma de ce8","Suma de ce9","Suma de ce10","Suma de ce11","Suma de ce12","Suma de ce13","Suma de ce14","Suma de ce15","Suma de ce16","Suma de ce17","Suma de ce18","Suma de ce19","Suma de ce20","Suma de ce21","Suma de ce22","Suma de ce23","Suma de ce24","Suma de ce25","Suma de ce26","Suma de ce27","Suma de ce28","Suma de ce29","Suma de ce30","Suma de ce31","Suma de ce32","Suma de ce33","Suma de e1","Suma de e2","Suma de e3","Suma de e4","Suma de e5","Suma de e6","Suma de e7","Suma de e8","Suma de e9","Suma de e10","Suma de e11","Suma de e12","Suma de e13","Suma de e14","Suma de e15","Suma de e16","Suma de e17","Suma de e18","Suma de e19","Suma de e20","Suma de e21","Suma de e22","Suma de e23","Suma de e24","Suma de e25","Suma de e26","Suma de e27","Suma de e28","Suma de e29","Suma de e30","Suma de e31","Suma de e32","Suma de e33"]
["Total",53393,29343,103895,478,5343,2,2773,1,293,0,21072,891,182,1,10,12,134,20173,210294,39449,34,0,13680,2844,326,20068,744,88967,805,2560,97110,363800,222886,280,2308,1243497,1094,9729,284,16613,1304,2490,275,71934,8128,6399,874,458,206,958,219802,22426,3876,256,721,3167,82,77,3445,1929,1562099,28119,19426,45036,71206,7202,277,3341,55903,2113,9959,4149,697,700,10,1,18866,11902,3568,49,155,0,183,22256,11221,6748,362,30,1212,770,264,0,353,22941,6009,12891,11465,10317,12160]
[]
[]
["Tipo de Procedimiento",null,"Total","Hospitali.","Consul.Ext.","Emerg",null,"Tipo de Procedimiento",null,null,"Total","Hospitali.","Consul.Ext.",null,"Emerg"]
[" NUMERO TOTAL  DE RACIONES ",null,{"$f":"SUM(D20:F20)","v":8059},{"$f":"IF($O$9=$Q$9,GETPIVOTDATA(\"  u01\",INICIO!$A$102,\"mes\",$O$9),SUM(GETPIVOTDATA(\"  u01\",INICIO!$A$102)))","v":7541},{"$f":"IF($O$9=$Q$9,GETPIVOTDATA(\"  u06\",INICIO!$A$102,\"mes\",$O$9),SUM(GETPIVOTDATA(\"  u06\",INICIO!$A$102)))","v":0},{"$f":"IF($O$9=$Q$9,GETPIVOTDATA(\"  u11\",INICIO!$A$102,\"mes\",$O$9),SUM(GETPIVOTDATA(\"  u11\",INICIO!$A$102)))","v":518},null,"OTROS  SERVICIOS A DEMANDA ",null,null,{"$f":"SUM(L20:Q20)","v":24619},{"$f":"IF($O$9=$Q$9,GETPIVOTDATA(\"  u88\",INICIO!$A$102,\"mes\",$O$9),SUM(GETPIVOTDATA(\"  u88\",INICIO!$A$102)))","v":11389},{"$f":"IF($O$9=$Q$9,GETPIVOTDATA(\"  u111\",INICIO!$A$102,\"mes\",$O$9),SUM(GETPIVOTDATA(\"  u111\",INICIO!$A$102)))","v":10009},null,{"$f":"IF($O$9=$Q$9,GETPIVOTDATA(\"  u134\",INICIO!$A$102,\"mes\",$O$9),SUM(GETPIVOTDATA(\"  u134\",INICIO!$A$102)))","v":3221}]
["Para Pacientes",null,{"$f":"SUM(D21:F21)","v":2911},{"$f":"IF($O$9=$Q$9,GETPIVOTDATA(\"  u02\",INICIO!$A$102,\"mes\",$O$9),SUM(GETPIVOTDATA(\"  u02\",INICIO!$A$102)))","v":2911},{"$f":"IF($O$9=$Q$9,GETPIVOTDATA(\"  u07\",INICIO!$A$102,\"mes\",$O$9),SUM(GETPIVOTDATA(\"  u07\",INICIO!$A$102)))","v":0},{"$f":"IF($O$9=$Q$9,GETPIVOTDATA(\"  u12\",INICIO!$A$102,\"mes\",$O$9),SUM(GETPIVOTDATA(\"  u12\",INICIO!$A$102)))","v":0},null,"- Curaciones",null,null,{"$f":"SUM(L21:Q21)","v":494},{"$f":"IF($O$9=$Q$9,GETPIVOTDATA(\"  u89\",INICIO!$A$102,\"mes\",$O$9),SUM(GETPIVOTDATA(\"  u89\",INICIO!$A$102)))","v":155},{"$f":"IF($O$9=$Q$9,GETPIVOTDATA(\"  u112\",INICIO!$A$102,\"mes\",$O$9),SUM(GETPIVOTDATA(\"  u112\",INICIO!$A$102)))","v":124},null,{"$f":"IF($O$9=$Q$9,GETPIVOTDATA(\"  u135\",INICIO!$A$102,\"mes\",$O$9),SUM(GETPIVOTDATA(\"  u135\",INICIO!$A$102)))","v":215}]
["Para el Personal",null,5148,{"$f":"IF($O$9=$Q$9,GETPIVOTDATA(\"  u03\",INICIO!$A$102,\"mes\",$O$9),SUM(GETPIVOTDATA(\"  u03\",INICIO!$A$102)))","v":4630},{"$f":"IF($O$9=$Q$9,GETPIVOTDATA(\"  u08\",INICIO!$A$102,\"mes\",$O$9),SUM(GETPIVOTDATA(\"  u08\",INICIO!$A$102)))","v":0},{"$f":"IF($O$9=$Q$9,GETPIVOTDATA(\"  u13\",INICIO!$A$102,\"mes\",$O$9),SUM(GETPIVOTDATA(\"  u13\",INICIO!$A$102)))","v":518},null,"- Suturas",null,null,186,{"$f":"IF($O$9=$Q$9,GETPIVOTDATA(\"  u90\",INICIO!$A$102,\"mes\",$O$9),SUM(GETPIVOTDATA(\"  u90\",INICIO!$A$102)))","v":40},{"$f":"IF($O$9=$Q$9,GETPIVOTDATA(\"  u113\",INICIO!$A$102,\"mes\",$O$9),SUM(GETPIVOTDATA(\"  u113\",INICIO!$A$102)))","v":1},null,{"$f":"IF($O$9=$Q$9,GETPIVOTDATA(\"  u136\",INICIO!$A$102,\"mes\",$O$9),SUM(GETPIVOTDATA(\"  u136\",INICIO!$A$102)))","v":145}]
["X.- (150)  Farmacia (Recetas)",null,11821,{"$f":"IF($O$9=$Q$9,GETPIVOTDATA(\"  u04\",INICIO!$A$102,\"mes\",$O$9),SUM(GETPIVOTDATA(\"  u04\",INICIO!$A$102)))","v":3190},{"$f":"IF($O$9=$Q$9,GETPIVOTDATA(\"  u09\",INICIO!$A$102,\"mes\",$O$9),SUM(GETPIVOTDATA(\"  u09\",INICIO!$A$102)))","v":7263},{"$f":"IF($O$9=$Q$9,GETPIVOTDATA(\"  u14\",INICIO!$A$102,\"mes\",$O$9),SUM(GETPIVOTDATA(\"  u14\",INICIO!$A$102)))","v":1368},null,"-Extracción de Puntos",null,null,64,{"$f":"IF($O$9=$Q$9,GETPIVOTDATA(\"  u91\",INICIO!$A$102,\"mes\",$O$9),SUM(GETPIVOTDATA(\"  u91\",INICIO!$A$102)))","v":0},{"$f":"IF($O$9=$Q$9,GETPIVOTDATA(\"  u114\",INICIO!$A$102,\"mes\",$O$9),SUM(GETPIVOTDATA(\"  u114\",INICIO!$A$102)))","v":39},null,{"$f":"IF($O$9=$Q$9,GETPIVOTDATA(\"  u137\",INICIO!$A$102,\"mes\",$O$9),SUM(GETPIVOTDATA(\"  u137\",INICIO!$A$102)))","v":25}]
["XI Ambulancia (Traslados Pascientes)",null,45,{"$f":"IF($O$9=$Q$9,GETPIVOTDATA(\"  u05\",INICIO!$A$102,\"mes\",$O$9),SUM(GETPIVOTDATA(\"  u05\",INICIO!$A$102)))","v":0},{"$f":"IF($O$9=$Q$9,GETPIVOTDATA(\"  u10\",INICIO!$A$102,\"mes\",$O$9),SUM(GETPIVOTDATA(\"  u10\",INICIO!$A$102)))","v":0},{"$f":"IF($O$9=$Q$9,GETPIVOTDATA(\"  u15\",INICIO!$A$102,\"mes\",$O$9),SUM(GETPIVOTDATA(\"  u15\",INICIO!$A$102)))","v":45},null,"- Extracción de Uña",null,null,8,{"$f":"IF($O$9=$Q$9,GETPIVOTDATA(\"  u92\",INICIO!$A$102,\"mes\",$O$9),SUM(GETPIVOTDATA(\"  u92\",INICIO!$A$102)))","v":0},{"$f":"IF($O$9=$Q$9,GETPIVOTDATA(\"  u115\",INICIO!$A$102,\"mes\",$O$9),SUM(GETPIVOTDATA(\"  u115\",INICIO!$A$102)))","v":2},null,{"$f":"IF($O$9=$Q$9,GETPIVOTDATA(\"  u138\",INICIO!$A$102,\"mes\",$O$9),SUM(GETPIVOTDATA(\"  u138\",INICIO!$A$102)))","v":6}]
["XII DIAGNOSTICO  DE IMÁGENES",null,0,null,null,null,null,"- Extracción de cuerpo Extraño",null,null,13,{"$f":"IF($O$9=$Q$9,GETPIVOTDATA(\"  u93\",INICIO!$A$102,\"mes\",$O$9),SUM(GETPIVOTDATA(\"  u93\",INICIO!$A$102)))","v":0},{"$f":"IF($O$9=$Q$9,GETPIVOTDATA(\"  u116\",INICIO!$A$102,\"mes\",$O$9),SUM(GETPIVOTDATA(\"  u116\",INICIO!$A$102)))","v":0},null,{"$f":"IF($O$9=$Q$9,GETPIVOTDATA(\"  u139\",INICIO!$A$102,\"mes\",$O$9),SUM(GETPIVOTDATA(\"  u139\",INICIO!$A$102)))","v":13}]
["Total de Procedimientos",null,0,null,null,null,null,"- Cauterizaciones",null,null,0,{"$f":"IF($O$9=$Q$9,GETPIVOTDATA(\"  u94\",INICIO!$A$102,\"mes\",$O$9),SUM(GETPIVOTDATA(\"  u94\",INICIO!$A$102)))","v":0},{"$f":"IF($O$9=$Q$9,GETPIVOTDATA(\"  u117\",INICIO!$A$102,\"mes\",$O$9),SUM(GETPIVOTDATA(\"  u117\",INICIO!$A$102)))","v":0},null,{"$f":"IF($O$9=$Q$9,GETPIVOTDATA(\"  u140\",INICIO!$A$102,\"mes\",$O$9),SUM(GETPIVOTDATA(\"  u140\",INICIO!$A$102)))","v":0}]
["Tomografias ",null,0,{"$f":"IF($O$9=$Q$9,GETPIVOTDATA(\"  u16\",INICIO!$A$102,\"mes\",$O$9),SUM(GETPIVOTDATA(\"  u16\",INICIO!$A$102)))","v":0},{"$f":"IF($O$9=$Q$9,GETPIVOTDATA(\"  u32\",INICIO!$A$102,\"mes\",$O$9),SUM(GETPIVOTDATA(\"  u32\",INICIO!$A$102)))","v":0},{"$f":"IF($O$9=$Q$9,GETPIVOTDATA(\"  u48\",INICIO!$A$102,\"mes\",$O$9),SUM(GETPIVOTDATA(\"  u48\",INICIO!$A$102)))","v":0},null,"- Debridación de Abscesos",null,null,1,{"$f":"IF($O$9=$Q$9,GETPIVOTDATA(\"  u95\",INICIO!$A$102,\"mes\",$O$9),SUM(GETPIVOTDATA(\"  u95\",INICIO!$A$102)))","v":0},{"$f":"IF($O$9=$Q$9,GETPIVOTDATA(\"  u118\",INICIO!$A$102,\"mes\",$O$9),SUM(GETPIVOTDATA(\"  u118\",INICIO!$A$102)))","v":0},null,{"$f":"IF($O$9=$Q$9,GETPIVOTDATA(\"  u141\",INICIO!$A$102,\"mes\",$O$9),SUM(GETPIVOTDATA(\"  u141\",INICIO!$A$102)))","v":1}]
["Resonancia Magnatica",null,0,{"$f":"IF($O$9=$Q$9,GETPIVOTDATA(\"  u17\",INICIO!$A$102,\"mes\",$O$9),SUM(GETPIVOTDATA(\"  u17\",INICIO!$A$102)))","v":0},{"$f":"IF($O$9=$Q$9,GETPIVOTDATA(\"  u33\",INICIO!$A$102,\"mes\",$O$9),SUM(GETPIVOTDATA(\"  u33\",INICIO!$A$102)))","v":0},{"$f":"IF($O$9=$Q$9,GETPIVOTDATA(\"  u49\",INICIO!$A$102,\"mes\",$O$9),SUM(GETPIVOTDATA(\"  u49\",INICIO!$A$102)))","v":0},null,"- Inyectable intramuscular",null,null,779,{"$f":"IF($O$9=$Q$9,GETPIVOTDATA(\"  u96\",INICIO!$A$102,\"mes\",$O$9),SUM(GETPIVOTDATA(\"  u96\",INICIO!$A$102)))","v":231},{"$f":"IF($O$9=$Q$9,GETPIVOTDATA(\"  u119\",INICIO!$A$102,\"mes\",$O$9),SUM(GETPIVOTDATA(\"  u119\",INICIO!$A$102)))","v":254},null,{"$f":"IF($O$9=$Q$9,GETPIVOTDATA(\"  u142\",INICIO!$A$102,\"mes\",$O$9),SUM(GETPIVOTDATA(\"  u142\",INICIO!$A$102)))","v":294}]
["146.RADIODIAG. placas radiográficos",null,0,{"$f":"IF($O$9=$Q$9,GETPIVOTDATA(\"  u18\",INICIO!$A$102,\"mes\",$O$9),SUM(GETPIVOTDATA(\"  u18\",INICIO!$A$102)))","v":0},{"$f":"IF($O$9=$Q$9,GETPIVOTDATA(\"  u34\",INICIO!$A$102,\"mes\",$O$9),SUM(GETPIVOTDATA(\"  u34\",INICIO!$A$102)))","v":0},{"$f":"IF($O$9=$Q$9,GETPIVOTDATA(\"  u50\",INICIO!$A$102,\"mes\",$O$9),SUM(GETPIVOTDATA(\"  u50\",INICIO!$A$102)))","v":0},null,"- Inyectable Endovenoso",null,null,5793,{"$f":"IF($O$9=$Q$9,GETPIVOTDATA(\"  u97\",INICIO!$A$102,\"mes\",$O$9),SUM(GETPIVOTDATA(\"  u97\",INICIO!$A$102)))","v":3430},{"$f":"IF($O$9=$Q$9,GETPIVOTDATA(\"  u120\",INICIO!$A$102,\"mes\",$O$9),SUM(GETPIVOTDATA(\"  u120\",INICIO!$A$102)))","v":1838},null,{"$f":"IF($O$9=$Q$9,GETPIVOTDATA(\"  u143\",INICIO!$A$102,\"mes\",$O$9),SUM(GETPIVOTDATA(\"  u143\",INICIO!$A$102)))","v":525}]
[null,"Niños",244,{"$f":"IF($O$9=$Q$9,GETPIVOTDATA(\"  u19\",INICIO!$A$102,\"mes\",$O$9),SUM(GETPIVOTDATA(\"  u19\",INICIO!$A$102)))","v":10},{"$f":"IF($O$9=$Q$9,GETPIVOTDATA(\"  u35\",INICIO!$A$102,\"mes\",$O$9),SUM(GETPIVOTDATA(\"  u35\",INICIO!$A$102)))","v":122},{"$f":"IF($O$9=$Q$9,GETPIVOTDATA(\"  u51\",INICIO!$A$102,\"mes\",$O$9),SUM(GETPIVOTDATA(\"  u51\",INICIO!$A$102)))","v":112},null,"- Fluidoterapia (Venoclisis)",null,null,1746,{"$f":"IF($O$9=$Q$9,GETPIVOTDATA(\"  u98\",INICIO!$A$102,\"mes\",$O$9),SUM(GETPIVOTDATA(\"  u98\",INICIO!$A$102)))","v":777},{"$f":"IF($O$9=$Q$9,GETPIVOTDATA(\"  u121\",INICIO!$A$102,\"mes\",$O$9),SUM(GETPIVOTDATA(\"  u121\",INICIO!$A$102)))","v":447},null,{"$f":"IF($O$9=$Q$9,GETPIVOTDATA(\"  u144\",INICIO!$A$102,\"mes\",$O$9),SUM(GETPIVOTDATA(\"  u144\",INICIO!$A$102)))","v":522}]
[null,"Adolescentes",100,{"$f":"IF($O$9=$Q$9,GETPIVOTDATA(\"  u20\",INICIO!$A$102,\"mes\",$O$9),SUM(GETPIVOTDATA(\"  u20\",INICIO!$A$102)))","v":4},{"$f":"IF($O$9=$Q$9,GETPIVOTDATA(\"  u36\",INICIO!$A$102,\"mes\",$O$9),SUM(GETPIVOTDATA(\"  u36\",INICIO!$A$102)))","v":57},{"$f":"IF($O$9=$Q$9,GETPIVOTDATA(\"  u52\",INICIO!$A$102,\"mes\",$O$9),SUM(GETPIVOTDATA(\"  u52\",INICIO!$A$102)))","v":39},null,"- Taponamiento Nasal",null,null,10,{"$f":"IF($O$9=$Q$9,GETPIVOTDATA(\"  u99\",INICIO!$A$102,\"mes\",$O$9),SUM(GETPIVOTDATA(\"  u99\",INICIO!$A$102)))","v":1},{"$f":"IF($O$9=$Q$9,GETPIVOTDATA(\"  u122\",INICIO!$A$102,\"mes\",$O$9),SUM(GETPIVOTDATA(\"  u122\",INICIO!$A$102)))","v":0},null,{"$f":"IF($O$9=$Q$9,GETPIVOTDATA(\"  u145\",INICIO!$A$102,\"mes\",$O$9),SUM(GETPIVOTDATA(\"  u145\",INICIO!$A$102)))","v":9}]
[null,"Joven",144,{"$f":"IF($O$9=$Q$9,GETPIVOTDATA(\"  u21\",INICIO!$A$102,\"mes\",$O$9),SUM(GETPIVOTDATA(\"  u21\",INICIO!$A$102)))","v":6},{"$f":"IF($O$9=$Q$9,GETPIVOTDATA(\"  u37\",INICIO!$A$102,\"mes\",$O$9),SUM(GETPIVOTDATA(\"  u37\",INICIO!$A$102)))","v":69},{"$f":"IF($O$9=$Q$9,GETPIVOTDATA(\"  u53\",INICIO!$A$102,\"mes\",$O$9),SUM(GETPIVOTDATA(\"  u53\",INICIO!$A$102)))","v":69},null,"- Lavado de Oído",null,null,6,{"$f":"IF($O$9=$Q$9,GETPIVOTDATA(\"  u100\",INICIO!$A$102,\"mes\",$O$9),SUM(GETPIVOTDATA(\"  u100\",INICIO!$A$102)))","v":3},{"$f":"IF($O$9=$Q$9,GETPIVOTDATA(\"  u123\",INICIO!$A$102,\"mes\",$O$9),SUM(GETPIVOTDATA(\"  u123\",INICIO!$A$102)))","v":3},null,{"$f":"IF($O$9=$Q$9,GETPIVOTDATA(\"  u146\",INICIO!$A$102,\"mes\",$O$9),SUM(GETPIVOTDATA(\"  u146\",INICIO!$A$102)))","v":0}]
[null,"Adultos",193,{"$f":"IF($O$9=$Q$9,GETPIVOTDATA(\"  u22\",INICIO!$A$102,\"mes\",$O$9),SUM(GETPIVOTDATA(\"  u22\",INICIO!$A$102)))","v":9},{"$f":"IF($O$9=$Q$9,GETPIVOTDATA(\"  u38\",INICIO!$A$102,\"mes\",$O$9),SUM(GETPIVOTDATA(\"  u38\",INICIO!$A$102)))","v":58},{"$f":"IF($O$9=$Q$9,GETPIVOTDATA(\"  u54\",INICIO!$A$102,\"mes\",$O$9),SUM(GETPIVOTDATA(\"  u54\",INICIO!$A$102)))","v":126},null,"- Nebulizaciones - Inalaciones",null,null,397,{"$f":"IF($O$9=$Q$9,GETPIVOTDATA(\"  u101\",INICIO!$A$102,\"mes\",$O$9),SUM(GETPIVOTDATA(\"  u101\",INICIO!$A$102)))","v":261},{"$f":"IF($O$9=$Q$9,GETPIVOTDATA(\"  u124\",INICIO!$A$102,\"mes\",$O$9),SUM(GETPIVOTDATA(\"  u124\",INICIO!$A$102)))","v":106},null,{"$f":"IF($O$9=$Q$9,GETPIVOTDATA(\"  u147\",INICIO!$A$102,\"mes\",$O$9),SUM(GETPIVOTDATA(\"  u147\",INICIO!$A$102)))","v":30}]
[null,"Adultos Mayores",149,{"$f":"IF($O$9=$Q$9,GETPIVOTDATA(\"  u23\",INICIO!$A$102,\"mes\",$O$9),SUM(GETPIVOTDATA(\"  u23\",INICIO!$A$102)))","v":20},{"$f":"IF($O$9=$Q$9,GETPIVOTDATA(\"  u39\",INICIO!$A$102,\"mes\",$O$9),SUM(GETPIVOTDATA(\"  u39\",INICIO!$A$102)))","v":57},{"$f":"IF($O$9=$Q$9,GETPIVOTDATA(\"  u55\",INICIO!$A$102,\"mes\",$O$9),SUM(GETPIVOTDATA(\"  u55\",INICIO!$A$102)))","v":72},null,"- Cateterismo (Vesical Gastrico)",null,null,78,{"$f":"IF($O$9=$Q$9,GETPIVOTDATA(\"  u102\",INICIO!$A$102,\"mes\",$O$9),SUM(GETPIVOTDATA(\"  u102\",INICIO!$A$102)))","v":0},{"$f":"IF($O$9=$Q$9,GETPIVOTDATA(\"  u125\",INICIO!$A$102,\"mes\",$O$9),SUM(GETPIVOTDATA(\"  u125\",INICIO!$A$102)))","v":17},null,{"$f":"IF($O$9=$Q$9,GETPIVOTDATA(\"  u148\",INICIO!$A$102,\"mes\",$O$9),SUM(GETPIVOTDATA(\"  u148\",INICIO!$A$102)))","v":61}]
["Radiografias Odontologicas",null,0,{"$f":"IF($O$9=$Q$9,GETPIVOTDATA(\"  u24\",INICIO!$A$102,\"mes\",$O$9),SUM(GETPIVOTDATA(\"  u24\",INICIO!$A$102)))","v":0},{"$f":"IF($O$9=$Q$9,GETPIVOTDATA(\"  u40\",INICIO!$A$102,\"mes\",$O$9),SUM(GETPIVOTDATA(\"  u40\",INICIO!$A$102)))","v":0},{"$f":"IF($O$9=$Q$9,GETPIVOTDATA(\"  u56\",INICIO!$A$102,\"mes\",$O$9),SUM(GETPIVOTDATA(\"  u56\",INICIO!$A$102)))","v":0},null,"- Colocación de Yesos",null,null,22,{"$f":"IF($O$9=$Q$9,GETPIVOTDATA(\"  u103\",INICIO!$A$102,\"mes\",$O$9),SUM(GETPIVOTDATA(\"  u103\",INICIO!$A$102)))","v":0},{"$f":"IF($O$9=$Q$9,GETPIVOTDATA(\"  u126\",INICIO!$A$102,\"mes\",$O$9),SUM(GETPIVOTDATA(\"  u126\",INICIO!$A$102)))","v":0},null,{"$f":"IF($O$9=$Q$9,GETPIVOTDATA(\"  u149\",INICIO!$A$102,\"mes\",$O$9),SUM(GETPIVOTDATA(\"  u149\",INICIO!$A$102)))","v":22}]
["ECODIAG. Ecografias gral.",null,578,{"$f":"IF($O$9=$Q$9,GETPIVOTDATA(\"  u25\",INICIO!$A$102,\"mes\",$O$9),SUM(GETPIVOTDATA(\"  u25\",INICIO!$A$102)))","v":0},{"$f":"IF($O$9=$Q$9,GETPIVOTDATA(\"  u41\",INICIO!$A$102,\"mes\",$O$9),SUM(GETPIVOTDATA(\"  u41\",INICIO!$A$102)))","v":578},{"$f":"IF($O$9=$Q$9,GETPIVOTDATA(\"  u57\",INICIO!$A$102,\"mes\",$O$9),SUM(GETPIVOTDATA(\"  u57\",INICIO!$A$102)))","v":0},null,"- Fisio Terapia",null,null,0,{"$f":"IF($O$9=$Q$9,GETPIVOTDATA(\"  u104\",INICIO!$A$102,\"mes\",$O$9),SUM(GETPIVOTDATA(\"  u104\",INICIO!$A$102)))","v":0},{"$f":"IF($O$9=$Q$9,GETPIVOTDATA(\"  u127\",INICIO!$A$102,\"mes\",$O$9),SUM(GETPIVOTDATA(\"  u127\",INICIO!$A$102)))","v":0},null,{"$f":"IF($O$9=$Q$9,GETPIVOTDATA(\"  u150\",INICIO!$A$102,\"mes\",$O$9),SUM(GETPIVOTDATA(\"  u150\",INICIO!$A$102)))","v":0}]
["OTROS. Endoscopias.",null,0,{"$f":"IF($O$9=$Q$9,GETPIVOTDATA(\"  u26\",INICIO!$A$102,\"mes\",$O$9),SUM(GETPIVOTDATA(\"  u26\",INICIO!$A$102)))","v":0},{"$f":"IF($O$9=$Q$9,GETPIVOTDATA(\"  u42\",INICIO!$A$102,\"mes\",$O$9),SUM(GETPIVOTDATA(\"  u42\",INICIO!$A$102)))","v":0},{"$f":"IF($O$9=$Q$9,GETPIVOTDATA(\"  u58\",INICIO!$A$102,\"mes\",$O$9),SUM(GETPIVOTDATA(\"  u58\",INICIO!$A$102)))","v":0},null,"- Lavado Gastrico",null,null,2,{"$f":"IF($O$9=$Q$9,GETPIVOTDATA(\"  u105\",INICIO!$A$102,\"mes\",$O$9),SUM(GETPIVOTDATA(\"  u105\",INICIO!$A$102)))","v":0},{"$f":"IF($O$9=$Q$9,GETPIVOTDATA(\"  u128\",INICIO!$A$102,\"mes\",$O$9),SUM(GETPIVOTDATA(\"  u128\",INICIO!$A$102)))","v":0},null,{"$f":"IF($O$9=$Q$9,GETPIVOTDATA(\"  u151\",INICIO!$A$102,\"mes\",$O$9),SUM(GETPIVOTDATA(\"  u151\",INICIO!$A$102)))","v":2}]
["ESPECIALES. Electrocardiogra.",null,0,{"$f":"IF($O$9=$Q$9,GETPIVOTDATA(\"  u27\",INICIO!$A$102,\"mes\",$O$9),SUM(GETPIVOTDATA(\"  u27\",INICIO!$A$102)))","v":0},{"$f":"IF($O$9=$Q$9,GETPIVOTDATA(\"  u43\",INICIO!$A$102,\"mes\",$O$9),SUM(GETPIVOTDATA(\"  u43\",INICIO!$A$102)))","v":0},{"$f":"IF($O$9=$Q$9,GETPIVOTDATA(\"  u59\",INICIO!$A$102,\"mes\",$O$9),SUM(GETPIVOTDATA(\"  u59\",INICIO!$A$102)))","v":0},null,"- Triaje",null,null,6300,{"$f":"IF($O$9=$Q$9,GETPIVOTDATA(\"  u106\",INICIO!$A$102,\"mes\",$O$9),SUM(GETPIVOTDATA(\"  u106\",INICIO!$A$102)))","v":1300},{"$f":"IF($O$9=$Q$9,GETPIVOTDATA(\"  u129\",INICIO!$A$102,\"mes\",$O$9),SUM(GETPIVOTDATA(\"  u129\",INICIO!$A$102)))","v":4305},null,{"$f":"IF($O$9=$Q$9,GETPIVOTDATA(\"  u152\",INICIO!$A$102,\"mes\",$O$9),SUM(GETPIVOTDATA(\"  u152\",INICIO!$A$102)))","v":695}]
["Audiometrias",null,0,{"$f":"IF($O$9=$Q$9,GETPIVOTDATA(\"  u28\",INICIO!$A$102,\"mes\",$O$9),SUM(GETPIVOTDATA(\"  u28\",INICIO!$A$102)))","v":0},{"$f":"IF($O$9=$Q$9,GETPIVOTDATA(\"  u44\",INICIO!$A$102,\"mes\",$O$9),SUM(GETPIVOTDATA(\"  u44\",INICIO!$A$102)))","v":0},{"$f":"IF($O$9=$Q$9,GETPIVOTDATA(\"  u60\",INICIO!$A$102,\"mes\",$O$9),SUM(GETPIVOTDATA(\"  u60\",INICIO!$A$102)))","v":0},null,"- Referencia",null,null,11,{"$f":"IF($O$9=$Q$9,GETPIVOTDATA(\"  u107\",INICIO!$A$102,\"mes\",$O$9),SUM(GETPIVOTDATA(\"  u107\",INICIO!$A$102)))","v":9},{"$f":"IF($O$9=$Q$9,GETPIVOTDATA(\"  u130\",INICIO!$A$102,\"mes\",$O$9),SUM(GETPIVOTDATA(\"  u130\",INICIO!$A$102)))","v":2},null,{"$f":"IF($O$9=$Q$9,GETPIVOTDATA(\"  u153\",INICIO!$A$102,\"mes\",$O$9),SUM(GETPIVOTDATA(\"  u153\",INICIO!$A$102)))","v":0}]
["Mamografias",null,0,{"$f":"IF($O$9=$Q$9,GETPIVOTDATA(\"  u29\",INICIO!$A$102,\"mes\",$O$9),SUM(GETPIVOTDATA(\"  u29\",INICIO!$A$102)))","v":0},{"$f":"IF($O$9=$Q$9,GETPIVOTDATA(\"  u45\",INICIO!$A$102,\"mes\",$O$9),SUM(GETPIVOTDATA(\"  u45\",INICIO!$A$102)))","v":0},{"$f":"IF($O$9=$Q$9,GETPIVOTDATA(\"  u61\",INICIO!$A$102,\"mes\",$O$9),SUM(GETPIVOTDATA(\"  u61\",INICIO!$A$102)))","v":0},null,"Contrareferencia",null,null,203,{"$f":"IF($O$9=$Q$9,GETPIVOTDATA(\"  u108\",INICIO!$A$102,\"mes\",$O$9),SUM(GETPIVOTDATA(\"  u108\",INICIO!$A$102)))","v":191},{"$f":"IF($O$9=$Q$9,GETPIVOTDATA(\"  u131\",INICIO!$A$102,\"mes\",$O$9),SUM(GETPIVOTDATA(\"  u131\",INICIO!$A$102)))","v":12},null,{"$f":"IF($O$9=$Q$9,GETPIVOTDATA(\"  u154\",INICIO!$A$102,\"mes\",$O$9),SUM(GETPIVOTDATA(\"  u154\",INICIO!$A$102)))","v":0}]
["Broncoscopias",null,0,{"$f":"IF($O$9=$Q$9,GETPIVOTDATA(\"  u30\",INICIO!$A$102,\"mes\",$O$9),SUM(GETPIVOTDATA(\"  u30\",INICIO!$A$102)))","v":0},{"$f":"IF($O$9=$Q$9,GETPIVOTDATA(\"  u46\",INICIO!$A$102,\"mes\",$O$9),SUM(GETPIVOTDATA(\"  u46\",INICIO!$A$102)))","v":0},{"$f":"IF($O$9=$Q$9,GETPIVOTDATA(\"  u62\",INICIO!$A$102,\"mes\",$O$9),SUM(GETPIVOTDATA(\"  u62\",INICIO!$A$102)))","v":0},null,"- Administración Tratamiento",null,null,4688,{"$f":"IF($O$9=$Q$9,GETPIVOTDATA(\"  u109\",INICIO!$A$102,\"mes\",$O$9),SUM(GETPIVOTDATA(\"  u109\",INICIO!$A$102)))","v":2697},{"$f":"IF($O$9=$Q$9,GETPIVOTDATA(\"  u132\",INICIO!$A$102,\"mes\",$O$9),SUM(GETPIVOTDATA(\"  u132\",INICIO!$A$102)))","v":1991},null,{"$f":"IF($O$9=$Q$9,GETPIVOTDATA(\"  u155\",INICIO!$A$102,\"mes\",$O$9),SUM(GETPIVOTDATA(\"  u155\",INICIO!$A$102)))","v":0}]
["- Otros",null,0,{"$f":"IF($O$9=$Q$9,GETPIVOTDATA(\"  u31\",INICIO!$A$102,\"mes\",$O$9),SUM(GETPIVOTDATA(\"  u31\",INICIO!$A$102)))","v":0},{"$f":"IF($O$9=$Q$9,GETPIVOTDATA(\"  u47\",INICIO!$A$102,\"mes\",$O$9),SUM(GETPIVOTDATA(\"  u47\",INICIO!$A$102)))","v":0},{"$f":"IF($O$9=$Q$9,GETPIVOTDATA(\"  u63\",INICIO!$A$102,\"mes\",$O$9),SUM(GETPIVOTDATA(\"  u63\",INICIO!$A$102)))","v":0},null,"- Otros",null,null,3818,{"$f":"IF($O$9=$Q$9,GETPIVOTDATA(\"  u110\",INICIO!$A$102,\"mes\",$O$9),SUM(GETPIVOTDATA(\"  u110\",INICIO!$A$102)))","v":2294},{"$f":"IF($O$9=$Q$9,GETPIVOTDATA(\"  u133\",INICIO!$A$102,\"mes\",$O$9),SUM(GETPIVOTDATA(\"  u133\",INICIO!$A$102)))","v":868},null,{"$f":"IF($O$9=$Q$9,GETPIVOTDATA(\"  u156\",INICIO!$A$102,\"mes\",$O$9),SUM(GETPIVOTDATA(\"  u156\",INICIO!$A$102)))","v":656}]
["SERVICIOS INTERMEDIOS ",null,null,null,null,null,null,"XIV Lavanderia",null,null,4716,{"$f":"IF($O$9=$Q$9,GETPIVOTDATA(\"  u157\",INICIO!$A$102,\"mes\",$O$9),SUM(GETPIVOTDATA(\"  u157\",INICIO!$A$102)))","v":3980},{"$f":"IF($O$9=$Q$9,GETPIVOTDATA(\"  u158\",INICIO!$A$102,\"mes\",$O$9),SUM(GETPIVOTDATA(\"  u158\",INICIO!$A$102)))","v":17},null,{"$f":"IF($O$9=$Q$9,GETPIVOTDATA(\"  u159\",INICIO!$A$102,\"mes\",$O$9),SUM(GETPIVOTDATA(\"  u159\",INICIO!$A$102)))","v":719}]
["SERVICIO  DE LABORATORIO  ",null,"Total","Hospitali.","Consul.Ext.","Emerg",null,"Hemodialisis",null,null,2379,{"$f":"IF($O$9=$Q$9,GETPIVOTDATA(\"  u160\",INICIO!$A$102,\"mes\",$O$9),SUM(GETPIVOTDATA(\"  u160\",INICIO!$A$102)))","v":1938},{"$f":"IF($O$9=$Q$9,GETPIVOTDATA(\"  u162\",INICIO!$A$102,\"mes\",$O$9),SUM(GETPIVOTDATA(\"  u162\",INICIO!$A$102)))","v":4},null,{"$f":"IF($O$9=$Q$9,GETPIVOTDATA(\"  u164\",INICIO!$A$102,\"mes\",$O$9),SUM(GETPIVOTDATA(\"  u164\",INICIO!$A$102)))","v":437}]
["Ex. bioquimicos ",null,{"$f":"SUM(D45:F45)","v":4626},{"$f":"IF($O$9=$Q$9,GETPIVOTDATA(\"  u64\",INICIO!$A$102,\"mes\",$O$9),SUM(GETPIVOTDATA(\"  u64\",INICIO!$A$102)))","v":546},{"$f":"IF($O$9=$Q$9,GETPIVOTDATA(\"  u72\",INICIO!$A$102,\"mes\",$O$9),SUM(GETPIVOTDATA(\"  u72\",INICIO!$A$102)))","v":2251},{"$f":"IF($O$9=$Q$9,GETPIVOTDATA(\"  u80\",INICIO!$A$102,\"mes\",$O$9),SUM(GETPIVOTDATA(\"  u80\",INICIO!$A$102)))","v":1829},null,"Dialisis peritonial  ",null,null,0,{"$f":"IF($O$9=$Q$9,GETPIVOTDATA(\"  u161\",INICIO!$A$102,\"mes\",$O$9),SUM(GETPIVOTDATA(\"  u161\",INICIO!$A$102)))","v":0},{"$f":"IF($O$9=$Q$9,GETPIVOTDATA(\"  u163\",INICIO!$A$102,\"mes\",$O$9),SUM(GETPIVOTDATA(\"  u163\",INICIO!$A$102)))","v":0},null,{"$f":"IF($O$9=$Q$9,GETPIVOTDATA(\"  u165\",INICIO!$A$102,\"mes\",$O$9),SUM(GETPIVOTDATA(\"  u165\",INICIO!$A$102)))","v":0}]
["Ex  hematologicos ",null,{"$f":"SUM(D46:F46)","v":4348},{"$f":"IF($O$9=$Q$9,GETPIVOTDATA(\"  u65\",INICIO!$A$102,\"mes\",$O$9),SUM(GETPIVOTDATA(\"  u65\",INICIO!$A$102)))","v":896},{"$f":"IF($O$9=$Q$9,GETPIVOTDATA(\"  u73\",INICIO!$A$102,\"mes\",$O$9),SUM(GETPIVOTDATA(\"  u73\",INICIO!$A$102)))","v":1594},{"$f":"IF($O$9=$Q$9,GETPIVOTDATA(\"  u81\",INICIO!$A$102,\"mes\",$O$9),SUM(GETPIVOTDATA(\"  u81\",INICIO!$A$102)))","v":1858}]
["Ex  histologicos",null,0,{"$f":"IF($O$9=$Q$9,GETPIVOTDATA(\"  u66\",INICIO!$A$102,\"mes\",$O$9),SUM(GETPIVOTDATA(\"  u66\",INICIO!$A$102)))","v":0},{"$f":"IF($O$9=$Q$9,GETPIVOTDATA(\"  u74\",INICIO!$A$102,\"mes\",$O$9),SUM(GETPIVOTDATA(\"  u74\",INICIO!$A$102)))","v":0},{"$f":"IF($O$9=$Q$9,GETPIVOTDATA(\"  u82\",INICIO!$A$102,\"mes\",$O$9),SUM(GETPIVOTDATA(\"  u82\",INICIO!$A$102)))","v":0}]
["Ex  citologicos",null,0,{"$f":"IF($O$9=$Q$9,GETPIVOTDATA(\"  u67\",INICIO!$A$102,\"mes\",$O$9),SUM(GETPIVOTDATA(\"  u67\",INICIO!$A$102)))","v":0},{"$f":"IF($O$9=$Q$9,GETPIVOTDATA(\"  u75\",INICIO!$A$102,\"mes\",$O$9),SUM(GETPIVOTDATA(\"  u75\",INICIO!$A$102)))","v":0},{"$f":"IF($O$9=$Q$9,GETPIVOTDATA(\"  u83\",INICIO!$A$102,\"mes\",$O$9),SUM(GETPIVOTDATA(\"  u83\",INICIO!$A$102)))","v":0}]
["Ex  microbiologicos",null,1950,{"$f":"IF($O$9=$Q$9,GETPIVOTDATA(\"  u68\",INICIO!$A$102,\"mes\",$O$9),SUM(GETPIVOTDATA(\"  u68\",INICIO!$A$102)))","v":98},{"$f":"IF($O$9=$Q$9,GETPIVOTDATA(\"  u76\",INICIO!$A$102,\"mes\",$O$9),SUM(GETPIVOTDATA(\"  u76\",INICIO!$A$102)))","v":1352},{"$f":"IF($O$9=$Q$9,GETPIVOTDATA(\"  u84\",INICIO!$A$102,\"mes\",$O$9),SUM(GETPIVOTDATA(\"  u84\",INICIO!$A$102)))","v":500}]
["Ex  inmunoserologicos",null,1032,{"$f":"IF($O$9=$Q$9,GETPIVOTDATA(\"  u69\",INICIO!$A$102,\"mes\",$O$9),SUM(GETPIVOTDATA(\"  u69\",INICIO!$A$102)))","v":142},{"$f":"IF($O$9=$Q$9,GETPIVOTDATA(\"  u77\",INICIO!$A$102,\"mes\",$O$9),SUM(GETPIVOTDATA(\"  u77\",INICIO!$A$102)))","v":117},{"$f":"IF($O$9=$Q$9,GETPIVOTDATA(\"  u85\",INICIO!$A$102,\"mes\",$O$9),SUM(GETPIVOTDATA(\"  u85\",INICIO!$A$102)))","v":773}]
["Transfusiones de sangre",null,0,{"$f":"IF($O$9=$Q$9,GETPIVOTDATA(\"  u70\",INICIO!$A$102,\"mes\",$O$9),SUM(GETPIVOTDATA(\"  u70\",INICIO!$A$102)))","v":0},{"$f":"IF($O$9=$Q$9,GETPIVOTDATA(\"  u78\",INICIO!$A$102,\"mes\",$O$9),SUM(GETPIVOTDATA(\"  u78\",INICIO!$A$102)))","v":0},{"$f":"IF($O$9=$Q$9,GETPIVOTDATA(\"  u86\",INICIO!$A$102,\"mes\",$O$9),SUM(GETPIVOTDATA(\"  u86\",INICIO!$A$102)))","v":0}]
["Prueba vih ",null,295,{"$f":"IF($O$9=$Q$9,GETPIVOTDATA(\"  u71\",INICIO!$A$102,\"mes\",$O$9),SUM(GETPIVOTDATA(\"  u71\",INICIO!$A$102)))","v":22},{"$f":"IF($O$9=$Q$9,GETPIVOTDATA(\"  u79\",INICIO!$A$102,\"mes\",$O$9),SUM(GETPIVOTDATA(\"  u79\",INICIO!$A$102)))","v":170},{"$f":"IF($O$9=$Q$9,GETPIVOTDATA(\"  u87\",INICIO!$A$102,\"mes\",$O$9),SUM(GETPIVOTDATA(\"  u87\",INICIO!$A$102)))","v":103}]
[null,null,{"$f":"SUM(C45:C52)","v":12251},{"$f":"SUM(D45:D52)","v":1704},{"$f":"SUM(E45:E52)","v":5484},{"$f":"SUM(F45:F52)","v":5063}]

{"sheet":"HOSPITALIZACION","index":5,"n_rows":123,"n_cols":208,"rows_kept":123,"cut":false,"hidden":false,"merged":[[96,0,96,1],[101,0,101,3],[102,0,102,1],[103,0,103,1],[90,0,90,1],[91,0,91,1],[92,0,92,1],[93,0,93,1],[94,0,94,1],[95,0,95,1],[34,23,34,24],[62,0,62,11],[63,0,63,11],[64,0,64,11],[88,0,88,1],[89,0,89,1],[30,18,32,18],[30,19,32,19],[30,20,32,20],[30,21,32,21],[33,0,33,1],[33,23,33,24],[30,12,32,12],[30,13,32,13],[30,14,32,14],[30,15,32,15],[30,16,32,16],[30,17,32,17],[0,0,0,11],[1,0,1,11],[29,0,32,1],[29,2,29,11],[30,5,30,6]]}
["DIRECCION  REGIONAL  DE SALUD CUSCO "]
["DIRECCION  DE ESTADISTICA  E  INFORMATICA "]
["Hospital Espinar - UEI- Informe Mensual de Actividades de Salud  SES",null,null,null,null,null,null,null,{"$f":"B6","v":2025}]
[]
[]
["AÑO",2025]
["REDES","HOSPITALES"]
["MICRORED","(All)","del 1 al 3"]
["ESTABLEC","(All)"]
[]
[null,"Datos"]
["MESES"," mhosmg_1"," mhosneum_1"," mhoscard_1"," mhosneur_1"," mhosgast_1"," mhosderm_1"," mhosnefro_1"," mhossiqui_1"," mhosotrc_1"," ccgen_1"," ctraum_1"," cotorrin_1"," coftal_1"," curolog_1"," ciotros_1"," mhosmg_2"," mhosneum_2"," mhoscard_2"," mhosneur_2"," mhosgast_2"," mhosderm_2"," mhosnefro_2"," mhossiqui_2"," mhosotrc_2"," ccgen_2"," ctraum_2"," cotorrin_2"," coftal_2"," curolog_2"," ciotros_2"," mhosmg_3"," mhosneum_3"," mhoscard_3"," mhosneur_3"," mhosgast_3"," mhosderm_3"," mhosnefro_3"," mhossiqui_3"," mhosotrc_3"," ccgen_3"," ctraum_3"," cotorrin_3"," coftal_3"," curolog_3"," ciotros_3"," mhosmg_4"," mhosneum_4"," mhoscard_4"," mhosneur_4"," mhosgast_4"," mhosderm_4"," mhosnefro_4"," mhossiqui_4"," mhosotrc_4"," ccgen_4"," ctraum_4"," cotorrin_4"," coftal_4"," curolog_4"," ciotros_4"," mhosmg_5"," mhosneum_5"," mhoscard_5"," mhosneur_5"," mhosgast_5"," mhosderm_5"," mhosnefro_5"," mhossiqui_5"," mhosotrc_5"," ccgen_5"," ctraum_5"," cotorrin_5"," coftal_5"," curolog_5"," ciotros_5"," mhosmg_6"," mhosneum_6"," mhoscard_6"," mhosneur_6"," mhosgast_6"," mhosderm_6"," mhosnefro_6"," mhossiqui_6"," mhosotrc_6"," ccgen_6"," ctraum_6"," cotorrin_6"," coftal_6"," curolog_6"," ciotros_6"," mhosmg_7"," mhosneum_7"," mhoscard_7"," mhosneur_7"," mhosgast_7"," mhosderm_7"," mhosnefro_7"," mhossiqui_7"," mhosotrc_7"," ccgen_7"," ctraum_7"," cotorrin_7"," coftal_7"," curolog_7"," ciotros_7"," mhosmg_8"," mhosneum_8"," mhoscard_8"," mhosneur_8"," mhosgast_8"," mhosderm_8"," mhosnefro_8"," mhossiqui_8"," mhosotrc_8"," ccgen_8"," ctraum_8"," cotorrin_8"," coftal_8"," curolog_8"," ciotros_8"," mhosmg_9"," mhosneum_9"," mhoscard_9"," mhosneur_9"," mhosgast_9"," mhosderm_9"," mhosnefro_9"," mhossiqui_9"," mhosotrc_9"," ccgen_9"," ctraum_9"," cotorrin_9"," coftal_9"," curolog_9"," ciotros_9"," obs_gin_1"," obs_gin_2"," obs_gin_3"," obs_gin_4"," obs_gin_5"," obs_gin_6"," obs_gin_7"," obs_gin_8"," obs_gin_9"," obsuci_1"," obsuci_2"," obsuci_3"," obsuci_4"," obsuci_5"," obsuci_6"," obsuci_7"," obsuci_8"," obsuci_9"," pesc4_1"," pesc4_2"," pesc4_3"," pesc4_4"," pesc4_5"," pesc4_6"," pesc4_7"," pesc4_8"," pesc4_9"," pesc5_1"," pesc5_2"," pesc5_3"," pesc5_4"," pesc5_5"," pesc5_6"," pesc5_7"," pesc5_8"," pesc5_9"," pesc6_1"," pesc6_2"," pesc6_3"," pesc6_4"," pesc6_5"," pesc6_6"," pesc6_7"," pesc6_8"," pesc6_9"," plact_1"," plact_2"," plact_3"," plact_4"," plact_5"," plact_6"," plact_7"," plact_8"," plact_9"," pneona_1"," pneona_2"," pneona_3"," pneona_4"," pneona_5"," pneona_6"," pneona_7"," pneona_8"," pneona_9"," ginec_1"," ginec_2"," ginec_3"," ginec_4"," ginec_5"," ginec_6"," ginec_7"," ginec_8"," ginec_9"]
[2,0,0,0,0,0,0,0,0,0,0,0,0,0,0,0,4,0,0,0,0,0,0,0,0,2,0,0,0,0,0,19,0,0,0,0,0,0,0,0,46,0,0,0,0,0,0,0,0,0,0,0,0,0,0,0,0,0,0,0,0,0,0,0,0,0,0,0,0,0,0,0,0,0,0,0,21,0,0,0,0,0,0,0,0,46,0,0,0,0,0,116,0,0,0,0,0,0,0,0,141,0,0,0,0,0,112,0,0,0,0,0,0,0,0,139,0,0,0,0,0,168,0,0,0,0,0,0,0,0,168,0,0,0,0,0,0,1,30,0,0,28,64,63,224,0,0,0,0,0,0,0,0,0,0,0,0,0,0,0,0,0,28,0,0,0,0,0,0,0,0,28,0,0,0,0,0,0,0,0,28,0,1,0,0,0,1,6,5,28,0,1,1,0,0,2,7,6,56,0,2,30,0,0,29,79,77,84]
[1,0,0,0,0,0,0,0,0,0,0,0,0,0,0,0,3,0,0,0,0,0,0,0,0,4,0,0,0,0,0,20,0,0,0,0,0,0,0,0,47,0,0,0,0,0,0,0,0,0,0,0,0,0,0,0,0,0,0,0,0,0,0,0,0,0,0,0,0,0,0,0,0,0,0,0,19,0,0,0,0,0,0,0,0,49,0,0,0,0,0,76,0,0,0,0,0,0,0,0,163,0,0,0,0,0,73,0,0,0,0,0,0,0,0,159,0,0,0,0,0,186,0,0,0,0,0,0,0,0,186,0,0,0,0,0,0,3,35,0,0,37,86,83,279,0,0,0,0,0,0,0,0,0,0,0,3,0,0,3,16,16,31,0,0,0,0,0,0,0,0,31,0,0,1,0,0,1,3,3,31,0,1,1,0,0,1,5,4,31,0,0,4,0,0,3,11,11,62,0,3,37,0,0,38,103,100,62]
[3,0,0,0,0,0,0,0,0,0,0,0,0,0,0,0,2,0,0,0,0,0,0,0,0,2,0,0,0,0,0,19,0,0,0,0,0,0,0,0,41,0,0,0,0,0,0,0,0,0,0,0,0,0,0,0,0,0,0,0,0,0,0,0,0,0,0,0,0,0,0,0,0,0,0,0,19,0,0,0,0,0,0,0,0,41,0,0,0,0,0,75,0,0,0,0,0,0,0,0,123,0,0,0,0,0,73,0,0,0,0,0,0,0,0,121,0,0,0,0,0,186,0,0,0,0,0,0,0,0,186,0,0,0,0,0,0,3,38,0,0,36,80,77,248,0,0,0,0,0,0,0,0,0,0,0,1,0,0,1,2,2,31,0,0,1,0,0,1,4,4,31,0,0,1,0,0,1,2,2,31,0,0,0,0,0,0,0,0,31,0,0,2,0,0,2,5,5,62,0,3,29,0,0,30,70,67,93]
["Grand Total",0,0,0,0,0,0,0,0,0,0,0,0,0,0,0,9,0,0,0,0,0,0,0,0,8,0,0,0,0,0,58,0,0,0,0,0,0,0,0,134,0,0,0,0,0,0,0,0,0,0,0,0,0,0,0,0,0,0,0,0,0,0,0,0,0,0,0,0,0,0,0,0,0,0,0,59,0,0,0,0,0,0,0,0,136,0,0,0,0,0,267,0,0,0,0,0,0,0,0,427,0,0,0,0,0,258,0,0,0,0,0,0,0,0,419,0,0,0,0,0,540,0,0,0,0,0,0,0,0,540,0,0,0,0,0,0,7,103,0,0,101,230,223,751,0,0,0,0,0,0,0,0,0,0,0,4,0,0,4,18,18,90,0,0,1,0,0,1,4,4,90,0,0,2,0,0,2,5,5,90,0,2,1,0,0,2,11,9,90,0,1,7,0,0,7,23,22,180,0,8,96,0,0,97,252,244,239]
[]
[]
[]
[]
[]
[]
[]
[]
[]
[]
[]
[]
[]
["SERVICIOS",null,"VI   Movimiento de Hospitalización"]
[null,null,"Nro.","Saldo","Ingresos","Trasnf. En el mes",null,"Egresos","Saldo para","Perma-","Días ","Días","DIAS CAMA DISPONIBLES","dias cama disponible - dias paciente","% ocupacion","Intervalo de sustitucion","Rendimiento (3 meses)","Gº","promedio de permanencia","% distribucion","promedio de ingresos","promedio de egresos"]
[null,null,"De","Mes","en el","De otro","A otro ","en el","el mes","del","Paciente","Cama"]
[null,null,"Camas","Anterior","Mes","Servicio","Servicio","Mes","Siguiente","Egresa."]
["Total",null,42,{"$f":"SUM(D35,D45,D52,D58)","v":35},{"$f":"SUM(E35,E45,E52,E58)","v":406},{"$f":"SUM(F35,F45,F52,F58)","v":0},{"$f":"SUM(G35,G45,G52,G58)","v":0},{"$f":"SUM(H35,H45,H52,H58)","v":409},{"$f":"IF(F34>G34,(D34+E34)+(F34-G34)-H34,(D34+E34)-(G34-F34)-H34)","v":32},{"$f":"SUM(J35,J45,J52,J58)","v":1237},{"$f":"SUM(K35,K45,K52,K58)","v":1202},{"$f":"SUM(L35,L45,L52,L58)","v":2610},{"$f":"L34-K34","v":1408},{"$f":"M34-K34","v":206},{"$f":"K34/L34*100","v":46.053639846743295},{"$f":"(L34-K34)/H34","v":3.4425427872860634},{"$f":"((H34/3)/C34)","v":3.246031746031746},{"$f":"K34/M34*100","v":85.369318181818173},{"$f":"J34/H34","v":3.024449877750611},{"$f":"C34/$C$34*100","v":100},{"$f":"E34/L34","v":0.15555555555555556},{"$f":"H34/L34","v":0.15670498084291187}]
[10,"Medicina",8,{"$f":"SUM(D36:D44)","v":9},{"$f":"SUM(E36:E44)","v":58},{"$f":"SUM(F36:F44)","v":0},{"$f":"SUM(G36:G44)","v":0},{"$f":"SUM(H36:H44)","v":59},8,{"$f":"SUM(J36:J44)","v":267},{"$f":"SUM(K36:K44)","v":258},{"$f":"SUM(L36:L44)","v":540},{"$f":"L35-K35","v":282},{"$f":"M35-K35","v":24},{"$f":"K35/L35*100","v":47.777777777777779},{"$f":"(L35-K35)/H35","v":4.7796610169491522},{"$f":"((H35/3)/C35)","v":2.4583333333333335},{"$f":"K35/M35*100","v":91.489361702127653},{"$f":"J35/H35","v":4.5254237288135597},{"$f":"C35/$C$34*100","v":19.047619047619047},{"$f":"E35/L35","v":0.10740740740740741},{"$f":"H35/L35","v":0.10925925925925926}]
[11,"Medicina General",6,{"$f":"SUM(GETPIVOTDATA(\" mhosmg_2\",$A$9))","v":9},{"$f":"SUM(GETPIVOTDATA(\" mhosmg_3\",$A$9))","v":58},{"$f":"SUM(GETPIVOTDATA(\" mhosmg_4\",$A$9))","v":0},{"$f":"SUM(GETPIVOTDATA(\" mhosmg_5\",$A$9))","v":0},{"$f":"SUM(GETPIVOTDATA(\" mhosmg_6\",$A$9))","v":59},8,{"$f":"SUM(GETPIVOTDATA(\" mhosmg_7\",$A$9))","v":267},{"$f":"SUM(GETPIVOTDATA(\" mhosmg_8\",$A$9))","v":258},{"$f":"SUM(GETPIVOTDATA(\" mhosmg_9\",$A$9))","v":540},{"$f":"L36-K36","v":282},24,{"$f":"K36/L36*100","v":47.777777777777779},{"$f":"(L36-K36)/H36","v":4.7796610169491522},3.2777777777777781,{"$f":"K36/M36*100","v":91.489361702127653},4.5254237288135597,{"$f":"C36/$C$34*100","v":14.285714285714285},0.10740740740740741,0.10925925925925926]
[12,"Neumología",0,{"$f":"SUM(GETPIVOTDATA(\" mhosneum_2\",$A$9))","v":0},{"$f":"SUM(GETPIVOTDATA(\" mhosneum_3\",$A$9))","v":0},{"$f":"SUM(GETPIVOTDATA(\" mhosneum_4\",$A$9))","v":0},{"$f":"SUM(GETPIVOTDATA(\" mhosneum_5\",$A$9))","v":0},{"$f":"SUM(GETPIVOTDATA(\" mhosneum_6\",$A$9))","v":0},0,{"$f":"SUM(GETPIVOTDATA(\" mhosneum_7\",$A$9))","v":0},{"$f":"SUM(GETPIVOTDATA(\" mhosneum_8\",$A$9))","v":0},{"$f":"SUM(GETPIVOTDATA(\" mhosneum_9\",$A$9))","v":0},{"$f":"L37-K37","v":0},0]
[13,"Cardiología",0,{"$f":"SUM(GETPIVOTDATA(\" mhoscard_2\",$A$9))","v":0},{"$f":"SUM(GETPIVOTDATA(\" mhoscard_3\",$A$9))","v":0},{"$f":"SUM(GETPIVOTDATA(\" mhoscard_4\",$A$9))","v":0},{"$f":"SUM(GETPIVOTDATA(\" mhoscard_5\",$A$9))","v":0},{"$f":"SUM(GETPIVOTDATA(\" mhoscard_6\",$A$9))","v":0},0,{"$f":"SUM(GETPIVOTDATA(\" mhoscard_7\",$A$9))","v":0},{"$f":"SUM(GETPIVOTDATA(\" mhoscard_8\",$A$9))","v":0},{"$f":"SUM(GETPIVOTDATA(\" mhoscard_9\",$A$9))","v":0},0,0]
[14,"Neurología",0,{"$f":"SUM(GETPIVOTDATA(\" mhosneur_2\",$A$9))","v":0},{"$f":"SUM(GETPIVOTDATA(\" mhosneur_3\",$A$9))","v":0},{"$f":"SUM(GETPIVOTDATA(\" mhosneur_4\",$A$9))","v":0},{"$f":"SUM(GETPIVOTDATA(\" mhosneur_5\",$A$9))","v":0},{"$f":"SUM(GETPIVOTDATA(\" mhosneur_6\",$A$9))","v":0},0,{"$f":"SUM(GETPIVOTDATA(\" mhosneur_7\",$A$9))","v":0},{"$f":"SUM(GETPIVOTDATA(\" mhosneur_8\",$A$9))","v":0},{"$f":"SUM(GETPIVOTDATA(\" mhosneur_9\",$A$9))","v":0},0,0]
[15,"Gastroenterología",0,{"$f":"SUM(GETPIVOTDATA(\" mhosgast_2\",$A$9))","v":0},{"$f":"SUM(GETPIVOTDATA(\" mhosgast_3\",$A$9))","v":0},{"$f":"SUM(GETPIVOTDATA(\" mhosgast_4\",$A$9))","v":0},{"$f":"SUM(GETPIVOTDATA(\" mhosgast_5\",$A$9))","v":0},{"$f":"SUM(GETPIVOTDATA(\" mhosgast_6\",$A$9))","v":0},0,{"$f":"SUM(GETPIVOTDATA(\" mhosgast_7\",$A$9))","v":0},{"$f":"SUM(GETPIVOTDATA(\" mhosgast_8\",$A$9))","v":0},{"$f":"SUM(GETPIVOTDATA(\" mhosgast_9\",$A$9))","v":0},0,0]
[16,"Dermatología",0,{"$f":"SUM(GETPIVOTDATA(\" mhosderm_2\",$A$9))","v":0},{"$f":"SUM(GETPIVOTDATA(\" mhosderm_3\",$A$9))","v":0},{"$f":"SUM(GETPIVOTDATA(\" mhosderm_4\",$A$9))","v":0},{"$f":"SUM(GETPIVOTDATA(\" mhosderm_5\",$A$9))","v":0},{"$f":"SUM(GETPIVOTDATA(\" mhosderm_6\",$A$9))","v":0},0,{"$f":"SUM(GETPIVOTDATA(\" mhosderm_7\",$A$9))","v":0},{"$f":"SUM(GETPIVOTDATA(\" mhosderm_8\",$A$9))","v":0},{"$f":"SUM(GETPIVOTDATA(\" mhosderm_9\",$A$9))","v":0},0,0]
[17,"Nefrología",0,{"$f":"SUM(GETPIVOTDATA(\" mhosnefro_2\",$A$9))","v":0},{"$f":"SUM(GETPIVOTDATA(\" mhosnefro_3\",$A$9))","v":0},{"$f":"SUM(GETPIVOTDATA(\" mhosnefro_4\",$A$9))","v":0},{"$f":"SUM(GETPIVOTDATA(\" mhosnefro_5\",$A$9))","v":0},{"$f":"SUM(GETPIVOTDATA(\" mhosnefro_6\",$A$9))","v":0},0,{"$f":"SUM(GETPIVOTDATA(\" mhosnefro_7\",$A$9))","v":0},{"$f":"SUM(GETPIVOTDATA(\" mhosnefro_8\",$A$9))","v":0},{"$f":"SUM(GETPIVOTDATA(\" mhosnefro_9\",$A$9))","v":0},0,0]
[18,"Psiquiatría ",0,{"$f":"SUM(GETPIVOTDATA(\" mhossiqui_2\",$A$9))","v":0},{"$f":"SUM(GETPIVOTDATA(\" mhossiqui_3\",$A$9))","v":0},{"$f":"SUM(GETPIVOTDATA(\" mhossiqui_4\",$A$9))","v":0},{"$f":"SUM(GETPIVOTDATA(\" mhossiqui_5\",$A$9))","v":0},{"$f":"SUM(GETPIVOTDATA(\" mhossiqui_6\",$A$9))","v":0},0,{"$f":"SUM(GETPIVOTDATA(\" mhossiqui_7\",$A$9))","v":0},{"$f":"SUM(GETPIVOTDATA(\" mhossiqui_8\",$A$9))","v":0},{"$f":"SUM(GETPIVOTDATA(\" mhossiqui_9\",$A$9))","v":0},0,0]
[19,"Otros CLINICA",0,{"$f":"SUM(GETPIVOTDATA(\" mhosotrc_2\",$A$9))","v":0},{"$f":"SUM(GETPIVOTDATA(\" mhosotrc_3\",$A$9))","v":0},{"$f":"SUM(GETPIVOTDATA(\" mhosotrc_4\",$A$9))","v":0},{"$f":"SUM(GETPIVOTDATA(\" mhosotrc_5\",$A$9))","v":0},{"$f":"SUM(GETPIVOTDATA(\" mhosotrc_6\",$A$9))","v":0},0,{"$f":"SUM(GETPIVOTDATA(\" mhosotrc_7\",$A$9))","v":0},{"$f":"SUM(GETPIVOTDATA(\" mhosotrc_8\",$A$9))","v":0},{"$f":"SUM(GETPIVOTDATA(\" mhosotrc_9\",$A$9))","v":0},0,0]
[20,"Cirugia",8,{"$f":"SUM(D46:D51)","v":8},{"$f":"SUM(E46:E51)","v":134},{"$f":"SUM(F46:F51)","v":0},{"$f":"SUM(G46:G51)","v":0},{"$f":"SUM(H46:H51)","v":136},6,{"$f":"SUM(J46:J51)","v":427},{"$f":"SUM(K46:K51)","v":419},{"$f":"SUM(L46:L51)","v":540},{"$f":"L45-K45","v":121},-298,{"$f":"K45/L45*100","v":77.592592592592595},{"$f":"(L45-K45)/H45","v":0.88970588235294112},5.666666666666667,{"$f":"K45/M45*100","v":346.28099173553716},3.1397058823529411,{"$f":"C45/$C$34*100","v":19.047619047619047},0.24814814814814815,0.25185185185185183]
[21,"Cirugía General",6,{"$f":"SUM(GETPIVOTDATA(\" ccgen_2\",$A$9))","v":8},{"$f":"SUM(GETPIVOTDATA(\" ccgen_3\",$A$9))","v":134},{"$f":"SUM(GETPIVOTDATA(\" ccgen_4\",$A$9))","v":0},{"$f":"SUM(GETPIVOTDATA(\" ccgen_5\",$A$9))","v":0},{"$f":"SUM(GETPIVOTDATA(\" ccgen_6\",$A$9))","v":136},6,{"$f":"SUM(GETPIVOTDATA(\" ccgen_7\",$A$9))","v":427},{"$f":"SUM(GETPIVOTDATA(\" ccgen_8\",$A$9))","v":419},{"$f":"SUM(GETPIVOTDATA(\" ccgen_9\",$A$9))","v":540},121,-298,77.592592592592595,{"$f":"(L46-K46)/H46","v":0.88970588235294112},7.5555555555555562,{"$f":"K46/M46*100","v":346.28099173553716},3.1397058823529411,14.285714285714285,0.24814814814814815,0.25185185185185183]
[22,"Traum. y Ortopedia",0,{"$f":"SUM(GETPIVOTDATA(\" ctraum_2\",$A$9))","v":0},{"$f":"SUM(GETPIVOTDATA(\" ctraum_3\",$A$9))","v":0},{"$f":"SUM(GETPIVOTDATA(\" ctraum_4\",$A$9))","v":0},{"$f":"SUM(GETPIVOTDATA(\" ctraum_5\",$A$9))","v":0},{"$f":"SUM(GETPIVOTDATA(\" ctraum_6\",$A$9))","v":0},0,{"$f":"SUM(GETPIVOTDATA(\" ctraum_7\",$A$9))","v":0},{"$f":"SUM(GETPIVOTDATA(\" ctraum_8\",$A$9))","v":0},{"$f":"SUM(GETPIVOTDATA(\" ctraum_9\",$A$9))","v":0},0,0]
[23,"Otorrinolaringología",0,{"$f":"SUM(GETPIVOTDATA(\" cotorrin_2\",$A$9))","v":0},{"$f":"SUM(GETPIVOTDATA(\" cotorrin_3\",$A$9))","v":0},{"$f":"SUM(GETPIVOTDATA(\" cotorrin_4\",$A$9))","v":0},{"$f":"SUM(GETPIVOTDATA(\" cotorrin_5\",$A$9))","v":0},{"$f":"SUM(GETPIVOTDATA(\" cotorrin_6\",$A$9))","v":0},0,{"$f":"SUM(GETPIVOTDATA(\" cotorrin_7\",$A$9))","v":0},{"$f":"SUM(GETPIVOTDATA(\" cotorrin_8\",$A$9))","v":0},{"$f":"SUM(GETPIVOTDATA(\" cotorrin_9\",$A$9))","v":0},0,0]
[24,"Oftalmología",0,{"$f":"SUM(GETPIVOTDATA(\" coftal_2\",$A$9))","v":0},{"$f":"SUM(GETPIVOTDATA(\" coftal_3\",$A$9))","v":0},{"$f":"SUM(GETPIVOTDATA(\" coftal_4\",$A$9))","v":0},{"$f":"SUM(GETPIVOTDATA(\" coftal_5\",$A$9))","v":0},{"$f":"SUM(GETPIVOTDATA(\" coftal_6\",$A$9))","v":0},0,{"$f":"SUM(GETPIVOTDATA(\" coftal_7\",$A$9))","v":0},{"$f":"SUM(GETPIVOTDATA(\" coftal_8\",$A$9))","v":0},{"$f":"SUM(GETPIVOTDATA(\" coftal_9\",$A$9))","v":0},0,0]
[25,"Urología",0,{"$f":"SUM(GETPIVOTDATA(\" curolog_2\",$A$9))","v":0},{"$f":"SUM(GETPIVOTDATA(\" curolog_3\",$A$9))","v":0},{"$f":"SUM(GETPIVOTDATA(\" curolog_4\",$A$9))","v":0},{"$f":"SUM(GETPIVOTDATA(\" curolog_5\",$A$9))","v":0},{"$f":"SUM(GETPIVOTDATA(\" curolog_6\",$A$9))","v":0},0,{"$f":"SUM(GETPIVOTDATA(\" curolog_7\",$A$9))","v":0},{"$f":"SUM(GETPIVOTDATA(\" curolog_8\",$A$9))","v":0},{"$f":"SUM(GETPIVOTDATA(\" curolog_9\",$A$9))","v":0},0,0]
[26,"Otros",0,{"$f":"SUM(GETPIVOTDATA(\" ciotros_2\",$A$9))","v":0},{"$f":"SUM(GETPIVOTDATA(\" ciotros_3\",$A$9))","v":0},{"$f":"SUM(GETPIVOTDATA(\" ciotros_4\",$A$9))","v":0},{"$f":"SUM(GETPIVOTDATA(\" ciotros_5\",$A$9))","v":0},{"$f":"SUM(GETPIVOTDATA(\" ciotros_6\",$A$9))","v":0},0,{"$f":"SUM(GETPIVOTDATA(\" ciotros_7\",$A$9))","v":0},{"$f":"SUM(GETPIVOTDATA(\" ciotros_8\",$A$9))","v":0},{"$f":"SUM(GETPIVOTDATA(\" ciotros_9\",$A$9))","v":0},0,0]
[30,"Pediatria",6,{"$f":"SUM(D53:D57)","v":3},{"$f":"SUM(E53:E57)","v":15},{"$f":"SUM(F53:F57)","v":0},{"$f":"SUM(G53:G57)","v":0},{"$f":"SUM(H53:H57)","v":16},2,{"$f":"SUM(J53:J57)","v":61},{"$f":"SUM(K53:K57)","v":58},{"$f":"SUM(L53:L57)","v":540},482,424,10.74074074074074,{"$f":"(L52-K52)/H52","v":30.125},0.88888888888888884,{"$f":"K52/M52*100","v":12.033195020746888},3.8125,14.285714285714285,2.7777777777777776E-2,2.9629629629629631E-2]
[31,"Lactantes(-1 años)",1,{"$f":"SUM(GETPIVOTDATA(\" plact_2\",$A$9))","v":2},{"$f":"SUM(GETPIVOTDATA(\" plact_3\",$A$9))","v":1},{"$f":"SUM(GETPIVOTDATA(\" plact_4\",$A$9))","v":0},{"$f":"SUM(GETPIVOTDATA(\" plact_5\",$A$9))","v":0},{"$f":"SUM(GETPIVOTDATA(\" plact_6\",$A$9))","v":2},1,{"$f":"SUM(GETPIVOTDATA(\" plact_7\",$A$9))","v":11},{"$f":"SUM(GETPIVOTDATA(\" plact_8\",$A$9))","v":9},{"$f":"SUM(GETPIVOTDATA(\" plact_9\",$A$9))","v":90},81,72,10,40.5,0.66666666666666663,11.111111111111111,5.5,2.3809523809523809,1.1111111111111112E-2,2.2222222222222223E-2]
[32,"Pre escolar   1-4 años",1,{"$f":"SUM(GETPIVOTDATA(\" pesc4_2\",$A$9))","v":0},{"$f":"SUM(GETPIVOTDATA(\" pesc4_3\",$A$9))","v":4},{"$f":"SUM(GETPIVOTDATA(\" pesc4_4\",$A$9))","v":0},{"$f":"SUM(GETPIVOTDATA(\" pesc4_5\",$A$9))","v":0},{"$f":"SUM(GETPIVOTDATA(\" pesc4_6\",$A$9))","v":4},0,{"$f":"SUM(GETPIVOTDATA(\" pesc4_7\",$A$9))","v":18},{"$f":"SUM(GETPIVOTDATA(\" pesc4_8\",$A$9))","v":18},{"$f":"SUM(GETPIVOTDATA(\" pesc4_9\",$A$9))","v":90},72,54,20,18,1.3333333333333333,25,4.5,2.3809523809523809,4.4444444444444446E-2,4.4444444444444446E-2]
[33,"Pre escolar 5 años",1,{"$f":"SUM(GETPIVOTDATA(\" pesc5_2\",$A$9))","v":0},{"$f":"SUM(GETPIVOTDATA(\" pesc5_3\",$A$9))","v":1},{"$f":"SUM(GETPIVOTDATA(\" pesc5_4\",$A$9))","v":0},{"$f":"SUM(GETPIVOTDATA(\" pesc5_5\",$A$9))","v":0},{"$f":"SUM(GETPIVOTDATA(\" pesc5_6\",$A$9))","v":1},0,{"$f":"SUM(GETPIVOTDATA(\" pesc5_7\",$A$9))","v":4},{"$f":"SUM(GETPIVOTDATA(\" pesc5_8\",$A$9))","v":4},{"$f":"SUM(GETPIVOTDATA(\" pesc5_9\",$A$9))","v":90},86,82,4.4444444444444446,{"$f":"(L55-K55)/H55","v":86},0.33333333333333331,4.6511627906976747,4,2.3809523809523809,1.1111111111111112E-2,1.1111111111111112E-2]
[34,"Neonatología",2,{"$f":"SUM(GETPIVOTDATA(\" pneona_2\",$A$9))","v":1},{"$f":"SUM(GETPIVOTDATA(\" pneona_3\",$A$9))","v":7},{"$f":"SUM(GETPIVOTDATA(\" pneona_4\",$A$9))","v":0},{"$f":"SUM(GETPIVOTDATA(\" pneona_5\",$A$9))","v":0},{"$f":"SUM(GETPIVOTDATA(\" pneona_6\",$A$9))","v":7},1,{"$f":"SUM(GETPIVOTDATA(\" pneona_7\",$A$9))","v":23},{"$f":"SUM(GETPIVOTDATA(\" pneona_8\",$A$9))","v":22},{"$f":"SUM(GETPIVOTDATA(\" pneona_9\",$A$9))","v":180},158,136,{"$f":"K56/L56*100","v":12.222222222222221},22.571428571428573,1.1666666666666667,13.924050632911392,3.2857142857142856,4.7619047619047619,3.888888888888889E-2,3.888888888888889E-2]
[35,"Escolar (6-14 años)",1,{"$f":"SUM(GETPIVOTDATA(\" pesc6_2\",$A$9))","v":0},{"$f":"SUM(GETPIVOTDATA(\" pesc6_3\",$A$9))","v":2},{"$f":"SUM(GETPIVOTDATA(\" pesc6_4\",$A$9))","v":0},{"$f":"SUM(GETPIVOTDATA(\" pesc6_5\",$A$9))","v":0},{"$f":"SUM(GETPIVOTDATA(\" pesc6_6\",$A$9))","v":2},0,{"$f":"SUM(GETPIVOTDATA(\" pesc6_7\",$A$9))","v":5},{"$f":"SUM(GETPIVOTDATA(\" pesc6_8\",$A$9))","v":5},{"$f":"SUM(GETPIVOTDATA(\" pesc6_9\",$A$9))","v":90},85,80,5.5555555555555554,42.5,0.66666666666666663,5.8823529411764701,2.5,2.3809523809523809,2.2222222222222223E-2,2.2222222222222223E-2]
[40,"Obst. y Ginec.",20,{"$f":"SUM(D59:D60)","v":15},{"$f":"SUM(E59:E60)","v":199},{"$f":"SUM(F59:F60)","v":0},{"$f":"SUM(G59:G60)","v":0},{"$f":"SUM(H59:H60)","v":198},16,{"$f":"SUM(J59:J60)","v":482},{"$f":"SUM(K59:K60)","v":467},{"$f":"SUM(L59:L60)","v":990},523,56,47.171717171717169,2.6414141414141414,3.3,89.2925430210325,2.4343434343434343,47.619047619047613,0.201010101010101,0.2]
[41,"Obstetricia",9,{"$f":"SUM(GETPIVOTDATA(\" obs_gin_2\",$A$9))","v":7},{"$f":"SUM(GETPIVOTDATA(\" obs_gin_3\",$A$9))","v":103},{"$f":"SUM(GETPIVOTDATA(\" obs_gin_4\",$A$9))","v":0},{"$f":"SUM(GETPIVOTDATA(\" obs_gin_5\",$A$9))","v":0},{"$f":"SUM(GETPIVOTDATA(\" obs_gin_6\",$A$9))","v":101},9,{"$f":"SUM(GETPIVOTDATA(\" obs_gin_7\",$A$9))","v":230},{"$f":"SUM(GETPIVOTDATA(\" obs_gin_8\",$A$9))","v":223},{"$f":"SUM(GETPIVOTDATA(\" obs_gin_9\",$A$9))","v":751},528,305,29.693741677762979,5.2277227722772279,3.7407407407407405,42.234848484848484,2.277227722772277,21.428571428571427,0.13715046604527298,0.13448735019973368]
[42,"Ginecología",2,{"$f":"SUM(GETPIVOTDATA(\" ginec_2\",$A$9))","v":8},{"$f":"SUM(GETPIVOTDATA(\" ginec_3\",$A$9))","v":96},{"$f":"SUM(GETPIVOTDATA(\" ginec_4\",$A$9))","v":0},{"$f":"SUM(GETPIVOTDATA(\" ginec_5\",$A$9))","v":0},{"$f":"SUM(GETPIVOTDATA(\" ginec_6\",$A$9))","v":97},7,{"$f":"SUM(GETPIVOTDATA(\" ginec_7\",$A$9))","v":252},{"$f":"SUM(GETPIVOTDATA(\" ginec_8\",$A$9))","v":244},{"$f":"SUM(GETPIVOTDATA(\" ginec_9\",$A$9))","v":239},-5,-249,102.09205020920503,-5.1546391752577317E-2,16.166666666666668,-4880,2.597938144329897,4.7619047619047619,0.40167364016736401,0.40585774058577406]
[null,"UCI",null,null,null,null,null,null,null,null,null,null,0,0]
["ESTANDAR II-1",null,null,null,null,null,null,null,null,null,null,null,null,null,80,1,6,null,4]
["DIRECCION  REGIONAL  DE SALUD CUSCO "]
["DIRECCION  DE ESTADISTCIA  E  INFORMATICA "]
["Informe Mensual de Actividades de Salud  SES 2006"]
[]
[]
[]
["AÑO",2009]
["REDES","CANAS-CANCHIS-ESPINAR"]
["MICRORED","YAURI"]
["ESTABLEC","C.S. YAURI"]
[]
[null,"Datos"]
["MESES"," parhos"," nacvivhos"," deffehos"," aborhos"," defmathos"," egvivhos"," egf_m24hos"," egf24_48hos"," egfmas48hos"," partperif"," nacvivperif"," deffeperif"," aborperif"," defmatperif"," egvivperif"," egf_m24perif"," egf24_48perif"," egfmas48perif"," iqcghos"," iqtraumhos"," iqotorrihos"," iqoftalhosp"," iqurolhos"," iqoncohos"," iqcirplazhos"," iqneurohos"," iqcesarehos"," iqlegrahos"," iqaqvfhos"," iqavmhos"," iqotroshos"," iqcgperif"," iqtraumperif"," iqotorriperif"," iqoftalperif"," iqurolperif"," iqoncoperif"," iqcirplazperif"," iqneuroperif"," iqcesareperif"," iqlegraperif"," iqaqvfperif"," iqavmperif"," iqotrosperif"," sms_mg"," sms_neum"," sms_card"," sms_neur"," sms_gastr"," sms_derm"," sms_nefro"," sms_psiqu"," otros_clini"," sms_medicina"," sms_cg"," sms_traum"," sms_otorrino"," sms_oftal"," sms_urul"," sms_otroscir"," sms_cirujia"," sms_lact1"," sms_pesc4"," sms_pesc5"," sms_neonat"," sms_esc6_14"," sms_pediatria"," sms_obst"," sms_ginecol"," sms_uci"," sms_obs_gin"]
["Total general"]
[]
[]
[]
[]
[]
[]
[]
[]
[]
[]
[]
[]
["Descripcion",null,"Hospital","Periferie"]
["Partos",null,{"$f":"SUM(GETPIVOTDATA(\" parhos\",$A$74))","v":0},{"$f":"SUM(GETPIVOTDATA(\" partperif\",$A$74))","v":0},null,null,null,null,null,null,null,null,"tasa abortos"]
["Nacido vivo",null,{"$f":"SUM(GETPIVOTDATA(\" nacvivhos\",$A$74))","v":0},{"$f":"SUM(GETPIVOTDATA(\" nacvivperif\",$A$74))","v":0},null,null,null,null,null,null,null,null,{"$f":"C93/378*100","v":0}]
["Defun.Fetal",null,{"$f":"SUM(GETPIVOTDATA(\" deffehos\",$A$74))","v":0},{"$f":"SUM(GETPIVOTDATA(\" deffeperif\",$A$74))","v":0}]
["Abortos",null,{"$f":"SUM(GETPIVOTDATA(\" aborhos\",$A$74))","v":0},{"$f":"SUM(GETPIVOTDATA(\" aborperif\",$A$74))","v":0}]
["Def.Materna",null,{"$f":"SUM(GETPIVOTDATA(\" defmathos\",$A$74))","v":0},{"$f":"SUM(GETPIVOTDATA(\" defmatperif\",$A$74))","v":0},null,null,null,null,null,null,null,null,null,2007,22,378,{"$f":"P94/O94*100","v":1718.1818181818182}]
["80:Pac Egres",null,{"$f":"SUM(C96:C97)","v":0},{"$f":"SUM(D96:D97)","v":0},null,null,null,null,null,null,null,null,null,2008,102,378,{"$f":"P95/O95*100","v":370.58823529411768}]
["81 Vivos",null,{"$f":"SUM(GETPIVOTDATA(\" egvivhos\",$A$74))","v":0},{"$f":"SUM(GETPIVOTDATA(\" egvivperif\",$A$74))","v":0},null,null,null,null,null,null,null,null,null,2009,83,378,{"$f":"P96/O96*100","v":455.42168674698792}]
["82 fallecidos",null,{"$f":"SUM(C98:C100)","v":0},{"$f":"SUM(D98:D100)","v":0},null,null,null,null,null,null,null,null,{"$f":"83/378*100","v":21.957671957671955}]
[null,"83 <24 hrs",{"$f":"SUM(GETPIVOTDATA(\" egf_m24hos\",$A$74))","v":0},{"$f":"SUM(GETPIVOTDATA(\" egf_m24perif\",$A$74))","v":0}]
[null,"84 24-48 hrs",{"$f":"SUM(GETPIVOTDATA(\" egf24_48hos\",$A$74))","v":0},{"$f":"SUM(GETPIVOTDATA(\" egf24_48perif\",$A$74))","v":0}]
[null,"85    >48 hrs",{"$f":"SUM(GETPIVOTDATA(\" egfmas48hos\",$A$74))","v":0},{"$f":"SUM(GETPIVOTDATA(\" egfmas48perif\",$A$74))","v":0}]
[]
["VII Intervenciones Quirurgicas"]
["Descripcion",null,"Hospital","Periferie"]
["00 Total",null,{"$f":"SUM(C105:C112,C113,C118)","v":0},{"$f":"SUM(D105:D112,D113,D118)","v":0}]
[11,"Cirugía General",{"$f":"SUM(GETPIVOTDATA(\" iqcghos\",$A$74))","v":0},{"$f":"SUM(GETPIVOTDATA(\" iqcgperif\",$A$74))","v":0}]
[12,"Traum. y Ortopedia",{"$f":"SUM(GETPIVOTDATA(\" iqtraumhos\",$A$74))","v":0},{"$f":"SUM(GETPIVOTDATA(\" iqtraumperif\",$A$74))","v":0}]
[13,"Otorrinolaringología",{"$f":"SUM(GETPIVOTDATA(\" iqotorrihos\",$A$74))","v":0},{"$f":"SUM(GETPIVOTDATA(\" iqotorriperif\",$A$74))","v":0}]
[14,"Oftalmología",{"$f":"SUM(GETPIVOTDATA(\" iqoftalhosp\",$A$74))","v":0},{"$f":"SUM(GETPIVOTDATA(\" iqoftalperif\",$A$74))","v":0}]
[15,"Urología",{"$f":"SUM(GETPIVOTDATA(\" iqurolhos\",$A$74))","v":0},{"$f":"SUM(GETPIVOTDATA(\" iqurolperif\",$A$74))","v":0}]
[16,"Oncologia",{"$f":"SUM(GETPIVOTDATA(\" iqoncohos\",$A$74))","v":0},{"$f":"SUM(GETPIVOTDATA(\" iqoncoperif\",$A$74))","v":0}]
[17,"Cirugía Plástica",{"$f":"SUM(GETPIVOTDATA(\" iqcirplazhos\",$A$74))","v":0},{"$f":"SUM(GETPIVOTDATA(\" iqcirplazperif\",$A$74))","v":0}]
[18,"Neurocirugía",{"$f":"SUM(GETPIVOTDATA(\" iqneurohos\",$A$74))","v":0},{"$f":"SUM(GETPIVOTDATA(\" iqneuroperif\",$A$74))","v":0}]
[19,"Ginec. y Obstetricia",{"$f":"SUM(C114:C117)","v":0},{"$f":"SUM(D114:D117)","v":0}]
[null,"Cesáreas",{"$f":"SUM(GETPIVOTDATA(\" iqcesarehos\",$A$74))","v":0},{"$f":"SUM(GETPIVOTDATA(\" iqcesareperif\",$A$74))","v":0}]
[null,"Legrados Uterinos",{"$f":"SUM(GETPIVOTDATA(\" iqlegrahos\",$A$74))","v":0},{"$f":"SUM(GETPIVOTDATA(\" iqlegraperif\",$A$74))","v":0}]
[null,"AQVF",{"$f":"SUM(GETPIVOTDATA(\" iqaqvfhos\",$A$74))","v":0},{"$f":"SUM(GETPIVOTDATA(\" iqaqvfperif\",$A$74))","v":0}]
[null,"AQVM",{"$f":"SUM(GETPIVOTDATA(\" iqavmhos\",$A$74))","v":0},{"$f":"SUM(GETPIVOTDATA(\" iqavmperif\",$A$74))","v":0}]
[20,"Otros:",{"$f":"SUM(GETPIVOTDATA(\" iqotroshos\",$A$74))","v":0},{"$f":"SUM(GETPIVOTDATA(\" iqotrosperif\",$A$74))","v":0}]
[]
[]
[]
[]
[null,null,null,null,null,null,null,null,null,null,null,null,null,null,null,null,"sobre 6 por sem"]